View In:
ArcGIS JavaScript
ArcGIS Online Map Viewer
ArcGIS Earth
ArcMap
View Footprint In:
ArcGIS Online Map Viewer
Service Description: Raster/ELEV_DEM_2018
Name: Raster/ELEV_DEM_2018
Description:
Single Fused Map Cache: false
Extent:
XMin: 6375000.983490735
YMin: 1817299.7794701715
XMax: 6546276.887657402
YMax: 2077666.7128035044
Spatial Reference: 102642
(2226)
Initial Extent:
XMin: 6375000.983490735
YMin: 1817299.7794701715
XMax: 6546276.887657402
YMax: 2077666.7128035044
Spatial Reference: 102642
(2226)
Full Extent:
XMin: 6375000.983490735
YMin: 1817299.7794701715
XMax: 6546276.887657402
YMax: 2077666.7128035044
Spatial Reference: 102642
(2226)
Pixel Size X: 3.280833333333336
Pixel Size Y: 3.2808333333333275
Band Count: 1
Pixel Type: F32
RasterFunction Infos: {"rasterFunctionInfos": [{
"name": "None",
"description": "",
"help": ""
}]}
Mensuration Capabilities: Basic
Has Histograms: true
Has Colormap: false
Has Multi Dimensions : false
Rendering Rule:
Min Scale: 0
Max Scale: 0
Copyright Text:
Service Data Type: esriImageServiceDataTypeGeneric
Min Values: -3.891632318496704
Max Values: 3059.98828125
Mean Values: 848.4019207978504
Standard Deviation Values: 578.6014347385625
Object ID Field:
Fields:
None
Default Mosaic Method: Center
Allowed Mosaic Methods:
SortField:
SortValue: null
Mosaic Operator: First
Default Compression Quality: 75
Default Resampling Method: Bilinear
Max Record Count: null
Max Image Height: 4100
Max Image Width: 15000
Max Download Image Count: null
Max Mosaic Image Count: null
Allow Raster Function: true
Allow Copy: true
Allow Analysis: true
Allow Compute TiePoints: false
Supports Statistics: false
Supports Advanced Queries: false
Use StandardizedQueries: true
Raster Type Infos:
Name: Raster Dataset
Description: Supports all ArcGIS Raster Datasets
Help:
Has Raster Attribute Table: false
Edit Fields Info: null
Ownership Based AccessControl For Rasters: null
Child Resources:
Info
Histograms
Statistics
Key Properties
Legend
Raster Function Infos
Supported Operations:
Export Image
Identify
Measure
Compute Histograms
Compute Statistics Histograms
Get Samples
Compute Class Statistics
Query Boundary
Compute Pixel Location
Validate
Project