{
 "currentVersion": 10.81,
 "serviceDescription": "Raster/ELEV_DEM_2018",
 "name": "Raster/ELEV_DEM_2018",
 "description": "",
 "extent": {
  "xmin": 6375000.983490735,
  "ymin": 1817299.7794701715,
  "xmax": 6546276.887657402,
  "ymax": 2077666.7128035044,
  "spatialReference": {
   "wkid": 102642,
   "latestWkid": 2226
  }
 },
 "initialExtent": {
  "xmin": 6375000.983490735,
  "ymin": 1817299.7794701715,
  "xmax": 6546276.887657402,
  "ymax": 2077666.7128035044,
  "spatialReference": {
   "wkid": 102642,
   "latestWkid": 2226
  }
 },
 "fullExtent": {
  "xmin": 6375000.983490735,
  "ymin": 1817299.7794701715,
  "xmax": 6546276.887657402,
  "ymax": 2077666.7128035044,
  "spatialReference": {
   "wkid": 102642,
   "latestWkid": 2226
  }
 },
 "pixelSizeX": 3.280833333333336,
 "pixelSizeY": 3.2808333333333275,
 "datasetFormat": "SDR",
 "uncompressedSize": 16571955200,
 "blockWidth": 128,
 "blockHeight": 128,
 "compressionType": "LZ77",
 "bandNames": [
  "Band_1"
 ],
 "allowCopy": true,
 "allowAnalysis": true,
 "bandCount": 1,
 "pixelType": "F32",
 "minPixelSize": 0,
 "maxPixelSize": 0,
 "copyrightText": "",
 "serviceDataType": "esriImageServiceDataTypeGeneric",
 "serviceSourceType": "esriImageServiceSourceTypeDataset",
 "minValues": [
  -3.891632318496704
 ],
 "maxValues": [
  3059.98828125
 ],
 "meanValues": [
  848.4019207978504
 ],
 "stdvValues": [
  578.6014347385625
 ],
 "objectIdField": "",
 "fields": [],
 "capabilities": "Image,Metadata,Mensuration",
 "defaultMosaicMethod": "Center",
 "allowedMosaicMethods": "",
 "sortField": "",
 "sortValue": null,
 "sortAscending": true,
 "mosaicOperator": "First",
 "defaultCompressionQuality": 75,
 "defaultResamplingMethod": "Bilinear",
 "maxImageHeight": 4100,
 "maxImageWidth": 15000,
 "allowRasterFunction": true,
 "rasterFunctionInfos": [
  {
   "name": "None",
   "description": "",
   "help": ""
  }
 ],
 "rasterTypeInfos": [
  {
   "name": "Raster Dataset",
   "description": "Supports all ArcGIS Raster Datasets",
   "help": ""
  }
 ],
 "mensurationCapabilities": "Basic",
 "hasHistograms": true,
 "hasColormap": false,
 "hasRasterAttributeTable": false,
 "minScale": 0,
 "maxScale": 0,
 "exportTilesAllowed": false,
 "hasMultidimensions": false,
 "supportsStatistics": false,
 "supportsAdvancedQueries": false,
 "editFieldsInfo": null,
 "ownershipBasedAccessControlForRasters": null,
 "allowComputeTiePoints": false,
 "useStandardizedQueries": true,
 "advancedQueryCapabilities": {
  "useStandardizedQueries": true,
  "supportsStatistics": false,
  "supportsOrderBy": false,
  "supportsDistinct": false,
  "supportsPagination": false
 },
 "spatialReference": {
  "wkid": 102642,
  "latestWkid": 2226
 }
}
