View In:
ArcGIS JavaScript
ArcGIS Online Map Viewer
ArcGIS Earth
ArcMap
View Footprint In:
ArcGIS Online Map Viewer
Service Description: A dataset representing the percent of precipitation contributing to recharge was developed for Napa County using output from the U.S. Geological Survey’s Basin Characterization Model ( USGS BCM)(Flint et al., 2021). The BCM is a grid-based, regional water balance software package developed and maintained by the USGS and is widely applied throughout California as a foundational tool for water resource planning, climate change vulnerability assessments, and sustainable groundwater management. The model simulates physical processes in performing water-balance calculations across a high-resolution rectangular grid system with a square cell size of approximately 270 meters by 270 meters. While the published version of BCM utilizes input datasets for underlying geology derived from generalized regional geologic mapping data, to improve the representation of geologic conditions in the model, inputs relating to the underlying geology in the BCM were updated using local geologic data consistent with the surficial geology used in the California Department of Water Resources approved 2022 Napa Valley Subbasin Groundwater Sustainability Plan (GSP). Simulated annual recharge output on a cell-by-cell basis from the adjusted BCM for a 10-year period spanning water years (WY) 2012 through 2021, were used to calculate the average percentage of annual precipitation that contributes to groundwater recharge.
Name: Precipitation_Percent_Recharge
Description: A dataset representing the percent of precipitation contributing to recharge was developed for Napa County using output from the U.S. Geological Survey’s Basin Characterization Model ( USGS BCM)(Flint et al., 2021). The BCM is a grid-based, regional water balance software package developed and maintained by the USGS and is widely applied throughout California as a foundational tool for water resource planning, climate change vulnerability assessments, and sustainable groundwater management. The model simulates physical processes in performing water-balance calculations across a high-resolution rectangular grid system with a square cell size of approximately 270 meters by 270 meters. While the published version of BCM utilizes input datasets for underlying geology derived from generalized regional geologic mapping data, to improve the representation of geologic conditions in the model, inputs relating to the underlying geology in the BCM were updated using local geologic data consistent with the surficial geology used in the California Department of Water Resources approved 2022 Napa Valley Subbasin Groundwater Sustainability Plan (GSP). Simulated annual recharge output on a cell-by-cell basis from the adjusted BCM for a 10-year period spanning water years (WY) 2012 through 2021, were used to calculate the average percentage of annual precipitation that contributes to groundwater recharge.
Single Fused Map Cache: false
Extent:
XMin: -230315.84375
YMin: 17536.6875
XMax: -180095.84375
YMax: 96916.6875
Spatial Reference: 3310
(3310)
Initial Extent:
XMin: -230315.84375
YMin: 17536.6875
XMax: -180095.84375
YMax: 96916.6875
Spatial Reference: 3310
(3310)
Full Extent:
XMin: -230315.84375
YMin: 17536.6875
XMax: -180095.84375
YMax: 96916.6875
Spatial Reference: 3310
(3310)
Pixel Size X: 270.0
Pixel Size Y: 270.0
Band Count: 1
Pixel Type: F32
RasterFunction Infos: {"rasterFunctionInfos": [{
"name": "None",
"description": "",
"help": ""
}]}
Mensuration Capabilities: Basic
Has Histograms: true
Has Colormap: false
Has Multi Dimensions : false
Rendering Rule:
Min Scale: 0
Max Scale: 0
Copyright Text: LSCE, 2026;California Department of Water Resources; U.S.G.S
Service Data Type: esriImageServiceDataTypeGeneric
Min Values: 0
Max Values: 0.5774937272071838
Mean Values: 0.08230343531122565
Standard Deviation Values: 0.08439750757407366
Object ID Field:
Fields:
None
Default Mosaic Method: Center
Allowed Mosaic Methods:
SortField:
SortValue: null
Mosaic Operator: First
Default Compression Quality: 75
Default Resampling Method: Bilinear
Max Record Count: null
Max Image Height: 4100
Max Image Width: 15000
Max Download Image Count: null
Max Mosaic Image Count: null
Allow Raster Function: true
Allow Copy: true
Allow Analysis: true
Allow Compute TiePoints: false
Supports Statistics: false
Supports Advanced Queries: false
Use StandardizedQueries: true
Raster Type Infos:
Name: Raster Dataset
Description: Supports all ArcGIS Raster Datasets
Help:
Has Raster Attribute Table: false
Edit Fields Info: null
Ownership Based AccessControl For Rasters: null
Child Resources:
Info
Histograms
Statistics
Key Properties
Legend
Raster Function Infos
Supported Operations:
Export Image
Identify
Measure
Compute Histograms
Compute Statistics Histograms
Get Samples
Compute Class Statistics
Query Boundary
Compute Pixel Location
Validate
Project