{ "currentVersion": 10.81, "serviceDescription": "
A dataset representing the percent of precipitation contributing to recharge was developed for Napa County using output from the U.S. Geological Survey\u2019s Basin Characterization Model ( USGS BCM)(Flint et al., 2021). The BCM is a grid-based, regional water balance software package developed and maintained by the USGS and is widely applied throughout California as a foundational tool for water resource planning, climate change vulnerability assessments, and sustainable groundwater management. The model simulates physical processes in performing water-balance calculations across a high-resolution rectangular grid system with a square cell size of approximately 270 meters by 270 meters. While the published version of BCM utilizes input datasets for underlying geology derived from generalized regional geologic mapping data, to improve the representation of geologic conditions in the model, inputs relating to the underlying geology in the BCM were updated using local geologic data consistent with the surficial geology used in the California Department of Water Resources approved 2022 Napa Valley Subbasin Groundwater Sustainability Plan (GSP). Simulated annual recharge output on a cell-by-cell basis from the adjusted BCM for a 10-year period spanning water years (WY) 2012 through 2021, were used to calculate the average percentage of annual precipitation that contributes to groundwater recharge.<\/SPAN><\/SPAN><\/P><\/DIV><\/DIV><\/DIV>",
"name": "Precipitation_Percent_Recharge",
"description": " A dataset representing the percent of precipitation contributing to recharge was developed for Napa County using output from the U.S. Geological Survey\u2019s Basin Characterization Model ( USGS BCM)(Flint et al., 2021). The BCM is a grid-based, regional water balance software package developed and maintained by the USGS and is widely applied throughout California as a foundational tool for water resource planning, climate change vulnerability assessments, and sustainable groundwater management. The model simulates physical processes in performing water-balance calculations across a high-resolution rectangular grid system with a square cell size of approximately 270 meters by 270 meters. While the published version of BCM utilizes input datasets for underlying geology derived from generalized regional geologic mapping data, to improve the representation of geologic conditions in the model, inputs relating to the underlying geology in the BCM were updated using local geologic data consistent with the surficial geology used in the California Department of Water Resources approved 2022 Napa Valley Subbasin Groundwater Sustainability Plan (GSP). Simulated annual recharge output on a cell-by-cell basis from the adjusted BCM for a 10-year period spanning water years (WY) 2012 through 2021, were used to calculate the average percentage of annual precipitation that contributes to groundwater recharge.<\/SPAN><\/SPAN><\/P><\/DIV><\/DIV><\/DIV>",
"extent": {
"xmin": -230315.84375,
"ymin": 17536.6875,
"xmax": -180095.84375,
"ymax": 96916.6875,
"spatialReference": {
"wkid": 3310,
"latestWkid": 3310
}
},
"initialExtent": {
"xmin": -230315.84375,
"ymin": 17536.6875,
"xmax": -180095.84375,
"ymax": 96916.6875,
"spatialReference": {
"wkid": 3310,
"latestWkid": 3310
}
},
"fullExtent": {
"xmin": -230315.84375,
"ymin": 17536.6875,
"xmax": -180095.84375,
"ymax": 96916.6875,
"spatialReference": {
"wkid": 3310,
"latestWkid": 3310
}
},
"pixelSizeX": 270,
"pixelSizeY": 270,
"datasetFormat": "SDR",
"uncompressedSize": 218736,
"blockWidth": 128,
"blockHeight": 128,
"compressionType": "LZ77",
"bandNames": [
"Band_1"
],
"allowCopy": true,
"allowAnalysis": true,
"bandCount": 1,
"pixelType": "F32",
"minPixelSize": 0,
"maxPixelSize": 0,
"copyrightText": "LSCE, 2026;California Department of Water Resources; U.S.G.S",
"serviceDataType": "esriImageServiceDataTypeGeneric",
"serviceSourceType": "esriImageServiceSourceTypeDataset",
"minValues": [
0
],
"maxValues": [
0.5774937272071838
],
"meanValues": [
0.08230343531122565
],
"stdvValues": [
0.08439750757407366
],
"objectIdField": "",
"fields": [],
"capabilities": "Image,Metadata,Mensuration",
"defaultMosaicMethod": "Center",
"allowedMosaicMethods": "",
"sortField": "",
"sortValue": null,
"sortAscending": true,
"mosaicOperator": "First",
"defaultCompressionQuality": 75,
"defaultResamplingMethod": "Bilinear",
"maxImageHeight": 4100,
"maxImageWidth": 15000,
"allowRasterFunction": true,
"rasterFunctionInfos": [
{
"name": "None",
"description": "",
"help": ""
}
],
"rasterTypeInfos": [
{
"name": "Raster Dataset",
"description": "Supports all ArcGIS Raster Datasets",
"help": ""
}
],
"mensurationCapabilities": "Basic",
"hasHistograms": true,
"hasColormap": false,
"hasRasterAttributeTable": false,
"minScale": 0,
"maxScale": 0,
"exportTilesAllowed": false,
"hasMultidimensions": false,
"supportsStatistics": false,
"supportsAdvancedQueries": false,
"editFieldsInfo": null,
"ownershipBasedAccessControlForRasters": null,
"allowComputeTiePoints": false,
"useStandardizedQueries": true,
"advancedQueryCapabilities": {
"useStandardizedQueries": true,
"supportsStatistics": false,
"supportsOrderBy": false,
"supportsDistinct": false,
"supportsPagination": false
},
"spatialReference": {
"wkid": 3310,
"latestWkid": 3310
}
}