View In:
ArcGIS JavaScript
ArcGIS Online Map Viewer
ArcGIS Earth
ArcMap
View Footprint In:
ArcGIS Online Map Viewer
Service Description: Project Area
This imagery encompasses approximately 82 square miles of 3-inch and 842 square miles of 6-inch Orthoimagery and Oblique imagery within Napa County, California.
Projection
State Plane Coordinate System 1983 California Zone 2 North American Datum 1983 (2011) NAVD88 US Survey Feet
Capture Window
Imagery was obtained between the dates of April 30th – May 12th, 2021
Name: OrthoImagery/NapaCountyOrthos2021
Description: Project Area
This imagery encompasses approximately 82 square miles of 3-inch and 842 square miles of 6-inch Orthoimagery and Oblique imagery within Napa County, California.
Projection
State Plane Coordinate System 1983 California Zone 2 North American Datum 1983 (2011) NAVD88 US Survey Feet
Capture Window
Imagery was obtained between the dates of April 30th – May 12th, 2021
Single Fused Map Cache: false
Extent:
XMin: -1.36542474099762E7
YMin: 4598993.105071515
XMax: -1.358606595399436E7
YMax: 4703407.354651222
Spatial Reference: 102100
(3857)
Initial Extent:
XMin: -1.36542474099762E7
YMin: 4598993.105071515
XMax: -1.358606595399436E7
YMax: 4703407.354651222
Spatial Reference: 102100
(3857)
Full Extent:
XMin: -1.36542474099762E7
YMin: 4598993.105071515
XMax: -1.358606595399436E7
YMax: 4703407.354651222
Spatial Reference: 102100
(3857)
Pixel Size X: 0.07464553541190411
Pixel Size Y: 0.07464553541190432
Band Count: 3
Pixel Type: U8
RasterFunction Infos: {"rasterFunctionInfos": [{
"name": "None",
"description": "",
"help": ""
}]}
Mensuration Capabilities: Basic
Has Histograms: false
Has Colormap: false
Has Multi Dimensions : false
Rendering Rule:
Min Scale: 577790.554289
Max Scale: 8.954822
Copyright Text: EagleView, Napa County
Service Data Type: esriImageServiceDataTypeRGB
Min Values: N/A
Max Values: N/A
Mean Values: N/A
Standard Deviation Values: N/A
Object ID Field:
Fields:
None
Default Mosaic Method: Center
Allowed Mosaic Methods:
SortField:
SortValue: null
Mosaic Operator: First
Default Compression Quality: 75
Default Resampling Method: Bilinear
Max Record Count: null
Max Image Height: 4100
Max Image Width: 15000
Max Download Image Count: null
Max Mosaic Image Count: null
Allow Raster Function: true
Allow Copy: true
Allow Analysis: true
Allow Compute TiePoints: false
Supports Statistics: false
Supports Advanced Queries: false
Use StandardizedQueries: true
Raster Type Infos:
Name: Raster Dataset
Description: Supports all ArcGIS Raster Datasets
Help:
Has Raster Attribute Table: false
Edit Fields Info: null
Ownership Based AccessControl For Rasters: null
Child Resources:
Info
Statistics
Key Properties
Legend
Raster Function Infos
Supported Operations:
Export Image
Identify
Measure
Compute Histograms
Compute Statistics Histograms
Get Samples
Compute Class Statistics
Query Boundary
Compute Pixel Location
Validate
Project