{ "currentVersion": 10.81, "serviceDescription": "
Project Area <\/span><\/p> This imagery encompasses approximately 82 square miles of 3-inch and 842 square miles of 6-inch Orthoimagery and Oblique imagery within Napa County, California. <\/span><\/p> Projection <\/span><\/p> State Plane Coordinate System 1983 California Zone 2 North American Datum 1983 (2011) NAVD88 US Survey Feet <\/span><\/p> Capture Window<\/span><\/p> Imagery was obtained between the dates of April 30th \u2013 May 12th, 2021<\/span><\/p><\/div><\/div>",
 "name": "OrthoImagery/NapaCountyOrthos2021",
 "description": " Project Area <\/span><\/p> This imagery encompasses approximately 82 square miles of 3-inch and 842 square miles of 6-inch Orthoimagery and Oblique imagery within Napa County, California. <\/span><\/p> Projection <\/span><\/p> State Plane Coordinate System 1983 California Zone 2 North American Datum 1983 (2011) NAVD88 US Survey Feet <\/span><\/p> Capture Window<\/span><\/p> Imagery was obtained between the dates of April 30th \u2013 May 12th, 2021<\/span><\/p><\/div><\/div>",
 "extent": {
  "xmin": -1.36542474099762E7,
  "ymin": 4598993.105071515,
  "xmax": -1.358606595399436E7,
  "ymax": 4703407.354651222,
  "spatialReference": {
   "wkid": 102100,
   "latestWkid": 3857
  }
 },
 "initialExtent": {
  "xmin": -1.36542474099762E7,
  "ymin": 4598993.105071515,
  "xmax": -1.358606595399436E7,
  "ymax": 4703407.354651222,
  "spatialReference": {
   "wkid": 102100,
   "latestWkid": 3857
  }
 },
 "fullExtent": {
  "xmin": -1.36542474099762E7,
  "ymin": 4598993.105071515,
  "xmax": -1.358606595399436E7,
  "ymax": 4703407.354651222,
  "spatialReference": {
   "wkid": 102100,
   "latestWkid": 3857
  }
 },
 "pixelSizeX": 0.07464553541190411,
 "pixelSizeY": 0.07464553541190432,
 "datasetFormat": "AFR",
 "uncompressedSize": 3833007089409,
 "blockWidth": 256,
 "blockHeight": 256,
 "compressionType": "None",
 "bandNames": [
  "Band_1",
  "Band_2",
  "Band_3"
 ],
 "allowCopy": true,
 "allowAnalysis": true,
 "bandCount": 3,
 "pixelType": "U8",
 "minPixelSize": 0,
 "maxPixelSize": 0,
 "copyrightText": "EagleView, Napa County",
 "serviceDataType": "esriImageServiceDataTypeRGB",
 "serviceSourceType": "esriImageServiceSourceTypeDataset",
 "minValues": [],
 "maxValues": [],
 "meanValues": [],
 "stdvValues": [],
 "objectIdField": "",
 "fields": [],
 "capabilities": "Mensuration,Image,Metadata",
 "defaultMosaicMethod": "Center",
 "allowedMosaicMethods": "",
 "sortField": "",
 "sortValue": null,
 "sortAscending": true,
 "mosaicOperator": "First",
 "defaultCompressionQuality": 75,
 "defaultResamplingMethod": "Bilinear",
 "maxImageHeight": 4100,
 "maxImageWidth": 15000,
 "allowRasterFunction": true,
 "rasterFunctionInfos": [
  {
   "name": "None",
   "description": "",
   "help": ""
  }
 ],
 "rasterTypeInfos": [
  {
   "name": "Raster Dataset",
   "description": "Supports all ArcGIS Raster Datasets",
   "help": ""
  }
 ],
 "mensurationCapabilities": "Basic",
 "hasHistograms": false,
 "hasColormap": false,
 "hasRasterAttributeTable": false,
 "minScale": 577790.554289,
 "maxScale": 8.954822,
 "exportTilesAllowed": false,
 "hasMultidimensions": false,
 "supportsStatistics": false,
 "supportsAdvancedQueries": false,
 "editFieldsInfo": null,
 "ownershipBasedAccessControlForRasters": null,
 "allowComputeTiePoints": false,
 "useStandardizedQueries": true,
 "advancedQueryCapabilities": {
  "useStandardizedQueries": true,
  "supportsStatistics": false,
  "supportsOrderBy": false,
  "supportsDistinct": false,
  "supportsPagination": false
 },
 "spatialReference": {
  "wkid": 102100,
  "latestWkid": 3857
 }
}