View In:
ArcGIS JavaScript
ArcGIS Online Map Viewer
ArcGIS Earth
ArcMap
View Footprint In:
ArcGIS Online Map Viewer
Service Description: OrthoImagery/NapaCountyOrthos2014
Name: OrthoImagery/NapaCountyOrthos2014
Description:
Single Fused Map Cache: false
Extent:
XMin: 6376619.40192613
YMin: 1817807.0080519181
XMax: 6544303.60057853
YMax: 2077078.0097401142
Spatial Reference: 103004
(6418)
Initial Extent:
XMin: 6376619.40192613
YMin: 1817807.0080519181
XMax: 6544303.60057853
YMax: 2077078.0097401142
Spatial Reference: 103004
(6418)
Full Extent:
XMin: 6376619.40192613
YMin: 1817807.0080519181
XMax: 6544303.60057853
YMax: 2077078.0097401142
Spatial Reference: 103004
(6418)
Pixel Size X: 0.24489956076388947
Pixel Size Y: 0.2448995607638888
Band Count: 3
Pixel Type: U8
RasterFunction Infos: {"rasterFunctionInfos": [{
"name": "None",
"description": "",
"help": ""
}]}
Mensuration Capabilities: Basic
Has Histograms: false
Has Colormap: false
Has Multi Dimensions : false
Rendering Rule:
Min Scale: 0
Max Scale: 0
Copyright Text:
Service Data Type: esriImageServiceDataTypeRGB
Min Values: N/A
Max Values: N/A
Mean Values: N/A
Standard Deviation Values: N/A
Object ID Field:
Fields:
None
Default Mosaic Method: Center
Allowed Mosaic Methods:
SortField:
SortValue: null
Mosaic Operator: First
Default Compression Quality: 75
Default Resampling Method: Bilinear
Max Record Count: null
Max Image Height: 4100
Max Image Width: 15000
Max Download Image Count: null
Max Mosaic Image Count: null
Allow Raster Function: true
Allow Copy: true
Allow Analysis: true
Allow Compute TiePoints: false
Supports Statistics: false
Supports Advanced Queries: false
Use StandardizedQueries: true
Raster Type Infos:
Name: Raster Dataset
Description: Supports all ArcGIS Raster Datasets
Help:
Has Raster Attribute Table: false
Edit Fields Info: null
Ownership Based AccessControl For Rasters: null
Child Resources:
Info
Statistics
Key Properties
Legend
Raster Function Infos
Supported Operations:
Export Image
Identify
Measure
Compute Histograms
Compute Statistics Histograms
Get Samples
Compute Class Statistics
Query Boundary
Compute Pixel Location
Validate
Project