{
 "currentVersion": 10.81,
 "serviceDescription": "OrthoImagery/NapaCountyOrthos2014",
 "name": "OrthoImagery/NapaCountyOrthos2014",
 "description": "",
 "extent": {
  "xmin": 6376619.40192613,
  "ymin": 1817807.0080519181,
  "xmax": 6544303.60057853,
  "ymax": 2077078.0097401142,
  "spatialReference": {
   "wkid": 103004,
   "latestWkid": 6418
  }
 },
 "initialExtent": {
  "xmin": 6376619.40192613,
  "ymin": 1817807.0080519181,
  "xmax": 6544303.60057853,
  "ymax": 2077078.0097401142,
  "spatialReference": {
   "wkid": 103004,
   "latestWkid": 6418
  }
 },
 "fullExtent": {
  "xmin": 6376619.40192613,
  "ymin": 1817807.0080519181,
  "xmax": 6544303.60057853,
  "ymax": 2077078.0097401142,
  "spatialReference": {
   "wkid": 103004,
   "latestWkid": 6418
  }
 },
 "pixelSizeX": 0.24489956076388947,
 "pixelSizeY": 0.2448995607638888,
 "datasetFormat": "AFR",
 "uncompressedSize": 2174659806594,
 "blockWidth": 256,
 "blockHeight": 256,
 "compressionType": "None",
 "bandNames": [
  "Band_1",
  "Band_2",
  "Band_3"
 ],
 "allowCopy": true,
 "allowAnalysis": true,
 "bandCount": 3,
 "pixelType": "U8",
 "minPixelSize": 0,
 "maxPixelSize": 0,
 "copyrightText": "",
 "serviceDataType": "esriImageServiceDataTypeRGB",
 "serviceSourceType": "esriImageServiceSourceTypeDataset",
 "minValues": [],
 "maxValues": [],
 "meanValues": [],
 "stdvValues": [],
 "objectIdField": "",
 "fields": [],
 "capabilities": "Mensuration,Image,Metadata",
 "defaultMosaicMethod": "Center",
 "allowedMosaicMethods": "",
 "sortField": "",
 "sortValue": null,
 "sortAscending": true,
 "mosaicOperator": "First",
 "defaultCompressionQuality": 75,
 "defaultResamplingMethod": "Bilinear",
 "maxImageHeight": 4100,
 "maxImageWidth": 15000,
 "allowRasterFunction": true,
 "rasterFunctionInfos": [
  {
   "name": "None",
   "description": "",
   "help": ""
  }
 ],
 "rasterTypeInfos": [
  {
   "name": "Raster Dataset",
   "description": "Supports all ArcGIS Raster Datasets",
   "help": ""
  }
 ],
 "mensurationCapabilities": "Basic",
 "hasHistograms": false,
 "hasColormap": false,
 "hasRasterAttributeTable": false,
 "minScale": 0,
 "maxScale": 0,
 "exportTilesAllowed": false,
 "hasMultidimensions": false,
 "supportsStatistics": false,
 "supportsAdvancedQueries": false,
 "editFieldsInfo": null,
 "ownershipBasedAccessControlForRasters": null,
 "allowComputeTiePoints": false,
 "useStandardizedQueries": true,
 "advancedQueryCapabilities": {
  "useStandardizedQueries": true,
  "supportsStatistics": false,
  "supportsOrderBy": false,
  "supportsDistinct": false,
  "supportsPagination": false
 },
 "spatialReference": {
  "wkid": 103004,
  "latestWkid": 6418
 }
}
