View In:
ArcGIS JavaScript
ArcGIS Online Map Viewer
ArcGIS Earth
ArcMap
View Footprint In:
ArcGIS Online Map Viewer
Service Description: This layer is a mosaic of all all 7.5-minute USGS quadrangles covering Napa County at a scale of 1:24,000. Each of the quads were downloaded and mosaiced into a single image in ArcGIS Pro. Quad source: https://ngmdb.usgs.gov/topoview/
Date: Dates vary by quad, but the latest version of each quad available in Sep 2023 was downloaded. All appeared to have an update year of 2021.
Name: OrthoImagery/DRG_CNTY
Description: This layer is a mosaic of all all 7.5-minute USGS quadrangles covering Napa County at a scale of 1:24,000. Each of the quads were downloaded and mosaiced into a single image in ArcGIS Pro. Quad source: https://ngmdb.usgs.gov/topoview/
Date: Dates vary by quad, but the latest version of each quad available in Sep 2023 was downloaded. All appeared to have an update year of 2021.
Single Fused Map Cache: false
Extent:
XMin: -1.366490660581918E7
YMin: 4596764.4319821065
XMax: -1.3580977050601805E7
YMax: 4703937.44992095
Spatial Reference: 102100
(3857)
Initial Extent:
XMin: -1.366490660581918E7
YMin: 4596764.4319821065
XMax: -1.3580977050601805E7
YMax: 4703937.44992095
Spatial Reference: 102100
(3857)
Full Extent:
XMin: -1.366490660581918E7
YMin: 4596764.4319821065
XMax: -1.3580977050601805E7
YMax: 4703937.44992095
Spatial Reference: 102100
(3857)
Pixel Size X: 0.01866138385297606
Pixel Size Y: 0.018661383852976034
Band Count: 3
Pixel Type: U8
RasterFunction Infos: {"rasterFunctionInfos": [{
"name": "None",
"description": "",
"help": ""
}]}
Mensuration Capabilities: Basic
Has Histograms: false
Has Colormap: false
Has Multi Dimensions : false
Rendering Rule:
Min Scale: 577790.554289
Max Scale: 8.954822
Copyright Text: Shane Clement, Napa County PBES Dept.
Service Data Type: esriImageServiceDataTypeRGB
Min Values: N/A
Max Values: N/A
Mean Values: N/A
Standard Deviation Values: N/A
Object ID Field:
Fields:
None
Default Mosaic Method: Center
Allowed Mosaic Methods:
SortField:
SortValue: null
Mosaic Operator: First
Default Compression Quality: 75
Default Resampling Method: Bilinear
Max Record Count: null
Max Image Height: 4100
Max Image Width: 15000
Max Download Image Count: null
Max Mosaic Image Count: null
Allow Raster Function: true
Allow Copy: true
Allow Analysis: true
Allow Compute TiePoints: false
Supports Statistics: false
Supports Advanced Queries: false
Use StandardizedQueries: true
Raster Type Infos:
Name: Raster Dataset
Description: Supports all ArcGIS Raster Datasets
Help:
Has Raster Attribute Table: false
Edit Fields Info: null
Ownership Based AccessControl For Rasters: null
Child Resources:
Info
Statistics
Key Properties
Legend
Raster Function Infos
Supported Operations:
Export Image
Identify
Measure
Compute Histograms
Compute Statistics Histograms
Get Samples
Compute Class Statistics
Query Boundary
Compute Pixel Location
Validate
Project