{
 "currentVersion": 10.81,
 "serviceDescription": "This layer is a mosaic of all all 7.5-minute USGS quadrangles covering Napa County at a scale of 1:24,000. Each of the quads were downloaded and mosaiced into a single image in ArcGIS Pro. \n\nQuad source: https://ngmdb.usgs.gov/topoview/\n\nDate: Dates vary by quad, but the latest version of each quad available in Sep 2023 was downloaded. All appeared to have an update year of 2021.",
 "name": "OrthoImagery/DRG_CNTY",
 "description": "This layer is a mosaic of all all 7.5-minute USGS quadrangles covering Napa County at a scale of 1:24,000. Each of the quads were downloaded and mosaiced into a single image in ArcGIS Pro. \n\nQuad source: https://ngmdb.usgs.gov/topoview/\n\nDate: Dates vary by quad, but the latest version of each quad available in Sep 2023 was downloaded. All appeared to have an update year of 2021.",
 "extent": {
  "xmin": -1.366490660581918E7,
  "ymin": 4596764.4319821065,
  "xmax": -1.3580977050601805E7,
  "ymax": 4703937.44992095,
  "spatialReference": {
   "wkid": 102100,
   "latestWkid": 3857
  }
 },
 "initialExtent": {
  "xmin": -1.366490660581918E7,
  "ymin": 4596764.4319821065,
  "xmax": -1.3580977050601805E7,
  "ymax": 4703937.44992095,
  "spatialReference": {
   "wkid": 102100,
   "latestWkid": 3857
  }
 },
 "fullExtent": {
  "xmin": -1.366490660581918E7,
  "ymin": 4596764.4319821065,
  "xmax": -1.3580977050601805E7,
  "ymax": 4703937.44992095,
  "spatialReference": {
   "wkid": 102100,
   "latestWkid": 3857
  }
 },
 "pixelSizeX": 0.01866138385297606,
 "pixelSizeY": 0.018661383852976034,
 "datasetFormat": "AFR",
 "uncompressedSize": 77487909493389,
 "blockWidth": 256,
 "blockHeight": 256,
 "compressionType": "None",
 "bandNames": [
  "Band_1",
  "Band_2",
  "Band_3"
 ],
 "allowCopy": true,
 "allowAnalysis": true,
 "bandCount": 3,
 "pixelType": "U8",
 "minPixelSize": 0,
 "maxPixelSize": 0,
 "copyrightText": "Shane Clement, Napa County PBES Dept.",
 "serviceDataType": "esriImageServiceDataTypeRGB",
 "serviceSourceType": "esriImageServiceSourceTypeDataset",
 "minValues": [],
 "maxValues": [],
 "meanValues": [],
 "stdvValues": [],
 "objectIdField": "",
 "fields": [],
 "capabilities": "Mensuration,Image,Metadata",
 "defaultMosaicMethod": "Center",
 "allowedMosaicMethods": "",
 "sortField": "",
 "sortValue": null,
 "sortAscending": true,
 "mosaicOperator": "First",
 "defaultCompressionQuality": 75,
 "defaultResamplingMethod": "Bilinear",
 "maxImageHeight": 4100,
 "maxImageWidth": 15000,
 "allowRasterFunction": true,
 "rasterFunctionInfos": [
  {
   "name": "None",
   "description": "",
   "help": ""
  }
 ],
 "rasterTypeInfos": [
  {
   "name": "Raster Dataset",
   "description": "Supports all ArcGIS Raster Datasets",
   "help": ""
  }
 ],
 "mensurationCapabilities": "Basic",
 "hasHistograms": false,
 "hasColormap": false,
 "hasRasterAttributeTable": false,
 "minScale": 577790.554289,
 "maxScale": 8.954822,
 "exportTilesAllowed": false,
 "hasMultidimensions": false,
 "supportsStatistics": false,
 "supportsAdvancedQueries": false,
 "editFieldsInfo": null,
 "ownershipBasedAccessControlForRasters": null,
 "allowComputeTiePoints": false,
 "useStandardizedQueries": true,
 "advancedQueryCapabilities": {
  "useStandardizedQueries": true,
  "supportsStatistics": false,
  "supportsOrderBy": false,
  "supportsDistinct": false,
  "supportsPagination": false
 },
 "spatialReference": {
  "wkid": 102100,
  "latestWkid": 3857
 }
}
