View In:
ArcGIS JavaScript
ArcGIS Online Map Viewer
ArcGIS Earth
ArcMap
View Footprint In:
ArcGIS Online Map Viewer
Service Description: This dataset was downloaded from https://wildlife.ca.gov and published by Napa County PBES GIS Staff.
M2B Riparian Linkage Potential is a science-based identification of critical riparian habitat between the Mayacamas Mountains and the Berryessa Range where long-term connectivity is threatened. This data was created as part of a multi-county climate connectivity assessment by the Mayacamas to Berryessa Landscape Connectivity Network (M2B) -- a public-private collaboration scientists and land managers. M2B integrates partner expertise with spatial modeling to create practical tools to help guide priorities for conservation and land management in Northern California"s Inner Coast Range.
The M2B climate connectivity project directly involved stakeholders in the modeling and evaluation process, which included the following:
- Identification of potential habitat linkages based on terrestrial and riparian connectivity of natural habitats between existing protected areas (this data),
- Quantification of habitat corridor climate benefits based on state-of-the art, high-resolution climate projections,
- Generation of maps comparing the vulnerability of specific sites to environmental concerns (e.g., fire, drought) with their contribution to regional ecosystem integrity, and
- Creation of reports for 6 priority corridors that identify and evaluate specific parcels for connectivity and climate resilience.
The combination of high-resolution landscape permeability and climate datasets provides local decision-makers with flexible science-based tools for exploring, planning, and implementing habitat connectivity pathways. In the M2B region, parcel-scale acquisition and stewardship will be advanced primarily by private land trusts and public open space districts in concert with State and Federal land management agencies. The M2B methods are designed to be scalable and reproducible throughout Californin, and the formation of the M2B network provides a documented model for empowering local agencies and organizations to work effectively, and in a coordinated fashion, to achieve landscape-level conservation objectives.
Name: M2BStudy/Imagery_GIS_Riparian_Linkage_Potential
Description: This dataset was downloaded from https://wildlife.ca.gov and published by Napa County PBES GIS Staff.
M2B Riparian Linkage Potential is a science-based identification of critical riparian habitat between the Mayacamas Mountains and the Berryessa Range where long-term connectivity is threatened. This data was created as part of a multi-county climate connectivity assessment by the Mayacamas to Berryessa Landscape Connectivity Network (M2B) -- a public-private collaboration scientists and land managers. M2B integrates partner expertise with spatial modeling to create practical tools to help guide priorities for conservation and land management in Northern California"s Inner Coast Range.
The M2B climate connectivity project directly involved stakeholders in the modeling and evaluation process, which included the following:
- Identification of potential habitat linkages based on terrestrial and riparian connectivity of natural habitats between existing protected areas (this data),
- Quantification of habitat corridor climate benefits based on state-of-the art, high-resolution climate projections,
- Generation of maps comparing the vulnerability of specific sites to environmental concerns (e.g., fire, drought) with their contribution to regional ecosystem integrity, and
- Creation of reports for 6 priority corridors that identify and evaluate specific parcels for connectivity and climate resilience.
The combination of high-resolution landscape permeability and climate datasets provides local decision-makers with flexible science-based tools for exploring, planning, and implementing habitat connectivity pathways. In the M2B region, parcel-scale acquisition and stewardship will be advanced primarily by private land trusts and public open space districts in concert with State and Federal land management agencies. The M2B methods are designed to be scalable and reproducible throughout Californin, and the formation of the M2B network provides a documented model for empowering local agencies and organizations to work effectively, and in a coordinated fashion, to achieve landscape-level conservation objectives.
Single Fused Map Cache: false
Extent:
XMin: -302973.7043648665
YMin: 8758.769417827949
XMax: -171783.70436486648
YMax: 210718.76941782795
Spatial Reference: 3310
(3310)
Initial Extent:
XMin: -302973.7043648665
YMin: 8758.769417827949
XMax: -171783.70436486648
YMax: 210718.76941782795
Spatial Reference: 3310
(3310)
Full Extent:
XMin: -302973.7043648665
YMin: 8758.769417827949
XMax: -171783.70436486648
YMax: 210718.76941782795
Spatial Reference: 3310
(3310)
Pixel Size X: 30.0
Pixel Size Y: 30.0
Band Count: 1
Pixel Type: F32
RasterFunction Infos: {"rasterFunctionInfos": [{
"name": "None",
"description": "",
"help": ""
}]}
Mensuration Capabilities: Basic
Has Histograms: true
Has Colormap: false
Has Multi Dimensions : false
Rendering Rule:
Min Scale: 0
Max Scale: 0
Copyright Text: The Mayacamas to Berryessa (M2B) Connectivity Network is a project funded by the California Landscape Conservation Partnership to Pepperwood Foundation. Key contributors include Morgan Gray, Adina Merenlender, Lisa Micheli, and the M2B steering committee.
Citation: Gray M., L. Micheli, A.M. Merenlender. 2018. Methodology for building habitat connectivity for climate adaptation: Mayacamas to Berryessa Connectivity Network (M2B). A technical report by the Dwight Center for Conservation Science at Pepperwood, Santa Rosa CA. 51 pp.
Service Data Type: esriImageServiceDataTypeGeneric
Min Values: 0
Max Values: 1
Mean Values: 0.7756381414160415
Standard Deviation Values: 0.3067524441906495
Object ID Field:
Fields:
None
Default Mosaic Method: Center
Allowed Mosaic Methods:
SortField:
SortValue: null
Mosaic Operator: First
Default Compression Quality: 75
Default Resampling Method: Bilinear
Max Record Count: null
Max Image Height: 4100
Max Image Width: 15000
Max Download Image Count: null
Max Mosaic Image Count: null
Allow Raster Function: true
Allow Copy: true
Allow Analysis: true
Allow Compute TiePoints: false
Supports Statistics: false
Supports Advanced Queries: false
Use StandardizedQueries: true
Raster Type Infos:
Name: Raster Dataset
Description: Supports all ArcGIS Raster Datasets
Help:
Has Raster Attribute Table: false
Edit Fields Info: null
Ownership Based AccessControl For Rasters: null
Child Resources:
Info
Histograms
Statistics
Key Properties
Legend
Raster Function Infos
Supported Operations:
Export Image
Identify
Measure
Compute Histograms
Compute Statistics Histograms
Get Samples
Compute Class Statistics
Query Boundary
Compute Pixel Location
Validate
Project