https://wildlife.ca.gov<\/a> and published by Napa County PBES GIS Staff.<\/p>M2B Riparian Linkage Potential is a science-based identification of critical riparian habitat between the Mayacamas Mountains and the Berryessa Range where long-term connectivity is threatened. This data was created as part of a multi-county climate connectivity assessment by the Mayacamas to Berryessa Landscape Connectivity Network (M2B) -- a public-private collaboration scientists and land managers. M2B integrates partner expertise with spatial modeling to create practical tools to help guide priorities for conservation and land management in Northern California\"s Inner Coast Range.<\/span><\/p>The M2B climate connectivity project directly involved stakeholders in the modeling and evaluation process, which included the following:<\/span><\/p>- Identification of potential habitat linkages based on terrestrial and riparian connectivity of natural habitats between existing protected areas (this data),<\/span><\/li>
- Quantification of habitat corridor climate benefits based on state-of-the art, high-resolution climate projections,<\/span><\/li>
- Generation of maps comparing the vulnerability of specific sites to environmental concerns (e.g., fire, drought) with their contribution to regional ecosystem integrity, and<\/span><\/li>
- Creation of reports for 6 priority corridors that identify and evaluate specific parcels for connectivity and climate resilience.<\/span><\/li><\/ol>
The combination of high-resolution landscape permeability and climate datasets provides local decision-makers with flexible science-based tools for exploring, planning, and implementing habitat connectivity pathways. In the M2B region, parcel-scale acquisition and stewardship will be advanced primarily by private land trusts and public open space districts in concert with State and Federal land management agencies. The M2B methods are designed to be scalable and reproducible throughout Californin, and the formation of the M2B network provides a documented model for empowering local agencies and organizations to work effectively, and in a coordinated fashion, to achieve landscape-level conservation objectives.<\/span><\/p><\/div><\/div><\/div>",
"extent": {
"xmin": -302973.7043648665,
"ymin": 8758.769417827949,
"xmax": -171783.70436486648,
"ymax": 210718.76941782795,
"spatialReference": {
"wkid": 3310,
"latestWkid": 3310
}
},
"initialExtent": {
"xmin": -302973.7043648665,
"ymin": 8758.769417827949,
"xmax": -171783.70436486648,
"ymax": 210718.76941782795,
"spatialReference": {
"wkid": 3310,
"latestWkid": 3310
}
},
"fullExtent": {
"xmin": -302973.7043648665,
"ymin": 8758.769417827949,
"xmax": -171783.70436486648,
"ymax": 210718.76941782795,
"spatialReference": {
"wkid": 3310,
"latestWkid": 3310
}
},
"pixelSizeX": 30,
"pixelSizeY": 30,
"datasetFormat": "SDR",
"uncompressedSize": 117756144,
"blockWidth": 128,
"blockHeight": 128,
"compressionType": "LZ77",
"bandNames": [
"Band_1"
],
"allowCopy": true,
"allowAnalysis": true,
"bandCount": 1,
"pixelType": "F32",
"minPixelSize": 0,
"maxPixelSize": 0,
"copyrightText": "The Mayacamas to Berryessa (M2B) Connectivity Network is a project funded by the California Landscape Conservation Partnership to Pepperwood Foundation. Key contributors include Morgan Gray, Adina Merenlender, Lisa Micheli, and the M2B steering committee.\n\nCitation: Gray M., L. Micheli, A.M. Merenlender. 2018. Methodology for building habitat connectivity for climate adaptation: Mayacamas to Berryessa Connectivity Network (M2B). A technical report by the Dwight Center for Conservation Science at Pepperwood, Santa Rosa CA. 51 pp.",
"serviceDataType": "esriImageServiceDataTypeGeneric",
"serviceSourceType": "esriImageServiceSourceTypeDataset",
"minValues": [
0
],
"maxValues": [
1
],
"meanValues": [
0.7756381414160415
],
"stdvValues": [
0.3067524441906495
],
"objectIdField": "",
"fields": [],
"capabilities": "Image,Metadata,Pixels,Mensuration",
"defaultMosaicMethod": "Center",
"allowedMosaicMethods": "",
"sortField": "",
"sortValue": null,
"sortAscending": true,
"mosaicOperator": "First",
"defaultCompressionQuality": 75,
"defaultResamplingMethod": "Bilinear",
"maxImageHeight": 4100,
"maxImageWidth": 15000,
"allowRasterFunction": true,
"rasterFunctionInfos": [
{
"name": "None",
"description": "",
"help": ""
}
],
"rasterTypeInfos": [
{
"name": "Raster Dataset",
"description": "Supports all ArcGIS Raster Datasets",
"help": ""
}
],
"mensurationCapabilities": "Basic",
"hasHistograms": true,
"hasColormap": false,
"hasRasterAttributeTable": false,
"minScale": 0,
"maxScale": 0,
"exportTilesAllowed": false,
"hasMultidimensions": false,
"supportsStatistics": false,
"supportsAdvancedQueries": false,
"editFieldsInfo": null,
"ownershipBasedAccessControlForRasters": null,
"allowComputeTiePoints": false,
"useStandardizedQueries": true,
"advancedQueryCapabilities": {
"useStandardizedQueries": true,
"supportsStatistics": false,
"supportsOrderBy": false,
"supportsDistinct": false,
"supportsPagination": false
},
"spatialReference": {
"wkid": 3310,
"latestWkid": 3310
}
}