View In:
ArcGIS JavaScript
ArcGIS Online Map Viewer
ArcGIS Earth
ArcMap
View Footprint In:
ArcGIS Online Map Viewer
Service Description: The Monitoring Trends in Burn Severity (MTBS) Program assesses the frequency, extent, and magnitude (size and severity) of all large wildland fires (wildfires and prescribed fires) in the conterminous United States (CONUS), Alaska, Hawaii, and Puerto Rico for the period 1984 and beyond. All fires reported as greater than 1,000 acres in the western U.S. and greater than 500 acres in the eastern U.S. are mapped across all ownerships. MTBS produces a series of geospatial and tabular data for analysis at a range of spatial, temporal, and thematic scales and are intended to meet a variety of information needs that require consistent data about fire effects through space and time. This map layer is a thematic raster image of MTBS burn severity classes for all inventoried fires occurring in Napa County during calendar year 2017. Fires omitted from this mapped inventory are those where suitable satellite imagery was not available, or fires were not discernable from available imagery.
Name: Raster/Burn_Severity_MTBS_2017
Description: The Monitoring Trends in Burn Severity (MTBS) Program assesses the frequency, extent, and magnitude (size and severity) of all large wildland fires (wildfires and prescribed fires) in the conterminous United States (CONUS), Alaska, Hawaii, and Puerto Rico for the period 1984 and beyond. All fires reported as greater than 1,000 acres in the western U.S. and greater than 500 acres in the eastern U.S. are mapped across all ownerships. MTBS produces a series of geospatial and tabular data for analysis at a range of spatial, temporal, and thematic scales and are intended to meet a variety of information needs that require consistent data about fire effects through space and time. This map layer is a thematic raster image of MTBS burn severity classes for all inventoried fires occurring in Napa County during calendar year 2017. Fires omitted from this mapped inventory are those where suitable satellite imagery was not available, or fires were not discernable from available imagery.
Single Fused Map Cache: false
Extent:
XMin: 6323770.187548059
YMin: 1764743.9828935848
XMax: 6598572.787548059
YMax: 2121337.7578935847
Spatial Reference: 102642
(2226)
Initial Extent:
XMin: 6323770.187548059
YMin: 1764743.9828935848
XMax: 6598572.787548059
YMax: 2121337.7578935847
Spatial Reference: 102642
(2226)
Full Extent:
XMin: 6323770.187548059
YMin: 1764743.9828935848
XMax: 6598572.787548059
YMax: 2121337.7578935847
Spatial Reference: 102642
(2226)
Pixel Size X: 98.42499999999987
Pixel Size Y: 98.42499999999997
Band Count: 1
Pixel Type: U8
RasterFunction Infos: {"rasterFunctionInfos": [{
"name": "None",
"description": "",
"help": ""
}]}
Mensuration Capabilities: Basic
Has Histograms: true
Has Colormap: true
Has Multi Dimensions : false
Rendering Rule:
Min Scale: 0
Max Scale: 0
Copyright Text: Monitoring Trends in Burn Severity Project (U.S. Geological Survey and USDA Forest Service)
Service Data Type: esriImageServiceDataTypeThematic
Min Values: 1
Max Values: 6
Mean Values: 2.10277273338714
Standard Deviation Values: 1.0261515909555545
Object ID Field:
Fields:
None
Default Mosaic Method: Center
Allowed Mosaic Methods:
SortField:
SortValue: null
Mosaic Operator: First
Default Compression Quality: 75
Default Resampling Method: Bilinear
Max Record Count: null
Max Image Height: 4100
Max Image Width: 15000
Max Download Image Count: null
Max Mosaic Image Count: null
Allow Raster Function: true
Allow Copy: true
Allow Analysis: true
Allow Compute TiePoints: false
Supports Statistics: false
Supports Advanced Queries: false
Use StandardizedQueries: true
Raster Type Infos:
Name: Raster Dataset
Description: Supports all ArcGIS Raster Datasets
Help:
Has Raster Attribute Table: true
Edit Fields Info: null
Ownership Based AccessControl For Rasters: null
Child Resources:
Info
Raster Attribute Table
Histograms
Statistics
Key Properties
Color Map
Legend
Raster Function Infos
Supported Operations:
Export Image
Identify
Measure
Compute Histograms
Compute Statistics Histograms
Get Samples
Compute Class Statistics
Query Boundary
Compute Pixel Location
Validate
Project