View In:
ArcGIS JavaScript
ArcGIS Online Map Viewer
ArcGIS Earth
ArcMap
View Footprint In:
ArcGIS Online Map Viewer
Service Description: Map depicting slope of Napa County. This data is derived from the Digital Terrain Model files produced during the 2002/2003 Orthophotography Project which was resampled for the 2007 Project. Originally these points were created in two scales - the Napa Watershed was 1" = 200ft and the remainder of the County was 1" = 400ft. For the 2007 Project the 400ft scaled points were re-sampled to the 200ft scale. Addionally, updates were made where applicable to any of the data.
Name: OrthoImagery/imagery_GIS_SLOPE_2007
Description: Map depicting slope of Napa County. This data is derived from the Digital Terrain Model files produced during the 2002/2003 Orthophotography Project which was resampled for the 2007 Project. Originally these points were created in two scales - the Napa Watershed was 1" = 200ft and the remainder of the County was 1" = 400ft. For the 2007 Project the 400ft scaled points were re-sampled to the 200ft scale. Addionally, updates were made where applicable to any of the data.
Single Fused Map Cache: false
Extent:
XMin: 6376869.606020108
YMin: 1818057.1218955666
XMax: 6544049.606020108
YMax: 2076827.1218955666
Spatial Reference: 102642
(2226)
Initial Extent:
XMin: 6376869.606020108
YMin: 1818057.1218955666
XMax: 6544049.606020108
YMax: 2076827.1218955666
Spatial Reference: 102642
(2226)
Full Extent:
XMin: 6376869.606020108
YMin: 1818057.1218955666
XMax: 6544049.606020108
YMax: 2076827.1218955666
Spatial Reference: 102642
(2226)
Pixel Size X: 10.0
Pixel Size Y: 10.0
Band Count: 1
Pixel Type: F32
RasterFunction Infos: {"rasterFunctionInfos": [{
"name": "None",
"description": "",
"help": ""
}]}
Mensuration Capabilities: Basic
Has Histograms: true
Has Colormap: false
Has Multi Dimensions : false
Rendering Rule:
Min Scale: 0
Max Scale: 0
Copyright Text:
Service Data Type: esriImageServiceDataTypeGeneric
Min Values: 0
Max Values: 4663.25732421875
Mean Values: 27.167929871544285
Standard Deviation Values: 21.9629636627477
Object ID Field:
Fields:
None
Default Mosaic Method: Center
Allowed Mosaic Methods:
SortField:
SortValue: null
Mosaic Operator: First
Default Compression Quality: 75
Default Resampling Method: Bilinear
Max Record Count: null
Max Image Height: 4100
Max Image Width: 15000
Max Download Image Count: null
Max Mosaic Image Count: null
Allow Raster Function: true
Allow Copy: true
Allow Analysis: true
Allow Compute TiePoints: false
Supports Statistics: false
Supports Advanced Queries: false
Use StandardizedQueries: true
Raster Type Infos:
Name: Raster Dataset
Description: Supports all ArcGIS Raster Datasets
Help:
Has Raster Attribute Table: false
Edit Fields Info: null
Ownership Based AccessControl For Rasters: null
Child Resources:
Info
Histograms
Statistics
Key Properties
Legend
Raster Function Infos
Supported Operations:
Export Image
Identify
Measure
Compute Histograms
Compute Statistics Histograms
Get Samples
Compute Class Statistics
Query Boundary
Compute Pixel Location
Validate
Project