View In:
ArcGIS JavaScript
ArcGIS Online Map Viewer
ArcGIS Earth
ArcMap
View Footprint In:
ArcGIS Online Map Viewer
Service Description: Landslide_Susceptibility_CGS
Name: Landslide_Susceptibility_CGS
Description:
Single Fused Map Cache: false
Extent:
XMin: 6376841.395396031
YMin: 1818042.047614887
XMax: 6544055.1358482
YMax: 2076853.569802755
Spatial Reference: 102642
(2226)
Initial Extent:
XMin: 6376841.395396031
YMin: 1818042.047614887
XMax: 6544055.1358482
YMax: 2076853.569802755
Spatial Reference: 102642
(2226)
Full Extent:
XMin: 6376841.395396031
YMin: 1818042.047614887
XMax: 6544055.1358482
YMax: 2076853.569802755
Spatial Reference: 102642
(2226)
Pixel Size X: 31.336907880841174
Pixel Size Y: 31.33690788084128
Band Count: 1
Pixel Type: U8
RasterFunction Infos: {"rasterFunctionInfos": [{
"name": "None",
"description": "",
"help": ""
}]}
Mensuration Capabilities: Basic
Has Histograms: true
Has Colormap: false
Has Multi Dimensions : false
Rendering Rule:
Min Scale: 0
Max Scale: 0
Copyright Text:
Service Data Type: esriImageServiceDataTypeThematic
Min Values: 0
Max Values: 10
Mean Values: 5.645153981451848
Standard Deviation Values: 3.4791904912749114
Object ID Field:
Fields:
None
Default Mosaic Method: Center
Allowed Mosaic Methods:
SortField:
SortValue: null
Mosaic Operator: First
Default Compression Quality: 75
Default Resampling Method: Bilinear
Max Record Count: null
Max Image Height: 4100
Max Image Width: 15000
Max Download Image Count: null
Max Mosaic Image Count: null
Allow Raster Function: true
Allow Copy: true
Allow Analysis: true
Allow Compute TiePoints: false
Supports Statistics: false
Supports Advanced Queries: false
Use StandardizedQueries: true
Raster Type Infos:
Name: Raster Dataset
Description: Supports all ArcGIS Raster Datasets
Help:
Has Raster Attribute Table: true
Edit Fields Info: null
Ownership Based AccessControl For Rasters: null
Child Resources:
Info
Raster Attribute Table
Histograms
Statistics
Key Properties
Legend
Raster Function Infos
Supported Operations:
Export Image
Identify
Measure
Compute Histograms
Compute Statistics Histograms
Get Samples
Compute Class Statistics
Query Boundary
Compute Pixel Location
Validate
Project