View In:
ArcGIS JavaScript
ArcGIS Online Map Viewer
ArcGIS Earth
ArcMap
View Footprint In:
ArcGIS Online Map Viewer
Service Description: LandCover/NLCD_2010
Name: LandCover/NLCD_2010
Description:
Single Fused Map Cache: false
Extent:
XMin: 6376853.038392904
YMin: 1817992.7732894586
XMax: 6544077.453192905
YMax: 2076851.0492894587
Spatial Reference: 102642
(2226)
Initial Extent:
XMin: 6376853.038392904
YMin: 1817992.7732894586
XMax: 6544077.453192905
YMax: 2076851.0492894587
Spatial Reference: 102642
(2226)
Full Extent:
XMin: 6376853.038392904
YMin: 1817992.7732894586
XMax: 6544077.453192905
YMax: 2076851.0492894587
Spatial Reference: 102642
(2226)
Pixel Size X: 98.42520000000022
Pixel Size Y: 98.42520000000003
Band Count: 1
Pixel Type: U8
RasterFunction Infos: {"rasterFunctionInfos": [{
"name": "None",
"description": "",
"help": ""
}]}
Mensuration Capabilities: Basic
Has Histograms: true
Has Colormap: true
Has Multi Dimensions : false
Rendering Rule:
Min Scale: 0
Max Scale: 0
Copyright Text:
Service Data Type: esriImageServiceDataTypeThematic
Min Values: 11
Max Values: 95
Mean Values: 50.611291496646786
Standard Deviation Values: 17.55222562337616
Object ID Field:
Fields:
None
Default Mosaic Method: Center
Allowed Mosaic Methods:
SortField:
SortValue: null
Mosaic Operator: First
Default Compression Quality: 75
Default Resampling Method: Bilinear
Max Record Count: null
Max Image Height: 4100
Max Image Width: 15000
Max Download Image Count: null
Max Mosaic Image Count: null
Allow Raster Function: true
Allow Copy: true
Allow Analysis: true
Allow Compute TiePoints: false
Supports Statistics: false
Supports Advanced Queries: false
Use StandardizedQueries: true
Raster Type Infos:
Name: Raster Dataset
Description: Supports all ArcGIS Raster Datasets
Help:
Has Raster Attribute Table: true
Edit Fields Info: null
Ownership Based AccessControl For Rasters: null
Child Resources:
Info
Raster Attribute Table
Histograms
Statistics
Key Properties
Color Map
Legend
Raster Function Infos
Supported Operations:
Export Image
Identify
Measure
Compute Histograms
Compute Statistics Histograms
Get Samples
Compute Class Statistics
Query Boundary
Compute Pixel Location
Validate
Project