{ "currentVersion": 10.81, "serviceDescription": "
This slope layer depicts slopes in Napa County, derived from 2018 3DEP lidar-derived elevation data.<\/SPAN><\/P> Process:<\/SPAN><\/P> This slope layer was created through the following steps:<\/SPAN><\/P> Importing the 3DEP DEMs (described below) into ArcGIS Pro.<\/SPAN><\/P><\/LI> The slope geoprocessing tool was used, with the output set to percent and geodesic method in feet.<\/SPAN><\/P><\/LI> The Focal Statistic tool was applied to the slope layer using a neighborhood circle of a three radius cell size and a median statistic type.<\/SPAN><\/P><\/LI> The resulting raster was symbolized with a manual interval method using a multipart color scheme in accordance to County standards. <\/SPAN><\/P><\/LI><\/OL> Source data:<\/SPAN><\/P> Elevation data was derived from bare-earth surface digital elevation models (DEMs) created from LiDAR data flown in 2018 in response to the widespread 2017 fires in Northern California as part of ongoing nationwide 3DEP (U.S. Geological Survey 3D Elevation Program) efforts. In limited areas, located along the western edge of the county boundary, supplemental DEMs were acquired from other sources to fill in gaps in the 3DEP data. Use of this supplemental data was negligible, totaling 24 acres out of 507,475 acres countywide (0.005% of total land area).<\/SPAN><\/P> The data herein utilizes the NAD_1983_StatePlane_California_II_FIPS_0402_Feet (EPSG:2226) coordinate system (Lambert_Conformal_Conic Projection).<\/SPAN><\/P> <\/P> Original datums used in the 3DEP DEMs:<\/SPAN><\/P> Horiontal: North American Datum of 1983 (NAD83)\u202f<\/SPAN><\/P> Vertical: North American Vertical Datum of 1988 (NAVD88)<\/SPAN><\/P><\/DIV><\/DIV><\/DIV>",
"name": "Raster/Slope_2018",
"description": " This slope layer depicts slopes in Napa County, derived from 2018 3DEP lidar-derived elevation data.<\/SPAN><\/P> Process:<\/SPAN><\/P> This slope layer was created through the following steps:<\/SPAN><\/P> Importing the 3DEP DEMs (described below) into ArcGIS Pro.<\/SPAN><\/P><\/LI> The slope geoprocessing tool was used, with the output set to percent and geodesic method in feet.<\/SPAN><\/P><\/LI> The Focal Statistic tool was applied to the slope layer using a neighborhood circle of a three radius cell size and a median statistic type.<\/SPAN><\/P><\/LI> The resulting raster was symbolized with a manual interval method using a multipart color scheme in accordance to County standards. <\/SPAN><\/P><\/LI><\/OL> Source data:<\/SPAN><\/P> Elevation data was derived from bare-earth surface digital elevation models (DEMs) created from LiDAR data flown in 2018 in response to the widespread 2017 fires in Northern California as part of ongoing nationwide 3DEP (U.S. Geological Survey 3D Elevation Program) efforts. In limited areas, located along the western edge of the county boundary, supplemental DEMs were acquired from other sources to fill in gaps in the 3DEP data. Use of this supplemental data was negligible, totaling 24 acres out of 507,475 acres countywide (0.005% of total land area).<\/SPAN><\/P> The data herein utilizes the NAD_1983_StatePlane_California_II_FIPS_0402_Feet (EPSG:2226) coordinate system (Lambert_Conformal_Conic Projection).<\/SPAN><\/P> <\/P> Original datums used in the 3DEP DEMs:<\/SPAN><\/P> Horiontal: North American Datum of 1983 (NAD83)\u202f<\/SPAN><\/P> Vertical: North American Vertical Datum of 1988 (NAVD88)<\/SPAN><\/P><\/DIV><\/DIV><\/DIV>",
"extent": {
"xmin": 529876.9135582311,
"ymin": 4222448.414882849,
"xmax": 582928.3137608109,
"ymax": 4302472.52819277,
"spatialReference": {
"wkid": 26910,
"latestWkid": 26910
}
},
"initialExtent": {
"xmin": 529876.9135582311,
"ymin": 4222448.414882849,
"xmax": 582928.3137608109,
"ymax": 4302472.52819277,
"spatialReference": {
"wkid": 26910,
"latestWkid": 26910
}
},
"fullExtent": {
"xmin": 529876.9135582311,
"ymin": 4222448.414882849,
"xmax": 582928.3137608109,
"ymax": 4302472.52819277,
"spatialReference": {
"wkid": 26910,
"latestWkid": 26910
}
},
"pixelSizeX": 1.0335560833559936,
"pixelSizeY": 1.0335560833559885,
"datasetFormat": "SDR",
"uncompressedSize": 15896796616,
"blockWidth": 128,
"blockHeight": 128,
"compressionType": "LZ77",
"bandNames": [
"Band_1"
],
"allowCopy": true,
"allowAnalysis": true,
"bandCount": 1,
"pixelType": "F32",
"minPixelSize": 0,
"maxPixelSize": 0,
"copyrightText": "Napa County Planning, Building, and Environmental Services Department, 2022 DEM Sources: - U.S. Geological Survey 3D Elevation Program (3DEP), 2018 Supplemental DEM Sources: - U.S. Geological Survey 3D Elevation Program (3DEP), 2015 - NASA Grant NNX13AP69G, the University of Maryland, and the Sonoma Vegetation Mapping and LiDAR Program, 2013",
"serviceDataType": "esriImageServiceDataTypeGeneric",
"serviceSourceType": "esriImageServiceSourceTypeDataset",
"minValues": [
0.009175203740596771
],
"maxValues": [
1402.0718994140625
],
"meanValues": [
30.366595243116286
],
"stdvValues": [
23.942475070348742
],
"objectIdField": "",
"fields": [],
"capabilities": "Image,Metadata,Mensuration",
"defaultMosaicMethod": "Center",
"allowedMosaicMethods": "",
"sortField": "",
"sortValue": null,
"sortAscending": true,
"mosaicOperator": "First",
"defaultCompressionQuality": 75,
"defaultResamplingMethod": "Bilinear",
"maxImageHeight": 4100,
"maxImageWidth": 15000,
"allowRasterFunction": true,
"rasterFunctionInfos": [
{
"name": "None",
"description": "",
"help": ""
}
],
"rasterTypeInfos": [
{
"name": "Raster Dataset",
"description": "Supports all ArcGIS Raster Datasets",
"help": ""
}
],
"mensurationCapabilities": "Basic",
"hasHistograms": true,
"hasColormap": false,
"hasRasterAttributeTable": false,
"minScale": 0,
"maxScale": 0,
"exportTilesAllowed": false,
"hasMultidimensions": false,
"supportsStatistics": false,
"supportsAdvancedQueries": false,
"editFieldsInfo": null,
"ownershipBasedAccessControlForRasters": null,
"allowComputeTiePoints": false,
"useStandardizedQueries": true,
"advancedQueryCapabilities": {
"useStandardizedQueries": true,
"supportsStatistics": false,
"supportsOrderBy": false,
"supportsDistinct": false,
"supportsPagination": false
},
"spatialReference": {
"wkid": 26910,
"latestWkid": 26910
}
}