<?xml version="1.0" encoding="UTF-8" standalone="no"?>
<metadata xml:lang="en">
<Esri>
<CreaDate>20240314</CreaDate>
<CreaTime>09561100</CreaTime>
<ArcGISFormat>1.0</ArcGISFormat>
<SyncOnce>FALSE</SyncOnce>
<DataProperties>
<itemProps>
<itemName Sync="FALSE">Slope_2018</itemName>
<imsContentType Sync="TRUE">002</imsContentType>
<nativeExtBox>
<westBL Sync="TRUE">529876.913558</westBL>
<eastBL Sync="TRUE">582928.313761</eastBL>
<southBL Sync="TRUE">4222448.414883</southBL>
<northBL Sync="TRUE">4302472.528193</northBL>
<exTypeCode Sync="TRUE">1</exTypeCode>
</nativeExtBox>
</itemProps>
<coordRef>
<type Sync="TRUE">Projected</type>
<geogcsn Sync="TRUE">GCS_North_American_1983</geogcsn>
<csUnits Sync="TRUE">Linear Unit: Meter (1.000000)</csUnits>
<projcsn Sync="TRUE">NAD_1983_UTM_Zone_10N</projcsn>
<peXml Sync="TRUE">&lt;ProjectedCoordinateSystem xsi:type='typens:ProjectedCoordinateSystem' xmlns:xsi='http://www.w3.org/2001/XMLSchema-instance' xmlns:xs='http://www.w3.org/2001/XMLSchema' xmlns:typens='http://www.esri.com/schemas/ArcGIS/3.5.0'&gt;&lt;WKT&gt;PROJCS[&amp;quot;NAD_1983_UTM_Zone_10N&amp;quot;,GEOGCS[&amp;quot;GCS_North_American_1983&amp;quot;,DATUM[&amp;quot;D_North_American_1983&amp;quot;,SPHEROID[&amp;quot;GRS_1980&amp;quot;,6378137.0,298.257222101]],PRIMEM[&amp;quot;Greenwich&amp;quot;,0.0],UNIT[&amp;quot;Degree&amp;quot;,0.0174532925199433]],PROJECTION[&amp;quot;Transverse_Mercator&amp;quot;],PARAMETER[&amp;quot;False_Easting&amp;quot;,500000.0],PARAMETER[&amp;quot;False_Northing&amp;quot;,0.0],PARAMETER[&amp;quot;Central_Meridian&amp;quot;,-123.0],PARAMETER[&amp;quot;Scale_Factor&amp;quot;,0.9996],PARAMETER[&amp;quot;Latitude_Of_Origin&amp;quot;,0.0],UNIT[&amp;quot;Meter&amp;quot;,1.0],AUTHORITY[&amp;quot;EPSG&amp;quot;,26910]]&lt;/WKT&gt;&lt;XOrigin&gt;-5120900&lt;/XOrigin&gt;&lt;YOrigin&gt;-9998100&lt;/YOrigin&gt;&lt;XYScale&gt;450445547.3910538&lt;/XYScale&gt;&lt;ZOrigin&gt;-100000&lt;/ZOrigin&gt;&lt;ZScale&gt;10000&lt;/ZScale&gt;&lt;MOrigin&gt;-100000&lt;/MOrigin&gt;&lt;MScale&gt;10000&lt;/MScale&gt;&lt;XYTolerance&gt;0.001&lt;/XYTolerance&gt;&lt;ZTolerance&gt;0.00020000000000000001&lt;/ZTolerance&gt;&lt;MTolerance&gt;0.00020000000000000001&lt;/MTolerance&gt;&lt;HighPrecision&gt;true&lt;/HighPrecision&gt;&lt;WKID&gt;26910&lt;/WKID&gt;&lt;LatestWKID&gt;26910&lt;/LatestWKID&gt;&lt;/ProjectedCoordinateSystem&gt;</peXml>
</coordRef>
</DataProperties>
<scaleRange>
<minScale>150000000</minScale>
<maxScale>5000</maxScale>
</scaleRange>
<ArcGISProfile>NAP</ArcGISProfile>
<SyncDate>20260409</SyncDate>
<SyncTime>15543500</SyncTime>
<ModDate>20260409</ModDate>
<ModTime>15543500</ModTime>
</Esri>
<dataIdInfo>
<idPurp>This slope layer depicts slopes in Napa County, derived from 2018 3DEP lidar-derived elevation data.</idPurp>
<idAbs>&lt;DIV STYLE="text-align:Left;"&gt;&lt;DIV&gt;&lt;DIV&gt;&lt;P&gt;&lt;SPAN&gt;This slope layer depicts slopes in Napa County, derived from 2018 3DEP lidar-derived elevation data.&lt;/SPAN&gt;&lt;/P&gt;&lt;P&gt;&lt;SPAN STYLE="font-weight:bold;"&gt;Process:&lt;/SPAN&gt;&lt;/P&gt;&lt;P&gt;&lt;SPAN&gt;This slope layer was created through the following steps:&lt;/SPAN&gt;&lt;/P&gt;&lt;OL&gt;&lt;LI&gt;&lt;P&gt;&lt;SPAN&gt;Importing the 3DEP DEMs (described below) into ArcGIS Pro.&lt;/SPAN&gt;&lt;/P&gt;&lt;/LI&gt;&lt;LI&gt;&lt;P&gt;&lt;SPAN&gt;The slope geoprocessing tool was used, with the output set to percent and geodesic method in feet.&lt;/SPAN&gt;&lt;/P&gt;&lt;/LI&gt;&lt;LI&gt;&lt;P&gt;&lt;SPAN&gt;The Focal Statistic tool was applied to the slope layer using a neighborhood circle of a three radius cell size and a median statistic type.&lt;/SPAN&gt;&lt;/P&gt;&lt;/LI&gt;&lt;LI&gt;&lt;P&gt;&lt;SPAN&gt;The resulting raster was symbolized with a manual interval method using a multipart color scheme in accordance to County standards. &lt;/SPAN&gt;&lt;/P&gt;&lt;/LI&gt;&lt;/OL&gt;&lt;P&gt;&lt;SPAN STYLE="font-weight:bold;"&gt;Source data:&lt;/SPAN&gt;&lt;/P&gt;&lt;P&gt;&lt;SPAN&gt;Elevation data was derived from bare-earth surface digital elevation models (DEMs) created from LiDAR data flown in 2018 in response to the widespread 2017 fires in Northern California as part of ongoing nationwide 3DEP (U.S. Geological Survey 3D Elevation Program) efforts. In limited areas, located along the western edge of the county boundary, supplemental DEMs were acquired from other sources to fill in gaps in the 3DEP data. Use of this supplemental data was negligible, totaling 24 acres out of 507,475 acres countywide (0.005% of total land area).&lt;/SPAN&gt;&lt;/P&gt;&lt;P&gt;&lt;SPAN&gt;The data herein utilizes the NAD_1983_StatePlane_California_II_FIPS_0402_Feet (EPSG:2226) coordinate system (Lambert_Conformal_Conic Projection).&lt;/SPAN&gt;&lt;/P&gt;&lt;P&gt;&lt;SPAN /&gt;&lt;/P&gt;&lt;P&gt;&lt;SPAN&gt;Original datums used in the 3DEP DEMs:&lt;/SPAN&gt;&lt;/P&gt;&lt;P STYLE="margin:1 1 1 20;"&gt;&lt;SPAN /&gt;&lt;SPAN&gt;Horiontal: North American Datum of 1983 (NAD83) &lt;/SPAN&gt;&lt;/P&gt;&lt;P STYLE="margin:1 1 1 20;"&gt;&lt;SPAN&gt;Vertical: North American Vertical Datum of 1988 (NAVD88)&lt;/SPAN&gt;&lt;/P&gt;&lt;/DIV&gt;&lt;/DIV&gt;&lt;/DIV&gt;</idAbs>
<idCredit>Napa County Planning, Building, and Environmental Services Department, 2022 DEM Sources: - U.S. Geological Survey 3D Elevation Program (3DEP), 2018 Supplemental DEM Sources: - U.S. Geological Survey 3D Elevation Program (3DEP), 2015 - NASA Grant NNX13AP69G, the University of Maryland, and the Sonoma Vegetation Mapping and LiDAR Program, 2013</idCredit>
<idCitation>
<resTitle>Slope_2018</resTitle>
<presForm>
<PresFormCd Sync="TRUE" value="011">
</PresFormCd>
</presForm>
</idCitation>
<searchKeys>
<keyword>elevation</keyword>
<keyword>slope</keyword>
<keyword>2018</keyword>
<keyword>3DEP</keyword>
<keyword>Napa County</keyword>
</searchKeys>
<resConst>
<Consts>
<useLimit>&lt;DIV STYLE="text-align:Left;"&gt;&lt;DIV&gt;&lt;DIV&gt;&lt;P&gt;&lt;SPAN STYLE="font-weight:bold;"&gt;Open data. &lt;/SPAN&gt;&lt;SPAN&gt;This layer is open data. It is made available under the Public Domain Dedication and License version v1.0 whose full text can be found at:&lt;/SPAN&gt;&lt;/P&gt;&lt;P&gt;&lt;SPAN&gt;https://opendatacommons.org/licenses/pddl/1.0/&lt;/SPAN&gt;&lt;/P&gt;&lt;P&gt;&lt;SPAN /&gt;&lt;/P&gt;&lt;P&gt;&lt;SPAN&gt;Disclaimer: This GIS data is intended to provide a visual display of data for the user's convenience. Users of this data are hereby notified that the appropriate public primary information sources should be consulted for verification of the information. Although every reasonable effort has been made to assure the accuracy of this data, Napa County makes no warranty, representation or guaranty as to the content, sequence, accuracy, timeliness or completeness of any of the data provided herein and explicitly disclaims any representations and warranties, including, without limitation, the implied warranties of merchantability and fitness for a particular purpose. Napa County assumes no liability for any errors, omissions, or inaccuracies in the information provided regardless of how caused and assumes no liability for any decisions made or actions taken or not taken by the user of the data in reliance upon any information or data furnished hereunder. Because the GIS data provided is not warranted to be up-to-date, the user should check with the County staff for updated information.&lt;/SPAN&gt;&lt;/P&gt;&lt;P&gt;&lt;SPAN /&gt;&lt;/P&gt;&lt;/DIV&gt;&lt;/DIV&gt;&lt;/DIV&gt;</useLimit>
</Consts>
</resConst>
<envirDesc Sync="FALSE">Esri ArcGIS 13.5.5.57366</envirDesc>
<dataLang>
<languageCode Sync="TRUE" value="eng">
</languageCode>
<countryCode Sync="TRUE" value="USA">
</countryCode>
</dataLang>
<spatRpType>
<SpatRepTypCd Sync="TRUE" value="002">
</SpatRepTypCd>
</spatRpType>
<dataExt>
<geoEle>
<GeoBndBox esriExtentType="search">
<exTypeCode Sync="TRUE">1</exTypeCode>
<westBL Sync="TRUE">-122.659013</westBL>
<eastBL Sync="TRUE">-122.044101</eastBL>
<northBL Sync="TRUE">38.870592</northBL>
<southBL Sync="TRUE">38.146100</southBL>
</GeoBndBox>
</geoEle>
</dataExt>
</dataIdInfo>
<mdHrLv>
<ScopeCd value="005">
</ScopeCd>
</mdHrLv>
<mdDateSt Sync="TRUE">20260409</mdDateSt>
<mdLang>
<languageCode Sync="TRUE" value="eng">
</languageCode>
<countryCode Sync="TRUE" value="USA">
</countryCode>
</mdLang>
<distInfo>
<distFormat>
<formatName Sync="TRUE">Enterprise Geodatabase Raster Dataset</formatName>
</distFormat>
</distInfo>
<mdHrLvName Sync="TRUE">dataset</mdHrLvName>
<refSysInfo>
<RefSystem>
<refSysID>
<identCode Sync="TRUE" code="26910">
</identCode>
<idCodeSpace Sync="TRUE">EPSG</idCodeSpace>
<idVersion Sync="TRUE">6.13(3.0.1)</idVersion>
</refSysID>
</RefSystem>
</refSysInfo>
<spdoinfo>
<rastinfo>
<rasttype Sync="TRUE">Pixel</rasttype>
<rowcount Sync="TRUE">77426</rowcount>
<colcount Sync="TRUE">51329</colcount>
<rastxsz Sync="TRUE">1.033556</rastxsz>
<rastysz Sync="TRUE">1.033556</rastysz>
<rastbpp Sync="TRUE">32</rastbpp>
<vrtcount Sync="TRUE">1</vrtcount>
<rastorig Sync="TRUE">Upper Left</rastorig>
<rastcmap Sync="TRUE">FALSE</rastcmap>
<rastcomp Sync="TRUE">LZ77</rastcomp>
<rastband Sync="TRUE">1</rastband>
<rastdtyp Sync="TRUE">pixel codes</rastdtyp>
<rastifor Sync="TRUE">SDR</rastifor>
<rastplyr Sync="TRUE">TRUE</rastplyr>
</rastinfo>
</spdoinfo>
<spref>
<horizsys>
<planar>
<planci>
<plance Sync="TRUE">row and column</plance>
<coordrep>
<absres Sync="TRUE">1.033556</absres>
<ordres Sync="TRUE">1.033556</ordres>
</coordrep>
</planci>
</planar>
</horizsys>
</spref>
<dqInfo>
<dataLineage>
<statement>NOTE: this layer was originally called "clipMergedUTMDEM_031424_slope2_foCir3Med"</statement>
</dataLineage>
</dqInfo>
</metadata>
