<?xml version="1.0" encoding="UTF-8" standalone="no"?>
<metadata xml:lang="en">
<Esri>
<CreaDate>20260428</CreaDate>
<CreaTime>14303300</CreaTime>
<ArcGISFormat>1.0</ArcGISFormat>
<ArcGISProfile>ISO19139</ArcGISProfile>
<DataProperties>
<itemProps>
<imsContentType export="False">
</imsContentType>
<itemName Sync="FALSE">Precipitation_Percent_Recharge</itemName>
<nativeExtBox>
<westBL Sync="TRUE">-230315.843750</westBL>
<eastBL Sync="TRUE">-180095.843750</eastBL>
<southBL Sync="TRUE">17536.687500</southBL>
<northBL Sync="TRUE">96916.687500</northBL>
<exTypeCode Sync="TRUE">1</exTypeCode>
</nativeExtBox>
</itemProps>
<coordRef>
<type Sync="TRUE">Projected</type>
<geogcsn Sync="TRUE">GCS_North_American_1983</geogcsn>
<csUnits Sync="TRUE">Linear Unit: Meter (1.000000)</csUnits>
<projcsn Sync="TRUE">NAD_1983_California_Teale_Albers</projcsn>
<peXml Sync="TRUE">&lt;ProjectedCoordinateSystem xsi:type='typens:ProjectedCoordinateSystem' xmlns:xsi='http://www.w3.org/2001/XMLSchema-instance' xmlns:xs='http://www.w3.org/2001/XMLSchema' xmlns:typens='http://www.esri.com/schemas/ArcGIS/3.5.0'&gt;&lt;WKT&gt;PROJCS[&amp;quot;NAD_1983_California_Teale_Albers&amp;quot;,GEOGCS[&amp;quot;GCS_North_American_1983&amp;quot;,DATUM[&amp;quot;D_North_American_1983&amp;quot;,SPHEROID[&amp;quot;GRS_1980&amp;quot;,6378137.0,298.257222101]],PRIMEM[&amp;quot;Greenwich&amp;quot;,0.0],UNIT[&amp;quot;Degree&amp;quot;,0.0174532925199433]],PROJECTION[&amp;quot;Albers&amp;quot;],PARAMETER[&amp;quot;False_Easting&amp;quot;,0.0],PARAMETER[&amp;quot;False_Northing&amp;quot;,-4000000.0],PARAMETER[&amp;quot;Central_Meridian&amp;quot;,-120.0],PARAMETER[&amp;quot;Standard_Parallel_1&amp;quot;,34.0],PARAMETER[&amp;quot;Standard_Parallel_2&amp;quot;,40.5],PARAMETER[&amp;quot;Latitude_Of_Origin&amp;quot;,0.0],UNIT[&amp;quot;Meter&amp;quot;,1.0],AUTHORITY[&amp;quot;EPSG&amp;quot;,3310]]&lt;/WKT&gt;&lt;XOrigin&gt;-16909700&lt;/XOrigin&gt;&lt;YOrigin&gt;-8597000&lt;/YOrigin&gt;&lt;XYScale&gt;266332319.7555542&lt;/XYScale&gt;&lt;ZOrigin&gt;-100000&lt;/ZOrigin&gt;&lt;ZScale&gt;10000&lt;/ZScale&gt;&lt;MOrigin&gt;-100000&lt;/MOrigin&gt;&lt;MScale&gt;10000&lt;/MScale&gt;&lt;XYTolerance&gt;0.001&lt;/XYTolerance&gt;&lt;ZTolerance&gt;0.00020000000000000001&lt;/ZTolerance&gt;&lt;MTolerance&gt;0.00020000000000000001&lt;/MTolerance&gt;&lt;HighPrecision&gt;true&lt;/HighPrecision&gt;&lt;WKID&gt;3310&lt;/WKID&gt;&lt;LatestWKID&gt;3310&lt;/LatestWKID&gt;&lt;/ProjectedCoordinateSystem&gt;</peXml>
</coordRef>
</DataProperties>
<scaleRange>
<minScale>500000</minScale>
<maxScale>50000</maxScale>
</scaleRange>
<SyncOnce>FALSE</SyncOnce>
<SyncDate>20260811</SyncDate>
<SyncTime>15504500</SyncTime>
<ModDate>20260811</ModDate>
<ModTime>15504500</ModTime>
</Esri>
<dataIdInfo>
<idAbs>&lt;DIV STYLE="text-align:Left;"&gt;&lt;DIV&gt;&lt;DIV&gt;&lt;P STYLE="margin:0 0 0 0;"&gt;&lt;SPAN&gt;&lt;SPAN&gt;A dataset representing the percent of precipitation contributing to recharge was developed for Napa County using output from the U.S. Geological Survey’s Basin Characterization Model ( USGS BCM)(Flint et al., 2021). The BCM is a grid-based, regional water balance software package developed and maintained by the USGS and is widely applied throughout California as a foundational tool for water resource planning, climate change vulnerability assessments, and sustainable groundwater management. The model simulates physical processes in performing water-balance calculations across a high-resolution rectangular grid system with a square cell size of approximately 270 meters by 270 meters. While the published version of BCM utilizes input datasets for underlying geology derived from generalized regional geologic mapping data, to improve the representation of geologic conditions in the model, inputs relating to the underlying geology in the BCM were updated using local geologic data consistent with the surficial geology used in the California Department of Water Resources approved 2022 Napa Valley Subbasin Groundwater Sustainability Plan (GSP). Simulated annual recharge output on a cell-by-cell basis from the adjusted BCM for a 10-year period spanning water years (WY) 2012 through 2021, were used to calculate the average percentage of annual precipitation that contributes to groundwater recharge.&lt;/SPAN&gt;&lt;/SPAN&gt;&lt;/P&gt;&lt;P /&gt;&lt;/DIV&gt;&lt;/DIV&gt;&lt;/DIV&gt;</idAbs>
<idCitation>
<resTitle>Precipitation_Percent_Recharge</resTitle>
<date>
<pubDate>2026-07-28T00:00:00</pubDate>
<createDate>2026-07-28T00:00:00</createDate>
</date>
<citRespParty>
<rpIndName>Michael Snyder</rpIndName>
<rpOrgName>Luhdorff &amp; Scalmanini Consulting Engineers</rpOrgName>
<rpPosName>Senior GIS Analyst</rpPosName>
<role>
<RoleCd value="006">
</RoleCd>
</role>
<rpCntInfo>
<cntAddress addressType="physical">
<eMailAdd>msnyder@lsce.com</eMailAdd>
<delPoint>500 First Street</delPoint>
<city>Woodland</city>
<adminArea>CA</adminArea>
<postCode>95695</postCode>
<country>US</country>
</cntAddress>
<cntPhone>
<voiceNum>(530) 661-0109</voiceNum>
</cntPhone>
</rpCntInfo>
</citRespParty>
<presForm>
<PresFormCd Sync="TRUE" value="011">
</PresFormCd>
</presForm>
</idCitation>
<dataExt>
<exDesc>Napa County</exDesc>
<geoEle>
<GeoBndBox>
<westBL>-122.54</westBL>
<eastBL>-122.10</eastBL>
<northBL>38.86</northBL>
<southBL>38.15</southBL>
</GeoBndBox>
</geoEle>
<tempEle>
<TempExtent>
<exTemp>
<TM_Period>
<tmBegin>2012-10-01T00:00:00</tmBegin>
<tmEnd>2022-09-30T00:00:00</tmEnd>
</TM_Period>
</exTemp>
</TempExtent>
</tempEle>
</dataExt>
<idPoC>
<rpIndName>Michael Snyder</rpIndName>
<rpOrgName>Luhdorff &amp; Scalmanini Consulting Engineers</rpOrgName>
<rpPosName>Senior GIS Analyst</rpPosName>
<role>
<RoleCd value="003">
</RoleCd>
</role>
<rpCntInfo>
<cntAddress addressType="physical">
<eMailAdd>msnyder@lsce.com</eMailAdd>
<delPoint>500 First Street</delPoint>
<city>Woodland</city>
<adminArea>CA</adminArea>
<postCode>95695</postCode>
<country>US</country>
</cntAddress>
<cntPhone>
<voiceNum>(530) 661-0109</voiceNum>
</cntPhone>
</rpCntInfo>
</idPoC>
<searchKeys>
<keyword>Napa</keyword>
<keyword>PBES</keyword>
<keyword>BDR</keyword>
<keyword>Groundwater</keyword>
<keyword>Hydrology</keyword>
<keyword>Precipitation</keyword>
<keyword>California</keyword>
<keyword>County</keyword>
</searchKeys>
<idPurp>A dataset representing the percent of precipitation contributing to recharge.</idPurp>
<idCredit>LSCE, 2026;California Department of Water Resources; U.S.G.S</idCredit>
<resConst>
<Consts>
<useLimit>&lt;p&gt;This layer is open data. It is made available under the Public Domain Dedication and License version v1.0 whose full text can be found at:&lt;/p&gt;&lt;p&gt;&lt;/p&gt;&lt;p&gt;https://opendatacommons.org/licenses/pddl/1.0/&lt;/p&gt;&lt;p&gt;&lt;/p&gt;&lt;p&gt;Disclaimer: This GIS data is intended to provide a visual display of data for the user's convenience. Users of this data are hereby notified that the appropriate public primary information sources should be consulted for verification of the information. Although every reasonable effort has been made to assure the accuracy of this data, Napa County makes no warranty, representation or guaranty as to the content, sequence, accuracy, timeliness or completeness of any of the data provided herein and explicitly disclaims any representations and warranties, including, without limitation, the implied warranties of merchantability and fitness for a particular purpose. Napa County assumes no liability for any errors, omissions, or inaccuracies in the information provided regardless of how caused and assumes no liability for any decisions made or actions taken or not taken by the user of the data in reliance upon any information or data furnished hereunder. Because the GIS data provided is not warranted to be up-to-date, the user should check with the County staff for updated information.&lt;/p&gt;</useLimit>
</Consts>
</resConst>
<dataLang>
<languageCode value="eng">
</languageCode>
<countryCode Sync="TRUE" value="USA">
</countryCode>
</dataLang>
<dataChar>
<CharSetCd value="004">
</CharSetCd>
</dataChar>
<idStatus>
<ProgCd value="001">
</ProgCd>
</idStatus>
<resMaint>
<maintFreq>
<MaintFreqCd value="011">
</MaintFreqCd>
</maintFreq>
</resMaint>
<tpCat>
<TopicCatCd value="004">
</TopicCatCd>
</tpCat>
<tpCat>
<TopicCatCd value="007">
</TopicCatCd>
</tpCat>
<envirDesc Sync="FALSE">Esri ArcGIS 13.5.5.57366</envirDesc>
<spatRpType>
<SpatRepTypCd Sync="TRUE" value="002">
</SpatRepTypCd>
</spatRpType>
<dataExt>
<geoEle>
<GeoBndBox esriExtentType="search">
<exTypeCode Sync="TRUE">1</exTypeCode>
<westBL Sync="TRUE">-122.657104</westBL>
<eastBL Sync="TRUE">-122.058060</eastBL>
<northBL Sync="TRUE">38.870475</northBL>
<southBL Sync="TRUE">38.145361</southBL>
</GeoBndBox>
</geoEle>
</dataExt>
</dataIdInfo>
<mdLang>
<languageCode value="eng">
</languageCode>
<countryCode Sync="TRUE" value="USA">
</countryCode>
</mdLang>
<mdHrLv>
<ScopeCd value="005">
</ScopeCd>
</mdHrLv>
<mdChar>
<CharSetCd value="004">
</CharSetCd>
</mdChar>
<mdDateSt>20260810</mdDateSt>
<mdContact>
<rpIndName>Michael Snyder</rpIndName>
<rpOrgName>Luhdorff &amp; Scalmanini Consulting Engineers</rpOrgName>
<rpPosName>Senior GIS Analyst</rpPosName>
<role>
<RoleCd value="006">
</RoleCd>
</role>
<rpCntInfo>
<cntAddress addressType="physical">
<eMailAdd>msnyder@lsce.com</eMailAdd>
<delPoint>500 First Street</delPoint>
<city>Woodland</city>
<adminArea>CA</adminArea>
<postCode>95695</postCode>
<country>US</country>
</cntAddress>
<cntPhone>
<voiceNum>(530) 661-0109</voiceNum>
</cntPhone>
</rpCntInfo>
<displayName>Michael Snyder</displayName>
</mdContact>
<dqInfo>
<dataLineage>
<statement>For information on dataset lineage and geoprocessing refer to Napa County Water Availability Analysis Recharge Methodology Technical Memorandum (2026) or contact Luhdorff &amp; Scalmanini Consulting Engineers.</statement>
</dataLineage>
</dqInfo>
<distInfo>
<distFormat>
<formatName Sync="TRUE">Enterprise Geodatabase Raster Dataset</formatName>
</distFormat>
</distInfo>
<mdHrLvName Sync="TRUE">dataset</mdHrLvName>
<refSysInfo>
<RefSystem>
<refSysID>
<identCode Sync="TRUE" code="3310">
</identCode>
<idCodeSpace Sync="TRUE">EPSG</idCodeSpace>
<idVersion Sync="TRUE">6.8(9.2.0)</idVersion>
</refSysID>
</RefSystem>
</refSysInfo>
<spdoinfo>
<rastinfo>
<rasttype Sync="TRUE">Pixel</rasttype>
<rowcount Sync="TRUE">294</rowcount>
<colcount Sync="TRUE">186</colcount>
<rastxsz Sync="TRUE">270.000000</rastxsz>
<rastysz Sync="TRUE">270.000000</rastysz>
<rastbpp Sync="TRUE">32</rastbpp>
<vrtcount Sync="TRUE">1</vrtcount>
<rastorig Sync="TRUE">Upper Left</rastorig>
<rastcmap Sync="TRUE">FALSE</rastcmap>
<rastcomp Sync="TRUE">LZ77</rastcomp>
<rastband Sync="TRUE">1</rastband>
<rastdtyp Sync="TRUE">pixel codes</rastdtyp>
<rastifor Sync="TRUE">SDR</rastifor>
<rastplyr Sync="TRUE">TRUE</rastplyr>
</rastinfo>
</spdoinfo>
<spref>
<horizsys>
<planar>
<planci>
<plance Sync="TRUE">row and column</plance>
<coordrep>
<absres Sync="TRUE">270.000000</absres>
<ordres Sync="TRUE">270.000000</ordres>
</coordrep>
</planci>
</planar>
</horizsys>
</spref>
</metadata>
