<?xml version="1.0" encoding="UTF-8" standalone="no"?>
<metadata xml:lang="en">
<Esri>
<CreaDate>20230120</CreaDate>
<CreaTime>11395900</CreaTime>
<ArcGISFormat>1.0</ArcGISFormat>
<SyncOnce>FALSE</SyncOnce>
<DataProperties>
<itemProps>
<itemName Sync="TRUE">Imagery.GIS.ELEV_DEM_2018_SP</itemName>
<nativeExtBox>
<westBL Sync="TRUE">6375000.983491</westBL>
<eastBL Sync="TRUE">6546276.887657</eastBL>
<southBL Sync="TRUE">1817299.779470</southBL>
<northBL Sync="TRUE">2077666.712804</northBL>
<exTypeCode Sync="TRUE">1</exTypeCode>
</nativeExtBox>
<itemLocation>
<linkage Sync="TRUE">Server=gisdataprod04; Service=sde:sqlserver:gisdataprod04; Database=Imagery; User=gis; Version=sde.DEFAULT</linkage>
<protocol Sync="TRUE">ArcSDE Connection</protocol>
</itemLocation>
<imsContentType export="False">002</imsContentType>
</itemProps>
<coordRef>
<type Sync="TRUE">Projected</type>
<geogcsn Sync="TRUE">GCS_North_American_1983</geogcsn>
<csUnits Sync="TRUE">Linear Unit: Foot_US (0.304801)</csUnits>
<projcsn Sync="TRUE">NAD_1983_StatePlane_California_II_FIPS_0402_Feet</projcsn>
<peXml Sync="TRUE">&lt;ProjectedCoordinateSystem xsi:type='typens:ProjectedCoordinateSystem' xmlns:xsi='http://www.w3.org/2001/XMLSchema-instance' xmlns:xs='http://www.w3.org/2001/XMLSchema' xmlns:typens='http://www.esri.com/schemas/ArcGIS/3.0.0'&gt;&lt;WKT&gt;PROJCS[&amp;quot;NAD_1983_StatePlane_California_II_FIPS_0402_Feet&amp;quot;,GEOGCS[&amp;quot;GCS_North_American_1983&amp;quot;,DATUM[&amp;quot;D_North_American_1983&amp;quot;,SPHEROID[&amp;quot;GRS_1980&amp;quot;,6378137.0,298.257222101]],PRIMEM[&amp;quot;Greenwich&amp;quot;,0.0],UNIT[&amp;quot;Degree&amp;quot;,0.0174532925199433]],PROJECTION[&amp;quot;Lambert_Conformal_Conic&amp;quot;],PARAMETER[&amp;quot;False_Easting&amp;quot;,6561666.666666666],PARAMETER[&amp;quot;False_Northing&amp;quot;,1640416.666666667],PARAMETER[&amp;quot;Central_Meridian&amp;quot;,-122.0],PARAMETER[&amp;quot;Standard_Parallel_1&amp;quot;,38.33333333333334],PARAMETER[&amp;quot;Standard_Parallel_2&amp;quot;,39.83333333333334],PARAMETER[&amp;quot;Latitude_Of_Origin&amp;quot;,37.66666666666666],UNIT[&amp;quot;Foot_US&amp;quot;,0.3048006096012192],AUTHORITY[&amp;quot;EPSG&amp;quot;,2226]]&lt;/WKT&gt;&lt;XOrigin&gt;-115211800&lt;/XOrigin&gt;&lt;YOrigin&gt;-93821500&lt;/YOrigin&gt;&lt;XYScale&gt;36983428.057351544&lt;/XYScale&gt;&lt;ZOrigin&gt;-100000&lt;/ZOrigin&gt;&lt;ZScale&gt;10000&lt;/ZScale&gt;&lt;MOrigin&gt;-100000&lt;/MOrigin&gt;&lt;MScale&gt;10000&lt;/MScale&gt;&lt;XYTolerance&gt;0.0032808333333333331&lt;/XYTolerance&gt;&lt;ZTolerance&gt;0.00020000000000000001&lt;/ZTolerance&gt;&lt;MTolerance&gt;0.00020000000000000001&lt;/MTolerance&gt;&lt;HighPrecision&gt;true&lt;/HighPrecision&gt;&lt;WKID&gt;102642&lt;/WKID&gt;&lt;LatestWKID&gt;2226&lt;/LatestWKID&gt;&lt;/ProjectedCoordinateSystem&gt;</peXml>
</coordRef>
<lineage>
<Process Date="20230120" Name="" Time="124847" ToolSource="c:\program files\arcgis\pro\Resources\ArcToolbox\toolboxes\Data Management Tools.tbx\CopyRaster" export="">CopyRaster CLIP_Merged_DEMs_ElevInFt_EPSG26910.tif "C:\Repos\Dataconnections\Prod\gis - Imagery.sde\Imagery.GIS.CLIP_Merged_DEMs_ElevInFt_EPSG26910_tif" # # -3.402823e+38 NONE NONE # NONE NONE "Esri Grid format" NONE CURRENT_SLICE NO_TRANSPOSE</Process>
<Process Date="20230123" Name="" Time="104431" ToolSource="c:\program files\arcgis\pro\Resources\ArcToolbox\toolboxes\Data Management Tools.tbx\Rename" export="">Rename "C:\Repos\Dataconnections\Prod\gis - Imagery.sde\Imagery.GIS.CLIP_Merged_DEMs_ElevInFt_EPSG26910_tif" "C:\Repos\Dataconnections\Prod\gis - Imagery.sde\Imagery.GIS.ELEV_DEM_2018" RasterDataset</Process>
<Process Date="20230201" Time="095745" ToolSource="c:\program files\arcgis\pro\Resources\ArcToolbox\toolboxes\Data Management Tools.tbx\DefineProjection">DefineProjection "C:\database connection files\gis - Imagery.sde\Imagery.GIS.ELEV_DEM_2018" PROJCS["NAD_1983_StatePlane_California_II_FIPS_0402_Feet",GEOGCS["GCS_North_American_1983",DATUM["D_North_American_1983",SPHEROID["GRS_1980",6378137.0,298.257222101]],PRIMEM["Greenwich",0.0],UNIT["Degree",0.0174532925199433]],PROJECTION["Lambert_Conformal_Conic"],PARAMETER["False_Easting",6561666.666666666],PARAMETER["False_Northing",1640416.666666667],PARAMETER["Central_Meridian",-122.0],PARAMETER["Standard_Parallel_1",38.33333333333334],PARAMETER["Standard_Parallel_2",39.83333333333334],PARAMETER["Latitude_Of_Origin",37.66666666666666],UNIT["Foot_US",0.3048006096012192]]</Process>
<Process Date="20230201" Time="102322" ToolSource="c:\program files\arcgis\pro\Resources\ArcToolbox\toolboxes\Data Management Tools.tbx\DefineProjection">DefineProjection "C:\Repos\Dataconnections\Prod\gis - Imagery.sde\Imagery.GIS.ELEV_DEM_2018" PROJCS["NAD_1983_UTM_Zone_10N",GEOGCS["GCS_North_American_1983",DATUM["D_North_American_1983",SPHEROID["GRS_1980",6378137.0,298.257222101]],PRIMEM["Greenwich",0.0],UNIT["Degree",0.0174532925199433]],PROJECTION["Transverse_Mercator"],PARAMETER["False_Easting",500000.0],PARAMETER["False_Northing",0.0],PARAMETER["Central_Meridian",-123.0],PARAMETER["Scale_Factor",0.9996],PARAMETER["Latitude_Of_Origin",0.0],UNIT["Meter",1.0]]</Process>
<Process Date="20230202" Time="114621" ToolSource="c:\program files\arcgis\pro\Resources\ArcToolbox\toolboxes\Data Management Tools.tbx\ProjectRaster">ProjectRaster "C:\Repos\Dataconnections\Prod\gis - Imagery.sde\Imagery.GIS.ELEV_DEM_2018" "C:\Repos\Dataconnections\Prod\gis - Imagery.sde\Imagery.GIS.ELEV_DEM_2018_SP" PROJCS["NAD_1983_StatePlane_California_II_FIPS_0402_Feet",GEOGCS["GCS_North_American_1983",DATUM["D_North_American_1983",SPHEROID["GRS_1980",6378137.0,298.257222101]],PRIMEM["Greenwich",0.0],UNIT["Degree",0.0174532925199433]],PROJECTION["Lambert_Conformal_Conic"],PARAMETER["False_Easting",6561666.666666666],PARAMETER["False_Northing",1640416.666666667],PARAMETER["Central_Meridian",-122.0],PARAMETER["Standard_Parallel_1",38.33333333333334],PARAMETER["Standard_Parallel_2",39.83333333333334],PARAMETER["Latitude_Of_Origin",37.66666666666666],UNIT["Foot_US",0.3048006096012192]] "Nearest neighbor" "3.28083333333333 3.28083333333333" # # PROJCS["NAD_1983_UTM_Zone_10N",GEOGCS["GCS_North_American_1983",DATUM["D_North_American_1983",SPHEROID["GRS_1980",6378137.0,298.257222101]],PRIMEM["Greenwich",0.0],UNIT["Degree",0.0174532925199433]],PROJECTION["Transverse_Mercator"],PARAMETER["False_Easting",500000.0],PARAMETER["False_Northing",0.0],PARAMETER["Central_Meridian",-123.0],PARAMETER["Scale_Factor",0.9996],PARAMETER["Latitude_Of_Origin",0.0],UNIT["Meter",1.0]] NO_VERTICAL</Process>
<Process Date="20230206" Time="102519" ToolSource="c:\program files\arcgis\pro\Resources\ArcToolbox\Toolboxes\Data Management Tools.tbx\Rename">Rename "C:\Repos\Dataconnections\Prod\gis - Imagery.sde\Imagery.GIS.ELEV_DEM_2018_SP" "C:\Repos\Dataconnections\Prod\gis - Imagery.sde\Imagery.GIS.ELEV_DEM_2018" RasterDataset</Process>
</lineage>
</DataProperties>
<SyncDate>20230202</SyncDate>
<SyncTime>11462000</SyncTime>
<ModDate>20230202</ModDate>
<ModTime>11462000</ModTime>
<scaleRange>
<minScale>150000000</minScale>
<maxScale>5000</maxScale>
</scaleRange>
<ArcGISProfile>ISO19139</ArcGISProfile>
</Esri>
<mdFileID>5ADE6DEF-9C1E-4806-A06F-1ABB31A1FBC0</mdFileID>
<mdLang>
<languageCode value="eng"/>
<countryCode Sync="TRUE" value="USA"/>
</mdLang>
<mdChar>
<CharSetCd value="004"/>
</mdChar>
<mdHrLv>
<ScopeCd value="005"/>
</mdHrLv>
<mdHrLvName>dataset</mdHrLvName>
<mdContact>
<rpIndName>Matt Lamborn</rpIndName>
<rpOrgName>County of Napa Planning, Building, and Environmental Services Department.</rpOrgName>
<rpPosName>GIS Departmental Coordinator</rpPosName>
<rpCntInfo>
<cntPhone>
<voiceNum>(707) 265-2326</voiceNum>
</cntPhone>
<cntAddress>
<delPoint>1195 Third Street, Suite 210</delPoint>
<city>Napa</city>
<adminArea>CA</adminArea>
<postCode>94559</postCode>
<eMailAdd>matt.lamborn@countyofnapa.org</eMailAdd>
</cntAddress>
</rpCntInfo>
<role>
<RoleCd value="009"/>
</role>
</mdContact>
<mdDateSt>20230127</mdDateSt>
<mdStanName>ArcGIS Metadata</mdStanName>
<mdStanVer>1.0</mdStanVer>
<distInfo>
<distFormat>
<formatName>File Geodatabase</formatName>
<formatVer>mixed</formatVer>
</distFormat>
</distInfo>
<dataIdInfo>
<idCitation>
<resTitle>ELEV_DEM_2018</resTitle>
<resAltTitle>Imagery.GIS.ELEV_DEM_2018</resAltTitle>
<date>
<createDate>2022-08-09</createDate>
</date>
<citRespParty>
<rpIndName>Matt Lamborn</rpIndName>
<rpOrgName>County of Napa Planning, Building, and Environmental Services Department.</rpOrgName>
<rpPosName>GIS Departmental Coordinator</rpPosName>
<rpCntInfo>
<cntPhone>
<voiceNum>(707) 265-2326</voiceNum>
</cntPhone>
<cntAddress>
<delPoint>1195 Third Street, Suite 210</delPoint>
<city>Napa</city>
<adminArea>CA</adminArea>
<postCode>94559</postCode>
<eMailAdd>matt.lamborn@countyofnapa.org</eMailAdd>
</cntAddress>
</rpCntInfo>
<role>
<RoleCd value="009"/>
</role>
</citRespParty>
<presForm>
<PresFormCd value="011"/>
</presForm>
</idCitation>
<idAbs/>
<idPurp>Napa County Elevation Layer 2018</idPurp>
<idCredit/>
<idPoC>
<rpIndName>Matt Lamborn</rpIndName>
<rpOrgName>County of Napa Planning, Building, and Environmental Services Department.</rpOrgName>
<rpPosName>GIS Departmental Coordinator</rpPosName>
<rpCntInfo>
<cntPhone>
<voiceNum>(707) 265-2326</voiceNum>
</cntPhone>
<cntAddress>
<delPoint>1195 Third Street, Suite 210</delPoint>
<city>Napa</city>
<adminArea>CA</adminArea>
<postCode>94559</postCode>
<eMailAdd>matt.lamborn@countyofnapa.org</eMailAdd>
</cntAddress>
</rpCntInfo>
<role>
<RoleCd value="009"/>
</role>
</idPoC>
<resMaint>
<maintFreq>
<MaintFreqCd value="009"/>
</maintFreq>
</resMaint>
<placeKeys>
<keyword>Napa County,Napa,California</keyword>
</placeKeys>
<themeKeys>
<keyword>contours,elevation,2 ft.,2-ft.,2-foot</keyword>
</themeKeys>
<searchKeys>
<keyword>Napa County</keyword>
<keyword>Elevation</keyword>
<keyword>DEM</keyword>
</searchKeys>
<resConst>
<Consts>
<useLimit/>
</Consts>
</resConst>
<spatRpType>
<SpatRepTypCd value="002"/>
</spatRpType>
<dataLang>
<languageCode value="eng"/>
<countryCode Sync="TRUE" value="USA"/>
</dataLang>
<dataChar>
<CharSetCd value="004"/>
</dataChar>
<envirDesc> Version 6.2 (Build 9200) ; Esri ArcGIS 10.8.1.14362</envirDesc>
<dataExt>
<geoEle>
<GeoBndBox>
<exTypeCode>true</exTypeCode>
<westBL>-122.649116</westBL>
<eastBL>-122.054061</eastBL>
<southBL>38.151203</southBL>
<northBL>38.865484</northBL>
</GeoBndBox>
</geoEle>
</dataExt>
<dataExt>
<geoEle>
<GeoBndBox esriExtentType="search">
<exTypeCode Sync="TRUE">1</exTypeCode>
<westBL Sync="TRUE">-122.655612</westBL>
<eastBL Sync="TRUE">-122.053515</eastBL>
<northBL Sync="TRUE">38.867264</northBL>
<southBL Sync="TRUE">38.150510</southBL>
</GeoBndBox>
</geoEle>
</dataExt>
<tpCat>
<TopicCatCd value="006"/>
</tpCat>
</dataIdInfo>
<mdMaint>
<maintFreq>
<MaintFreqCd value="009"/>
</maintFreq>
</mdMaint>
<dqInfo>
<dqScope>
<scpLvl>
<ScopeCd value="005"/>
</scpLvl>
</dqScope>
<dataLineage>
<statement>The data used to generate this DEM came mainly from the USGS 3DEP program, whose lidar was flown in 2018 in response to the 2017 wildfires in Northern CA. Holes in coverage existed in a few small areas along the county's western boundary. These were supplemented by lidar-derived DEMs from surrounding Sonoma and Lake Counties. All DEMs had matching 1-meter resolution.
Main DEM Source:
- U.S. Geological Survey 3D Elevation Program (3DEP), 2018 (QL [Quality Level] 2, USGS Lidar Base Specification 1.2)
Supplemental DEM Sources:
- U.S. Geological Survey 3D Elevation Program (3DEP), 2015 (QL [Quality Level] 2, USGS Lidar Base Specification 1.2)
- NASA Grant NNX13AP69G, the University of Maryland, and the Sonoma Vegetation Mapping and LiDAR Program, 2013 (QL [Quality Level] 2, USGS Lidar Base Specification 1.0)
DEM TILES USED TO GENERATE COUNTYWIDE TOPO:
USGS_1m_x53y427_CA_NoCAL_Wildfires_B5b_2018.tif
USGS_1m_x53y428_CA_NoCAL_Wildfires_B5b_2018.tif
USGS_1m_x53y429_CA_NoCAL_Wildfires_B5b_2018.tif
USGS_1m_x54y425_CA_NoCAL_Wildfires_B5b_2018.tif
USGS_1m_x54y426_CA_NoCAL_Wildfires_B5b_2018.tif
USGS_1m_x54y427_CA_NoCAL_Wildfires_B5b_2018.tif
USGS_1m_x54y428_CA_NoCAL_Wildfires_B5b_2018.tif
USGS_1m_x54y429_CA_NoCAL_Wildfires_B5b_2018.tif
USGS_1m_x54y430_CA_NoCAL_Wildfires_B5b_2018.tif
USGS_1m_x55y422_CA_NoCAL_Wildfires_B5b_2018.tif
USGS_1m_x55y423_CA_NoCAL_Wildfires_B5b_2018.tif
USGS_1m_x55y424_CA_NoCAL_Wildfires_B5b_2018.tif
USGS_1m_x55y425_CA_NoCAL_Wildfires_B5b_2018.tif
USGS_1m_x55y426_CA_NoCAL_Wildfires_B5b_2018.tif
USGS_1m_x55y427_CA_NoCAL_Wildfires_B5b_2018.tif
USGS_1m_x55y428_CA_NoCAL_Wildfires_B5b_2018.tif
USGS_1m_x55y429_CA_NoCAL_Wildfires_B2_2018.tif
USGS_1m_x55y429_CA_NoCAL_Wildfires_B5b_2018.tif
USGS_1m_x55y430_CA_NoCAL_Wildfires_B2_2018.tif
USGS_1m_x55y430_CA_NoCAL_Wildfires_B5b_2018.tif
USGS_1m_x55y431_CA_NoCAL_Wildfires_B2_2018.tif
USGS_1m_x56y423_CA_NoCAL_Wildfires_B5b_2018.tif
USGS_1m_x56y424_CA_NoCAL_Wildfires_B5b_2018.tif
USGS_1m_x56y425_CA_NoCAL_Wildfires_B5b_2018.tif
USGS_1m_x56y426_CA_NoCAL_Wildfires_B5b_2018.tif
USGS_1m_x56y427_CA_NoCAL_Wildfires_B5b_2018.tif
USGS_1m_x56y428_CA_NoCAL_Wildfires_B5b_2018.tif
USGS_1m_x56y429_CA_NoCAL_Wildfires_B2_2018.tif
USGS_1m_x56y429_CA_NoCAL_Wildfires_B5b_2018.tif
USGS_1m_x56y430_CA_NoCAL_Wildfires_B2_2018.tif
USGS_1m_x57y423_CA_NoCAL_Wildfires_B5b_2018.tif
USGS_1m_x57y424_CA_NoCAL_Wildfires_B5b_2018.tif
USGS_1m_x57y425_CA_NoCAL_Wildfires_B5b_2018.tif
USGS_1m_x57y426_CA_NoCAL_Wildfires_B5b_2018.tif
USGS_1m_x57y427_CA_NoCAL_Wildfires_B5b_2018.tif
USGS_1m_x57y428_CA_NoCAL_Wildfires_B5b_2018.tif
USGS_1m_x57y429_CA_NoCAL_Wildfires_B5b_2018.tif
USGS_1m_x58y425_CA_NoCAL_Wildfires_B5b_2018.tif
- USGS_one_meter_x55y423_CA_Sonoma_A4_2013.tif *
- USGS_one_meter_x55y424_CA_Sonoma_A4_2013.tif *
- USGS_one_meter_x55y430_CA_LakeCounty_2015.tif *
* used as supplemental elevation source to fill in gaps in 3DEP coverage in spots along western edge of Napa Co. boundary.
</statement>
<prcStep>
<stepDesc>INITIAL RASTER PREP:
-------------------------------------------------------
Downloaded DEMs from the LiDAR Explorer site:
https://apps.nationalmap.gov/lidar-explorer/#/
Using QGIS work environment, all DEMs were merged into a mosaiced DEM using their native UTM 10 (EPGS:26910) projection.
Converted elevation storage from meters to feet via raster calculation (raster * 3.280839895).
Reprojected to NAD83 / California zone 2 (ft US) (EPSG:2226) and clipped to the Napa County boundary (buffered by 100ft).
</stepDesc>
<stepRat>Get DEMs into one spot for further processing / topo generation.</stepRat>
<stepDateTm>2022-07-05T00:00:00</stepDateTm>
<stepProc>
<rpIndName>Matt Lamborn</rpIndName>
<rpOrgName>County of Napa Planning, Building, and Environmental Services Department.</rpOrgName>
<rpPosName>GIS Departmental Coordinator</rpPosName>
<rpCntInfo>
<cntPhone>
<voiceNum>(707) 265-2326</voiceNum>
</cntPhone>
<cntAddress>
<delPoint>1195 Third Street, Suite 210</delPoint>
<city>Napa</city>
<adminArea>CA</adminArea>
<postCode>94559</postCode>
<eMailAdd>matt.lamborn@countyofnapa.org</eMailAdd>
</cntAddress>
</rpCntInfo>
<role>
<RoleCd value="009"/>
</role>
</stepProc>
</prcStep>
</dataLineage>
</dqInfo>
<spatRepInfo>
<VectSpatRep>
<topLvl>
<TopoLevCd value="001"/>
</topLvl>
<geometObjs>
<geoObjTyp>
<GeoObjTypCd value="002"/>
</geoObjTyp>
</geometObjs>
</VectSpatRep>
</spatRepInfo>
<refSysInfo>
<RefSystem>
<refSysID>
<identCode code="2226 (NAD_1983_StatePlane_California_II_FIPS_0402_Feet)"/>
<idCodeSpace>EPSG</idCodeSpace>
<identVrsn>7.8.2(3.0.1)</identVrsn>
<idVersion Sync="TRUE">5.3(9.0.0)</idVersion>
</refSysID>
</RefSystem>
</refSysInfo>
<spdoinfo>
<rastinfo>
<rasttype Sync="TRUE">Pixel</rasttype>
<rowcount Sync="TRUE">79360</rowcount>
<colcount Sync="TRUE">52205</colcount>
<rastxsz Sync="TRUE">3.280833</rastxsz>
<rastysz Sync="TRUE">3.280833</rastysz>
<rastbpp Sync="TRUE">32</rastbpp>
<vrtcount Sync="TRUE">1</vrtcount>
<rastorig Sync="TRUE">Upper Left</rastorig>
<rastcmap Sync="TRUE">FALSE</rastcmap>
<rastcomp Sync="TRUE">LZ77</rastcomp>
<rastband Sync="TRUE">1</rastband>
<rastdtyp Sync="TRUE">pixel codes</rastdtyp>
<rastifor Sync="TRUE">SDR</rastifor>
<rastplyr Sync="TRUE">TRUE</rastplyr>
</rastinfo>
</spdoinfo>
<spref>
<horizsys>
<planar>
<planci>
<plance Sync="TRUE">row and column</plance>
<coordrep>
<absres Sync="TRUE">3.280833</absres>
<ordres Sync="TRUE">3.280833</ordres>
</coordrep>
</planci>
</planar>
</horizsys>
</spref>
</metadata>
