<?xml version="1.0" encoding="UTF-8" standalone="no"?>
<metadata xml:lang="en">
<Esri>
<MetaID>{43F47B96-0D35-4B2D-AACA-D10343EDB14E}</MetaID>
<CreaDate>20080219</CreaDate>
<CreaTime>13465300</CreaTime>
<SyncOnce>FALSE</SyncOnce>
<SyncDate>20161107</SyncDate>
<SyncTime>16344700</SyncTime>
<ModDate>20161107</ModDate>
<ModTime>16344700</ModTime>
<DataProperties>
<itemProps>
<itemName Sync="TRUE">imagery.GIS.SLOPE_2007</itemName>
<nativeExtBox>
<westBL Sync="TRUE">6376869.606020</westBL>
<eastBL Sync="TRUE">6544049.606020</eastBL>
<southBL Sync="TRUE">1818057.121896</southBL>
<northBL Sync="TRUE">2076827.121896</northBL>
<exTypeCode Sync="TRUE">1</exTypeCode>
</nativeExtBox>
<itemLocation>
<linkage Sync="TRUE">Server=gisdataprod00; Service=sde:sqlserver:gisdataprod00; Database=imagery; User=gis; Version=sde.DEFAULT</linkage>
<protocol Sync="TRUE">ArcSDE Connection</protocol>
</itemLocation>
<imsContentType Sync="TRUE">002</imsContentType>
</itemProps>
<coordRef>
<type Sync="TRUE">Projected</type>
<geogcsn Sync="TRUE">GCS_North_American_1983</geogcsn>
<projcsn Sync="TRUE">NAD_1983_StatePlane_California_II_FIPS_0402_Feet</projcsn>
<peXml Sync="TRUE">&lt;ProjectedCoordinateSystem xsi:type='typens:ProjectedCoordinateSystem' xmlns:xsi='http://www.w3.org/2001/XMLSchema-instance' xmlns:xs='http://www.w3.org/2001/XMLSchema' xmlns:typens='http://www.esri.com/schemas/ArcGIS/10.3'&gt;&lt;WKT&gt;PROJCS[&amp;quot;NAD_1983_StatePlane_California_II_FIPS_0402_Feet&amp;quot;,GEOGCS[&amp;quot;GCS_North_American_1983&amp;quot;,DATUM[&amp;quot;D_North_American_1983&amp;quot;,SPHEROID[&amp;quot;GRS_1980&amp;quot;,6378137.0,298.257222101]],PRIMEM[&amp;quot;Greenwich&amp;quot;,0.0],UNIT[&amp;quot;Degree&amp;quot;,0.0174532925199433]],PROJECTION[&amp;quot;Lambert_Conformal_Conic&amp;quot;],PARAMETER[&amp;quot;False_Easting&amp;quot;,6561666.666666666],PARAMETER[&amp;quot;False_Northing&amp;quot;,1640416.666666667],PARAMETER[&amp;quot;Central_Meridian&amp;quot;,-122.0],PARAMETER[&amp;quot;Standard_Parallel_1&amp;quot;,38.33333333333334],PARAMETER[&amp;quot;Standard_Parallel_2&amp;quot;,39.83333333333334],PARAMETER[&amp;quot;Latitude_Of_Origin&amp;quot;,37.66666666666666],UNIT[&amp;quot;Foot_US&amp;quot;,0.3048006096012192],AUTHORITY[&amp;quot;EPSG&amp;quot;,2226]]&lt;/WKT&gt;&lt;XOrigin&gt;-115211800&lt;/XOrigin&gt;&lt;YOrigin&gt;-93821500&lt;/YOrigin&gt;&lt;XYScale&gt;36983428.057351544&lt;/XYScale&gt;&lt;ZOrigin&gt;0&lt;/ZOrigin&gt;&lt;ZScale&gt;100000&lt;/ZScale&gt;&lt;MOrigin&gt;0&lt;/MOrigin&gt;&lt;MScale&gt;100000&lt;/MScale&gt;&lt;XYTolerance&gt;0.0032808333333333331&lt;/XYTolerance&gt;&lt;ZTolerance&gt;2.0000000000000002e-005&lt;/ZTolerance&gt;&lt;MTolerance&gt;2.0000000000000002e-005&lt;/MTolerance&gt;&lt;HighPrecision&gt;true&lt;/HighPrecision&gt;&lt;WKID&gt;102642&lt;/WKID&gt;&lt;LatestWKID&gt;2226&lt;/LatestWKID&gt;&lt;/ProjectedCoordinateSystem&gt;</peXml>
<csUnits Sync="TRUE">Linear Unit: Foot_US (0.304801)</csUnits>
</coordRef>
</DataProperties>
<ArcGISFormat>1.0</ArcGISFormat>
<scaleRange>
<minScale>50000</minScale>
<maxScale>5000</maxScale>
</scaleRange>
</Esri>
<idinfo>
<native Sync="TRUE">Microsoft Windows 2000 Version 5.2 (Build 3790) Service Pack 2; ESRI ArcCatalog 9.3.1.3000</native>
<descript>
<langdata Sync="TRUE">en</langdata>
<abstract>Map depicting slope of Napa County. This data is derived from the Digital Terrain Model files produced during the 2002/2003 Orthophotography Project which was resampled for the 2007 Project. Originally these points were created in two scales - the Napa Watershed was 1" = 200ft and the remainder of the County was 1" = 400ft. For the 2007 Project the 400ft scaled points were re-sampled to the 200ft scale. Addionally, updates were made where applicable to any of the data.</abstract>
<purpose>This coverage was created to show slope of Napa County. The purpose of this layer is to assist the County of Napa in the management and analysis of this area.</purpose>
</descript>
<citation>
<citeinfo>
<origin>Mapcon Mapping Inc.; Kevin Woolf, Project Manager</origin>
<pubdate>20080215</pubdate>
<title>Slope derived from 2007 Ortho data.</title>
<ftname Sync="TRUE">imagery.GIS.SLOPE_2007</ftname>
<geoform Sync="TRUE">SDE raster digital data</geoform>
<onlink>http://gis.napa.ca.gov/giscatalog/catalog.asp</onlink>
</citeinfo>
</citation>
<timeperd>
<current>ground condition</current>
<timeinfo>
<sngdate>
<caldate>20080215</caldate>
</sngdate>
</timeinfo>
</timeperd>
<status>
<progress>Complete</progress>
<update>None planned</update>
</status>
<spdom>
<bounding>
<westbc Sync="TRUE">-122.649028</westbc>
<eastbc Sync="TRUE">-122.061262</eastbc>
<northbc Sync="TRUE">38.864955</northbc>
<southbc Sync="TRUE">38.152626</southbc>
</bounding>
<lboundng>
<leftbc Sync="TRUE">6376869.606020</leftbc>
<rightbc Sync="TRUE">6544049.606020</rightbc>
<bottombc Sync="TRUE">1818057.121896</bottombc>
<topbc Sync="TRUE">2076827.121896</topbc>
</lboundng>
</spdom>
<keywords>
<theme>
<themekt>ISO 19115 Topic Category</themekt>
<themekey>elevation</themekey>
<themekey>imageryBaseMapsEarthCover</themekey>
</theme>
<theme>
<themekey>Slope</themekey>
<themekey>Digital Elevation Model</themekey>
<themekey>DEM</themekey>
<themekt>none</themekt>
</theme>
<place>
<placekey>Napa</placekey>
<placekey>Napa County</placekey>
<placekt>Geographic Names Information System</placekt>
<placekey>California</placekey>
</place>
</keywords>
<accconst>Access to this data is limited to County of Napa and partner agencies only. Data is not available for download yet.
</accconst>
<useconst>Disclaimer: This GIS data is intended to provide a visual display of data for the user's convenience. Users of this data are hereby notified that the appropriate public primary information sources should be consulted for verification of the information. Although every reasonable effort has been made to assure the accuracy of this data, the County of Napa makes no warranty, representation or guaranty as to the content, sequence, accuracy, timeliness or completeness of any of the data provided herein and explicitly disclaims any representations and warranties, including, without limitation, the implied warranties of merchantability and fitness for a particular purpose. The County of Napa assumes no liability for any errors, omissions, or inaccuracies in the information provided regardless of how caused and assumes no liability for any decisions made or actions taken or not taken by the user of the data in reliance upon any information or data furnished hereunder. Because the GIS data provided is not warranted to be up-to-date, the user should check with the County staff for updated information.</useconst>
<natvform Sync="TRUE">SDE Raster Dataset</natvform>
<ptcontac>
<cntinfo>
<cntorgp>
<cntorg>County of Napa ITS Department</cntorg>
</cntorgp>
<cntpos>GIS Coordinator</cntpos>
<cntaddr>
<addrtype>mailing and physical address</addrtype>
<address>650 Imperial Way, Suite 201</address>
<city>Napa</city>
<state>CA</state>
<postal>94559</postal>
<country>USA</country>
</cntaddr>
<cntvoice>(707) 259-8141</cntvoice>
<cntfax>(707) 253-4824</cntfax>
<cntemail>gisstaff@co.napa.ca.us</cntemail>
<hours>M-F 8:00 am - 5:00 pm</hours>
</cntinfo>
</ptcontac>
</idinfo>
<metainfo>
<langmeta Sync="TRUE">en</langmeta>
<metstdn Sync="TRUE">FGDC Content Standards for Digital Geospatial Metadata</metstdn>
<metstdv Sync="TRUE">FGDC-STD-001-1998</metstdv>
<mettc Sync="TRUE">local time</mettc>
<metc>
<cntinfo>
<cntorgp>
<cntorg>County of Napa ITS Department</cntorg>
</cntorgp>
<cntaddr>
<addrtype>mailing and physical address</addrtype>
<city>Napa</city>
<state>CA</state>
<postal>94559</postal>
<address>650 Imperial Way, Suite 201</address>
<country>USA</country>
</cntaddr>
<cntvoice>(707) 259-8141</cntvoice>
<cntpos>GIS Coordinator</cntpos>
<cntfax>(707) 253-4824</cntfax>
<cntemail>gisstaff@co.napa.ca.us</cntemail>
<hours>M-F 8:00 am - 5:00 pm</hours>
</cntinfo>
</metc>
<metd Sync="TRUE">20110404</metd>
</metainfo>
<distinfo>
<resdesc Sync="TRUE">Downloadable Data</resdesc>
<distrib>
<cntinfo>
<cntorgp>
<cntorg>County of Napa ITS Department</cntorg>
</cntorgp>
<cntpos>GIS Coordinator</cntpos>
<cntaddr>
<addrtype>mailing and physical address</addrtype>
<address>650 Imperial Way, Suite 201</address>
<city>Napa</city>
<state>CA</state>
<postal>94559</postal>
<country>USA</country>
</cntaddr>
<cntvoice>(707) 259-8141</cntvoice>
<cntfax>(707) 253-4824</cntfax>
<cntemail>gisstaff@co.napa.ca.us</cntemail>
<hours>M-F 8:00 am - 5:00 pm</hours>
</cntinfo>
</distrib>
<distliab>Disclaimer: This GIS data is intended to provide a visual display of data for the user's convenience. Users of this data are hereby notified that the appropriate public primary information sources should be consulted for verification of the information. Although every reasonable effort has been made to assure the accuracy of this data, the County of Napa makes no warranty, representation or guaranty as to the content, sequence, accuracy, timeliness or completeness of any of the data provided herein and explicitly disclaims any representations and warranties, including, without limitation, the implied warranties of merchantability and fitness for a particular purpose. The County of Napa assumes no liability for any errors, omissions, or inaccuracies in the information provided regardless of how caused and assumes no liability for any decisions made or actions taken or not taken by the user of the data in reliance upon any information or data furnished hereunder. Because the GIS data provided is not warranted to be up-to-date, the user should check with the County staff for updated information.</distliab>
<custom>Go to website http://gis.napa.ca.gov/gisdata.asp. to request CD by mail for an additional fee.</custom>
</distinfo>
<spdoinfo>
<direct Sync="TRUE">Raster</direct>
<rastinfo>
<rasttype Sync="TRUE">Pixel</rasttype>
<rowcount Sync="TRUE">25877</rowcount>
<colcount Sync="TRUE">16718</colcount>
<rastxsz Sync="TRUE">10.000000</rastxsz>
<rastysz Sync="TRUE">10.000000</rastysz>
<rastbpp Sync="TRUE">32</rastbpp>
<vrtcount Sync="TRUE">1</vrtcount>
<rastorig Sync="TRUE">Upper Left</rastorig>
<rastcmap Sync="TRUE">FALSE</rastcmap>
<rastcomp Sync="TRUE">LZ77</rastcomp>
<rastband Sync="TRUE">1</rastband>
<rastdtyp Sync="TRUE">pixel codes</rastdtyp>
<rastifor Sync="TRUE">SDR</rastifor>
<rastplyr Sync="TRUE">TRUE</rastplyr>
</rastinfo>
</spdoinfo>
<spref>
<horizsys>
<cordsysn>
<geogcsn Sync="TRUE">GCS_North_American_1983</geogcsn>
<projcsn Sync="TRUE">NAD_1983_StatePlane_California_II_FIPS_0402_Feet</projcsn>
</cordsysn>
<planar>
<planci>
<plance Sync="TRUE">row and column</plance>
<plandu Sync="TRUE">survey feet</plandu>
<coordrep>
<absres Sync="TRUE">10.000000</absres>
<ordres Sync="TRUE">10.000000</ordres>
</coordrep>
</planci>
</planar>
<geodetic>
<horizdn Sync="TRUE">North American Datum of 1983</horizdn>
<ellips Sync="TRUE">Geodetic Reference System 80</ellips>
<semiaxis Sync="TRUE">6378137.000000</semiaxis>
<denflat Sync="TRUE">298.257222</denflat>
</geodetic>
</horizsys>
<vertdef>
<altsys>
<altenc Sync="TRUE">Explicit elevation coordinate included with horizontal coordinates</altenc>
<altres Sync="TRUE">0.000010</altres>
</altsys>
</vertdef>
</spref>
<dataqual>
<complete>This metadata file is intended to provide general information related to the production of the project mapping deliverables. Additional details may be available in the reports cited and by contacting the data provider point of contact.</complete>
<lineage>
<srcinfo>
<srcscale>2400</srcscale>
<typesrc>DMC-Digital Camera</typesrc>
<srccitea>Mapcon Mapping Inc.</srccitea>
<srccontr>Aerial photography acquired for the Napa County 2007 Orthophotography Project.</srccontr>
</srcinfo>
<procstep>
<procdesc>This layer was created by building a Natural Neighbor elevation model using the mass points shapefiles with 3D Analyst. 3D Analyst was then used to convert the slope grid to an aspect grid.</procdesc>
<procdate>20080215</procdate>
</procstep>
</lineage>
</dataqual>
<eainfo>
<detailed>
<enttyp>
<enttypl>Slope 2007</enttypl>
<enttypd>Slope derived from 2007 Ortho Project</enttypd>
<enttypds>Dataset developer</enttypds>
</enttyp>
</detailed>
</eainfo>
<mdLang>
<languageCode value="eng"/>
<countryCode Sync="TRUE" value="USA"/>
</mdLang>
<mdChar>
<CharSetCd value="004"/>
</mdChar>
<mdHrLv>
<ScopeCd value="005"/>
</mdHrLv>
<mdContact>
<rpOrgName>County of Napa ITS Department</rpOrgName>
<rpPosName>GIS Coordinator</rpPosName>
<rpCntInfo>
<cntPhone>
<voiceNum>(707) 259-8141</voiceNum>
<faxNum>(707) 253-4824</faxNum>
</cntPhone>
<cntAddress addressType="both">
<delPoint>650 Imperial Way, Suite 201</delPoint>
<city>Napa</city>
<adminArea>CA</adminArea>
<postCode>94559</postCode>
<country>US</country>
<eMailAdd>gisstaff@co.napa.ca.us</eMailAdd>
</cntAddress>
<cntHours>M-F 8:00 am - 5:00 pm</cntHours>
</rpCntInfo>
<role>
<RoleCd value="007"/>
</role>
</mdContact>
<mdStanName>ArcGIS Metadata</mdStanName>
<mdStanVer>1.0</mdStanVer>
<distInfo>
<distributor>
<distorCont>
<rpOrgName>County of Napa ITS Department</rpOrgName>
<rpPosName>GIS Coordinator</rpPosName>
<rpCntInfo>
<cntPhone>
<voiceNum>(707) 259-8141</voiceNum>
<faxNum>(707) 253-4824</faxNum>
</cntPhone>
<cntAddress addressType="both">
<delPoint>650 Imperial Way, Suite 201</delPoint>
<city>Napa</city>
<adminArea>CA</adminArea>
<postCode>94559</postCode>
<country>US</country>
<eMailAdd>gisstaff@co.napa.ca.us</eMailAdd>
</cntAddress>
<cntHours>M-F 8:00 am - 5:00 pm</cntHours>
</rpCntInfo>
<role>
<RoleCd value="005"/>
</role>
</distorCont>
<distorOrdPrc>
<ordInstr>Go to website http://gis.napa.ca.gov/gisdata.asp. to request CD by mail for an additional fee.</ordInstr>
</distorOrdPrc>
</distributor>
<distTranOps>
<onLineSrc>
<linkage>http://gis.napa.ca.gov/giscatalog/catalog.asp</linkage>
</onLineSrc>
</distTranOps>
<distFormat>
<formatName Sync="TRUE">SDE Raster Dataset</formatName>
</distFormat>
</distInfo>
<dataIdInfo>
<idCitation>
<resTitle>imagery_GIS_SLOPE_2007</resTitle>
<date>
<pubDate>2008-02-15</pubDate>
</date>
<citRespParty>
<rpOrgName>Mapcon Mapping Inc.; Kevin Woolf, Project Manager</rpOrgName>
<role>
<RoleCd value="006"/>
</role>
</citRespParty>
<presForm>
<PresFormCd Sync="TRUE" value="011"/>
</presForm>
</idCitation>
<idAbs>Map depicting slope of Napa County. This data is derived from the Digital Terrain Model files produced during the 2002/2003 Orthophotography Project which was resampled for the 2007 Project. Originally these points were created in two scales - the Napa Watershed was 1" = 200ft and the remainder of the County was 1" = 400ft. For the 2007 Project the 400ft scaled points were re-sampled to the 200ft scale. Addionally, updates were made where applicable to any of the data.</idAbs>
<idPurp>This coverage was created to show slope of Napa County. The purpose of this layer is to assist the County of Napa in the management and analysis of this area.</idPurp>
<idStatus>
<ProgCd value="001"/>
</idStatus>
<idPoC>
<rpOrgName>County of Napa ITS Department</rpOrgName>
<rpPosName>GIS Coordinator</rpPosName>
<rpCntInfo>
<cntPhone>
<voiceNum>(707) 259-8141</voiceNum>
<faxNum>(707) 253-4824</faxNum>
</cntPhone>
<cntAddress addressType="both">
<delPoint>650 Imperial Way, Suite 201</delPoint>
<city>Napa</city>
<adminArea>CA</adminArea>
<postCode>94559</postCode>
<country>US</country>
<eMailAdd>gisstaff@co.napa.ca.us</eMailAdd>
</cntAddress>
<cntHours>M-F 8:00 am - 5:00 pm</cntHours>
</rpCntInfo>
<role>
<RoleCd value="007"/>
</role>
</idPoC>
<resMaint>
<maintFreq>
<MaintFreqCd value="011"/>
</maintFreq>
</resMaint>
<placeKeys>
<keyword>Napa</keyword>
<keyword>California</keyword>
<keyword>Napa County</keyword>
<thesaName>
<resTitle>Geographic Names Information System</resTitle>
</thesaName>
</placeKeys>
<themeKeys>
<keyword>imageryBaseMapsEarthCover</keyword>
<keyword>elevation</keyword>
<thesaName>
<resTitle>ISO 19115 Topic Category</resTitle>
</thesaName>
</themeKeys>
<themeKeys>
<keyword>Slope</keyword>
<keyword>Digital Elevation Model</keyword>
<keyword>DEM</keyword>
</themeKeys>
<searchKeys>
<keyword>Napa</keyword>
<keyword>California</keyword>
<keyword>imageryBaseMapsEarthCover</keyword>
<keyword>Napa County</keyword>
<keyword>elevation</keyword>
<keyword>Slope</keyword>
<keyword>Digital Elevation Model</keyword>
<keyword>DEM</keyword>
</searchKeys>
<resConst>
<LegConsts>
<useLimit>Disclaimer: This GIS data is intended to provide a visual display of data for the user's convenience. Users of this data are hereby notified that the appropriate public primary information sources should be consulted for verification of the information. Although every reasonable effort has been made to assure the accuracy of this data, the County of Napa makes no warranty, representation or guaranty as to the content, sequence, accuracy, timeliness or completeness of any of the data provided herein and explicitly disclaims any representations and warranties, including, without limitation, the implied warranties of merchantability and fitness for a particular purpose. The County of Napa assumes no liability for any errors, omissions, or inaccuracies in the information provided regardless of how caused and assumes no liability for any decisions made or actions taken or not taken by the user of the data in reliance upon any information or data furnished hereunder. Because the GIS data provided is not warranted to be up-to-date, the user should check with the County staff for updated information.</useLimit>
<othConsts>Access to this data is limited to County of Napa and partner agencies only. Data is not available for download yet.</othConsts>
</LegConsts>
</resConst>
<resConst>
<Consts>
<useLimit>Disclaimer: This GIS data is intended to provide a visual display of data for the user's convenience. Users of this data are hereby notified that the appropriate public primary information sources should be consulted for verification of the information. Although every reasonable effort has been made to assure the accuracy of this data, the County of Napa makes no warranty, representation or guaranty as to the content, sequence, accuracy, timeliness or completeness of any of the data provided herein and explicitly disclaims any representations and warranties, including, without limitation, the implied warranties of merchantability and fitness for a particular purpose. The County of Napa assumes no liability for any errors, omissions, or inaccuracies in the information provided regardless of how caused and assumes no liability for any decisions made or actions taken or not taken by the user of the data in reliance upon any information or data furnished hereunder. Because the GIS data provided is not warranted to be up-to-date, the user should check with the County staff for updated information.</useLimit>
</Consts>
</resConst>
<dataLang>
<languageCode value="eng"/>
<countryCode Sync="TRUE" value="USA"/>
</dataLang>
<tpCat>
<TopicCatCd value="010"/>
</tpCat>
<tpCat>
<TopicCatCd value="006"/>
</tpCat>
<dataExt>
<exDesc>ground condition</exDesc>
<tempEle>
<TempExtent>
<exTemp>
<TM_Instant>
<tmPosition>2008-02-15</tmPosition>
</TM_Instant>
</exTemp>
</TempExtent>
</tempEle>
<geoEle/>
</dataExt>
<envirDesc Sync="TRUE">Microsoft Windows 7 Version 6.1 (Build 7601) Service Pack 1; Esri ArcGIS 10.3.1.4959</envirDesc>
<spatRpType>
<SpatRepTypCd Sync="TRUE" value="002"/>
</spatRpType>
<dataExt>
<geoEle>
<GeoBndBox esriExtentType="search">
<exTypeCode Sync="TRUE">1</exTypeCode>
<westBL Sync="TRUE">-122.649028</westBL>
<eastBL Sync="TRUE">-122.061262</eastBL>
<northBL Sync="TRUE">38.864955</northBL>
<southBL Sync="TRUE">38.152626</southBL>
</GeoBndBox>
</geoEle>
</dataExt>
<idCredit/>
</dataIdInfo>
<dqInfo>
<dqScope>
<scpLvl>
<ScopeCd value="005"/>
</scpLvl>
</dqScope>
<report type="DQCompOm">
<measDesc>This metadata file is intended to provide general information related to the production of the project mapping deliverables. Additional details may be available in the reports cited and by contacting the data provider point of contact.</measDesc>
</report>
<dataLineage>
<prcStep>
<stepDesc>This layer was created by building a Natural Neighbor elevation model using the mass points shapefiles with 3D Analyst. 3D Analyst was then used to convert the slope grid to an aspect grid.</stepDesc>
<stepDateTm>2008-02-15</stepDateTm>
</prcStep>
<dataSource>
<srcDesc>Aerial photography acquired for the Napa County 2007 Orthophotography Project.</srcDesc>
<srcScale>
<rfDenom>2400</rfDenom>
</srcScale>
</dataSource>
</dataLineage>
</dqInfo>
<mdHrLvName Sync="TRUE">dataset</mdHrLvName>
<refSysInfo>
<RefSystem>
<refSysID>
<identCode Sync="TRUE" code="2226"/>
<idCodeSpace Sync="TRUE">EPSG</idCodeSpace>
<idVersion Sync="TRUE">8.6.2</idVersion>
</refSysID>
</RefSystem>
</refSysInfo>
<mdDateSt Sync="TRUE">20161107</mdDateSt>
</metadata>
