{
 "currentVersion": 10.81,
 "serviceDescription": "OrthoImagery/imagery_GIS_IMG_NAPA_1940",
 "name": "OrthoImagery/imagery_GIS_IMG_NAPA_1940",
 "description": "",
 "extent": {
  "xmin": 6376468.189694781,
  "ymin": 1809956.7710660577,
  "xmax": 6502575.952293418,
  "ymax": 1991927.2595865966,
  "spatialReference": {
   "wkid": 102642,
   "latestWkid": 2226
  }
 },
 "initialExtent": {
  "xmin": 6376468.189694781,
  "ymin": 1809956.7710660577,
  "xmax": 6502575.952293418,
  "ymax": 1991927.2595865966,
  "spatialReference": {
   "wkid": 102642,
   "latestWkid": 2226
  }
 },
 "fullExtent": {
  "xmin": 6376468.189694781,
  "ymin": 1809956.7710660577,
  "xmax": 6502575.952293418,
  "ymax": 1991927.2595865966,
  "spatialReference": {
   "wkid": 102642,
   "latestWkid": 2226
  }
 },
 "pixelSizeX": 2.9919514721259697,
 "pixelSizeY": 2.9919514718931093,
 "datasetFormat": "SDR",
 "uncompressedSize": 7690506540,
 "blockWidth": 128,
 "blockHeight": 128,
 "compressionType": "LZ77",
 "bandNames": [
  "Band_1"
 ],
 "allowCopy": true,
 "allowAnalysis": true,
 "bandCount": 3,
 "noDataValue": 256,
 "noDataValues": [
  256,
  256,
  256
 ],
 "pixelType": "U8",
 "minPixelSize": 0,
 "maxPixelSize": 0,
 "copyrightText": "",
 "serviceDataType": "esriImageServiceDataTypeRGB",
 "serviceSourceType": "esriImageServiceSourceTypeDataset",
 "minValues": [],
 "maxValues": [],
 "meanValues": [],
 "stdvValues": [],
 "objectIdField": "",
 "fields": [],
 "capabilities": "Mensuration,Image,Metadata",
 "defaultMosaicMethod": "Center",
 "allowedMosaicMethods": "",
 "sortField": "",
 "sortValue": null,
 "sortAscending": true,
 "mosaicOperator": "First",
 "defaultCompressionQuality": 75,
 "defaultResamplingMethod": "Bilinear",
 "maxImageHeight": 4100,
 "maxImageWidth": 15000,
 "allowRasterFunction": true,
 "rasterFunctionInfos": [
  {
   "name": "None",
   "description": "",
   "help": ""
  }
 ],
 "rasterTypeInfos": [
  {
   "name": "Raster Dataset",
   "description": "Supports all ArcGIS Raster Datasets",
   "help": ""
  }
 ],
 "mensurationCapabilities": "Basic",
 "hasHistograms": false,
 "hasColormap": false,
 "hasRasterAttributeTable": false,
 "minScale": 0,
 "maxScale": 0,
 "exportTilesAllowed": false,
 "hasMultidimensions": false,
 "supportsStatistics": false,
 "supportsAdvancedQueries": false,
 "editFieldsInfo": null,
 "ownershipBasedAccessControlForRasters": null,
 "allowComputeTiePoints": false,
 "useStandardizedQueries": true,
 "advancedQueryCapabilities": {
  "useStandardizedQueries": true,
  "supportsStatistics": false,
  "supportsOrderBy": false,
  "supportsDistinct": false,
  "supportsPagination": false
 },
 "spatialReference": {
  "wkid": 102642,
  "latestWkid": 2226
 }
}
