<?xml version="1.0" encoding="UTF-8" standalone="no"?>
<metadata xml:lang="en">
<Esri>
<MetaID>{DA858888-02F6-42E4-9FBE-0AE83B0AF2AB}</MetaID>
<CreaDate>20071214</CreaDate>
<CreaTime>12060400</CreaTime>
<SyncOnce>FALSE</SyncOnce>
<SyncDate>20120806</SyncDate>
<SyncTime>08570300</SyncTime>
<ModDate>20120806</ModDate>
<ModTime>08570300</ModTime>
<DataProperties>
<itemProps>
<itemName Sync="TRUE">imagery.GIS.IMG_CNTY_93</itemName>
<imsContentType Sync="TRUE">002</imsContentType>
<nativeExtBox>
<westBL Sync="TRUE">6346011.500000</westBL>
<eastBL Sync="TRUE">6544734.500000</eastBL>
<southBL Sync="TRUE">1806441.500000</southBL>
<northBL Sync="TRUE">2081832.500000</northBL>
<exTypeCode Sync="TRUE">1</exTypeCode>
</nativeExtBox>
<itemLocation>
<linkage Sync="TRUE">Server=gisdataprod00; Service=sde:sqlserver:gisdataprod00; Database=imagery; User=gis; Version=sde.DEFAULT</linkage>
<protocol Sync="TRUE">ArcSDE Connection</protocol>
</itemLocation>
</itemProps>
<coordRef>
<type Sync="TRUE">Projected</type>
<geogcsn Sync="TRUE">GCS_North_American_1983</geogcsn>
<projcsn Sync="TRUE">NAD_1983_StatePlane_California_II_FIPS_0402</projcsn>
<peXml Sync="TRUE">&lt;ProjectedCoordinateSystem xsi:type='typens:ProjectedCoordinateSystem' xmlns:xsi='http://www.w3.org/2001/XMLSchema-instance' xmlns:xs='http://www.w3.org/2001/XMLSchema' xmlns:typens='http://www.esri.com/schemas/ArcGIS/10.0'&gt;&lt;WKT&gt;PROJCS[&amp;quot;NAD_1983_StatePlane_California_II_FIPS_0402&amp;quot;,GEOGCS[&amp;quot;GCS_North_American_1983&amp;quot;,DATUM[&amp;quot;D_North_American_1983&amp;quot;,SPHEROID[&amp;quot;GRS_1980&amp;quot;,6378137.0,298.257222101]],PRIMEM[&amp;quot;Greenwich&amp;quot;,0.0],UNIT[&amp;quot;Degree&amp;quot;,0.0174532925199433]],PROJECTION[&amp;quot;Lambert_Conformal_Conic&amp;quot;],PARAMETER[&amp;quot;False_Easting&amp;quot;,6561666.666666666],PARAMETER[&amp;quot;False_Northing&amp;quot;,1640416.666666667],PARAMETER[&amp;quot;Central_Meridian&amp;quot;,-122.0],PARAMETER[&amp;quot;Standard_Parallel_1&amp;quot;,38.33333333333334],PARAMETER[&amp;quot;Standard_Parallel_2&amp;quot;,39.83333333333334],PARAMETER[&amp;quot;Latitude_Of_Origin&amp;quot;,37.66666666666666],UNIT[&amp;quot;Foot_US&amp;quot;,0.3048006096012192]]&lt;/WKT&gt;&lt;XOrigin&gt;-115211800&lt;/XOrigin&gt;&lt;YOrigin&gt;-93821500&lt;/YOrigin&gt;&lt;XYScale&gt;36983428.057351544&lt;/XYScale&gt;&lt;ZOrigin&gt;0&lt;/ZOrigin&gt;&lt;ZScale&gt;1&lt;/ZScale&gt;&lt;MOrigin&gt;0&lt;/MOrigin&gt;&lt;MScale&gt;1&lt;/MScale&gt;&lt;XYTolerance&gt;0.0032808333333333335&lt;/XYTolerance&gt;&lt;ZTolerance&gt;2&lt;/ZTolerance&gt;&lt;MTolerance&gt;2&lt;/MTolerance&gt;&lt;HighPrecision&gt;true&lt;/HighPrecision&gt;&lt;/ProjectedCoordinateSystem&gt;</peXml>
<csUnits Sync="TRUE">Linear Unit: Foot_US (0.304801)</csUnits>
</coordRef>
<lineage>
<Process Date="20170824" Time="162557" ToolSource="c:\program files (x86)\arcgis\desktop10.5\ArcToolbox\Toolboxes\Data Management Tools.tbx\ChangePrivileges">ChangePrivileges 'Database Connections\gis - imagery.sde\imagery.GIS.IMG_CNTY_00_SPOT';'Database Connections\gis - imagery.sde\imagery.GIS.IMG_CNTY_02';'Database Connections\gis - imagery.sde\imagery.GIS.IMG_CNTY_05';'Database Connections\gis - imagery.sde\imagery.GIS.IMG_CNTY_05_BRDR';'Database Connections\gis - imagery.sde\imagery.GIS.IMG_CNTY_07';'Database Connections\gis - imagery.sde\imagery.GIS.IMG_CNTY_07_6IN';'Database Connections\gis - imagery.sde\imagery.GIS.IMG_CNTY_09';'Database Connections\gis - imagery.sde\imagery.GIS.IMG_CNTY_11';'Database Connections\gis - imagery.sde\imagery.GIS.IMG_CNTY_11_6IN';'Database Connections\gis - imagery.sde\imagery.GIS.IMG_CNTY_14';'Database Connections\gis - imagery.sde\imagery.GIS.IMG_CNTY_93' view_role REVOKE REVOKE</Process>
</lineage>
</DataProperties>
</Esri>
<idinfo>
<native Sync="TRUE">Microsoft Windows 2000 Version 5.2 (Build 3790) Service Pack 2; ESRI ArcCatalog 9.2.2.1350</native>
<descript>
<langdata Sync="TRUE">en</langdata>
<abstract>Digital Orthophoto Quarter Quad Catalog. Source imagery is in ERDAS .lan format.</abstract>
<purpose>This data is used for the planning and management of Napa County by local government agencies.</purpose>
</descript>
<citation>
<citeinfo>
<origin>Vestra Resources Inc</origin>
<pubdate>19930601</pubdate>
<title>Digital Orthophoto Quarter Quad Catalog from 1993</title>
<ftname Sync="TRUE">imagery.GIS.IMG_CNTY_93</ftname>
<geoform Sync="TRUE">SDE raster digital data</geoform>
<onlink>http://gis.napa.ca.gov/giscatalog/catalog.asp</onlink>
</citeinfo>
</citation>
<timeperd>
<current>publication date</current>
<timeinfo>
<sngdate>
<caldate>19930601</caldate>
</sngdate>
</timeinfo>
</timeperd>
<status>
<progress>Complete</progress>
<update>None planned</update>
</status>
<spdom>
<bounding>
<westbc Sync="TRUE">-122.757547</westbc>
<eastbc Sync="TRUE">-122.058854</eastbc>
<northbc Sync="TRUE">38.878700</northbc>
<southbc Sync="TRUE">38.120084</southbc>
</bounding>
<lboundng>
<leftbc Sync="TRUE">6346011.500000</leftbc>
<rightbc Sync="TRUE">6544734.500000</rightbc>
<bottombc Sync="TRUE">1806441.500000</bottombc>
<topbc Sync="TRUE">2081832.500000</topbc>
</lboundng>
</spdom>
<keywords>
<theme>
<themekt>ISO 19115 Topic category</themekt>
<themekey>imageryBaseMapsEarthCover</themekey>
</theme>
<place>
<placekey>Napa</placekey>
<placekey>Napa County</placekey>
<placekt>Geographic Names Information System</placekt>
<placekey>California</placekey>
</place>
</keywords>
<accconst>None. Data is available from County of Napa by registering at website: http://gis.napa.ca.gov/giscatalog/catalog.asp</accconst>
<useconst>Disclaimer: This GIS data is intended to provide a visual display of data for the user's convenience. Users of this data are hereby notified that the appropriate public primary information sources should be consulted for verification of the information. Although every reasonable effort has been made to assure the accuracy of this data, the County of Napa makes no warranty, representation or guaranty as to the content, sequence, accuracy, timeliness or completeness of any of the data provided herein and explicitly disclaims any representations and warranties, including, without limitation, the implied warranties of merchantability and fitness for a particular purpose. The County of Napa assumes no liability for any errors, omissions, or inaccuracies in the information provided regardless of how caused and assumes no liability for any decisions made or actions taken or not taken by the user of the data in reliance upon any information or data furnished hereunder. Because the GIS data provided is not warranted to be up-to-date, the user should check with the County staff for updated information.</useconst>
<natvform Sync="TRUE">SDE Raster Dataset</natvform>
<ptcontac>
<cntinfo>
<cntorgp>
<cntorg>County of Napa ITS Department</cntorg>
</cntorgp>
<cntpos>GIS Coordinator</cntpos>
<cntaddr>
<addrtype>mailing and physical address</addrtype>
<address>650 Imperial Way, Suite 201</address>
<city>Napa</city>
<state>CA</state>
<postal>94559</postal>
<country>USA</country>
</cntaddr>
<cntvoice>(707) 259-8141</cntvoice>
<cntfax>(707) 253-4824</cntfax>
<cntemail>gisstaff@co.napa.ca.us</cntemail>
<hours>M-F 8:00 am - 5:00 pm</hours>
</cntinfo>
</ptcontac>
</idinfo>
<dataIdInfo>
<envirDesc Sync="TRUE">Microsoft Windows 7 Version 6.1 (Build 7601) Service Pack 1; ESRI ArcGIS 10.0.5.4400</envirDesc>
<dataLang>
<languageCode Sync="TRUE" country="US" value="eng"/>
<countryCode Sync="TRUE" value="USA"/>
</dataLang>
<idCitation>
<resTitle Sync="TRUE">IMG_CNTY_93</resTitle>
<presForm>
<PresFormCd Sync="TRUE" value="011"/>
</presForm>
</idCitation>
<spatRpType>
<SpatRepTypCd Sync="TRUE" value="002"/>
</spatRpType>
<dataExt>
<geoEle>
<GeoBndBox esriExtentType="search">
<westBL Sync="TRUE">-122.757547</westBL>
<eastBL Sync="TRUE">-122.058854</eastBL>
<northBL Sync="TRUE">38.878700</northBL>
<southBL Sync="TRUE">38.120084</southBL>
<exTypeCode Sync="TRUE">1</exTypeCode>
</GeoBndBox>
</geoEle>
</dataExt>
<geoBox esriExtentType="decdegrees">
<westBL Sync="TRUE">-122.757547</westBL>
<eastBL Sync="TRUE">-122.058854</eastBL>
<northBL Sync="TRUE">38.8787</northBL>
<southBL Sync="TRUE">38.120084</southBL>
<exTypeCode Sync="TRUE">1</exTypeCode>
</geoBox>
<descKeys>
<thesaName uuidref="723f6998-058e-11dc-8314-0800200c9a66"/>
<keyword Sync="TRUE">002</keyword>
</descKeys>
<idAbs/>
<searchKeys>
<keyword>OrthoImagery</keyword>
<keyword>Aerial</keyword>
</searchKeys>
<idPurp>imagery_GIS_IMG_CNTY_93</idPurp>
<idCredit/>
<resConst>
<Consts>
<useLimit/>
</Consts>
</resConst>
</dataIdInfo>
<metainfo>
<langmeta Sync="TRUE">en</langmeta>
<metstdn Sync="TRUE">FGDC Content Standards for Digital Geospatial Metadata</metstdn>
<metstdv Sync="TRUE">FGDC-STD-001-1998</metstdv>
<mettc Sync="TRUE">local time</mettc>
<metc>
<cntinfo>
<cntorgp>
<cntorg>County of Napa ITS Department</cntorg>
</cntorgp>
<cntaddr>
<addrtype>mailing and physical address</addrtype>
<city>Napa</city>
<state>CA</state>
<postal>94559</postal>
<address>650 Imperial Way #201</address>
<country>USA</country>
</cntaddr>
<cntvoice>(707) 259-8141</cntvoice>
<cntpos>GIS Coordinator</cntpos>
<cntfax>(707) 253-4824</cntfax>
<cntemail>gisstaff@co.napa.ca.us</cntemail>
<hours>M-F 8:00 am - 5:00 pm</hours>
</cntinfo>
</metc>
<metd>20050208</metd>
<metrd>20040728</metrd>
</metainfo>
<mdLang>
<languageCode Sync="TRUE" value="eng"/>
<countryCode Sync="TRUE" value="USA"/>
</mdLang>
<mdStanName Sync="TRUE">ISO 19115 Geographic Information - Metadata</mdStanName>
<mdStanVer Sync="TRUE">DIS_ESRI1.0</mdStanVer>
<mdChar>
<CharSetCd Sync="TRUE" value="004"/>
</mdChar>
<mdHrLv>
<ScopeCd Sync="TRUE" value="005"/>
</mdHrLv>
<mdHrLvName Sync="TRUE">dataset</mdHrLvName>
<distinfo>
<distliab>Disclaimer: This GIS data is intended to provide a visual display of data for the user's convenience. Users of this data are hereby notified that the appropriate public primary information sources should be consulted for verification of the information. Although every reasonable effort has been made to assure the accuracy of this data, the County of Napa makes no warranty, representation or guaranty as to the content, sequence, accuracy, timeliness or completeness of any of the data provided herein and explicitly disclaims any representations and warranties, including, without limitation, the implied warranties of merchantability and fitness for a particular purpose. The County of Napa assumes no liability for any errors, omissions, or inaccuracies in the information provided regardless of how caused and assumes no liability for any decisions made or actions taken or not taken by the user of the data in reliance upon any information or data furnished hereunder. Because the GIS data provided is not warranted to be up-to-date, the user should check with the County staff for updated information.</distliab>
</distinfo>
<distInfo>
<distributor>
<distorTran>
<onLineSrc>
<orDesc Sync="TRUE">002</orDesc>
<linkage Sync="TRUE">Server=gisdata2; Service=sde:sqlserver:gisdata2; Database=imagery; User=gis; Version=sde.DEFAULT</linkage>
<protocol Sync="TRUE">ArcSDE Connection</protocol>
</onLineSrc>
</distorTran>
<distorFormat>
<formatName Sync="TRUE">SDE Raster Dataset</formatName>
</distorFormat>
</distributor>
<distFormat>
<formatName Sync="TRUE">SDE Raster Dataset</formatName>
</distFormat>
</distInfo>
<spdoinfo>
<direct Sync="TRUE">Raster</direct>
<rastinfo>
<rasttype Sync="TRUE">Pixel</rasttype>
<rowcount Sync="TRUE">91797</rowcount>
<colcount Sync="TRUE">66241</colcount>
<rastxsz Sync="TRUE">3.000000</rastxsz>
<rastysz Sync="TRUE">3.000000</rastysz>
<rastbpp Sync="TRUE">16</rastbpp>
<vrtcount Sync="TRUE">1</vrtcount>
<rastorig Sync="TRUE">Upper Left</rastorig>
<rastcmap Sync="TRUE">FALSE</rastcmap>
<rastcomp Sync="TRUE">NONE</rastcomp>
<rastband Sync="TRUE">1</rastband>
<rastdtyp Sync="TRUE">pixel codes</rastdtyp>
<rastifor Sync="TRUE">SDR</rastifor>
<rastplyr Sync="TRUE">TRUE</rastplyr>
</rastinfo>
</spdoinfo>
<spref>
<horizsys>
<cordsysn>
<geogcsn Sync="TRUE">GCS_North_American_1983</geogcsn>
<projcsn Sync="TRUE">NAD_1983_StatePlane_California_II_FIPS_0402</projcsn>
</cordsysn>
<planar>
<planci>
<plance Sync="TRUE">row and column</plance>
<plandu Sync="TRUE">survey feet</plandu>
<coordrep>
<absres Sync="TRUE">3.000000</absres>
<ordres Sync="TRUE">3.000000</ordres>
</coordrep>
</planci>
</planar>
<geodetic>
<horizdn Sync="TRUE">North American Datum of 1983</horizdn>
<ellips Sync="TRUE">Geodetic Reference System 80</ellips>
<semiaxis Sync="TRUE">6378137.000000</semiaxis>
<denflat Sync="TRUE">298.257222</denflat>
</geodetic>
</horizsys>
<vertdef>
<altsys>
<altenc Sync="TRUE">Explicit elevation coordinate included with horizontal coordinates</altenc>
<altres Sync="TRUE">1.000000</altres>
</altsys>
</vertdef>
</spref>
<refSysInfo>
<RefSystem>
<refSysID>
<identCode Sync="TRUE" code="0" value="0">NAD_1983_StatePlane_California_II_FIPS_0402</identCode>
</refSysID>
</RefSystem>
</refSysInfo>
<mdDateSt Sync="TRUE">20120806</mdDateSt>
<dataqual>
<lineage>
<srcinfo>
<srccite>
<citeinfo>
<title>Digital Orthophoto Quarter Quad Catalog from 1993</title>
<origin>USGS</origin>
<pubdate>Unpublished Material</pubdate>
</citeinfo>
</srccite>
<srcscale>Unknown</srcscale>
<typesrc>ERDAS .lan</typesrc>
<srccitea>USGS</srccitea>
<srccontr>Digital Orthoquads</srccontr>
</srcinfo>
<procstep>
<procdesc>Projected to NAD83, Ca St Plane, Zone II Mosaiced by Vestra
MrSid versions created by Vestra</procdesc>
<procdate>20000513</procdate>
</procstep>
</lineage>
<logic>All DOQ header data and image file sizes are validated by the USGS by Tape Validation System (TVS) software prior to archiving in the National Digital Cartographic Data Base (NDCDB). This validation procedure assures correct physical format and field values for header record elements. Logical relationships between header record elements are tested.</logic>
<complete>All DOQ imagery is visually inspected by the USGS for completeness to ensure that no gaps, or image misplacement exist in the image area or in coveredge coverage. Images may be derived by mosaicing multiple images, in order to insure complete coverage. Source photography is leaf-off in deciduous vegetation regions. Void areas having a radiometric value of zero and appearing black may exist. These are areas for which no photographic source is available or result from image transformation from other planimetric systems to the Universal Transverse Mercator (UTM).</complete>
</dataqual>
<eainfo>
<detailed>
<enttyp>
<enttypl>IMG_CNTY_93</enttypl>
</enttyp>
</detailed>
</eainfo>
</metadata>
