<?xml version="1.0" encoding="UTF-8" standalone="no"?>
<metadata xml:lang="en">
<Esri>
<CreaDate>20190412</CreaDate>
<CreaTime>13555000</CreaTime>
<ArcGISFormat>1.0</ArcGISFormat>
<ArcGISProfile>ISO19139</ArcGISProfile>
<DataProperties>
<itemProps>
<imsContentType Sync="TRUE" export="False">002</imsContentType>
<itemName Sync="FALSE">Terrestrial_Linkage_Potential_M2B</itemName>
<nativeExtBox>
<westBL Sync="TRUE">-302973.704330</westBL>
<eastBL Sync="TRUE">-171753.704330</eastBL>
<southBL Sync="TRUE">8698.783702</southBL>
<northBL Sync="TRUE">210748.783702</northBL>
<exTypeCode Sync="TRUE">1</exTypeCode>
</nativeExtBox>
</itemProps>
<coordRef>
<type Sync="TRUE">Projected</type>
<geogcsn Sync="TRUE">GCS_North_American_1983</geogcsn>
<csUnits Sync="TRUE">Linear Unit: Meter (1.000000)</csUnits>
<projcsn Sync="TRUE">NAD_1983_California_Teale_Albers</projcsn>
<peXml Sync="TRUE">&lt;ProjectedCoordinateSystem xsi:type='typens:ProjectedCoordinateSystem' xmlns:xsi='http://www.w3.org/2001/XMLSchema-instance' xmlns:xs='http://www.w3.org/2001/XMLSchema' xmlns:typens='http://www.esri.com/schemas/ArcGIS/3.5.0'&gt;&lt;WKT&gt;PROJCS[&amp;quot;NAD_1983_California_Teale_Albers&amp;quot;,GEOGCS[&amp;quot;GCS_North_American_1983&amp;quot;,DATUM[&amp;quot;D_North_American_1983&amp;quot;,SPHEROID[&amp;quot;GRS_1980&amp;quot;,6378137.0,298.257222101]],PRIMEM[&amp;quot;Greenwich&amp;quot;,0.0],UNIT[&amp;quot;Degree&amp;quot;,0.0174532925199433]],PROJECTION[&amp;quot;Albers&amp;quot;],PARAMETER[&amp;quot;False_Easting&amp;quot;,0.0],PARAMETER[&amp;quot;False_Northing&amp;quot;,-4000000.0],PARAMETER[&amp;quot;Central_Meridian&amp;quot;,-120.0],PARAMETER[&amp;quot;Standard_Parallel_1&amp;quot;,34.0],PARAMETER[&amp;quot;Standard_Parallel_2&amp;quot;,40.5],PARAMETER[&amp;quot;Latitude_Of_Origin&amp;quot;,0.0],UNIT[&amp;quot;Meter&amp;quot;,1.0],AUTHORITY[&amp;quot;EPSG&amp;quot;,3310]]&lt;/WKT&gt;&lt;XOrigin&gt;-16909700&lt;/XOrigin&gt;&lt;YOrigin&gt;-8597000&lt;/YOrigin&gt;&lt;XYScale&gt;266332319.7555542&lt;/XYScale&gt;&lt;ZOrigin&gt;-100000&lt;/ZOrigin&gt;&lt;ZScale&gt;10000&lt;/ZScale&gt;&lt;MOrigin&gt;-100000&lt;/MOrigin&gt;&lt;MScale&gt;10000&lt;/MScale&gt;&lt;XYTolerance&gt;0.001&lt;/XYTolerance&gt;&lt;ZTolerance&gt;0.00020000000000000001&lt;/ZTolerance&gt;&lt;MTolerance&gt;0.00020000000000000001&lt;/MTolerance&gt;&lt;HighPrecision&gt;true&lt;/HighPrecision&gt;&lt;WKID&gt;3310&lt;/WKID&gt;&lt;LatestWKID&gt;3310&lt;/LatestWKID&gt;&lt;/ProjectedCoordinateSystem&gt;</peXml>
</coordRef>
</DataProperties>
<scaleRange>
<minScale>150000000</minScale>
<maxScale>5000</maxScale>
</scaleRange>
<ModDate>20260909</ModDate>
<ModTime>11380000</ModTime>
<SyncOnce>FALSE</SyncOnce>
<SyncDate>20260909</SyncDate>
<SyncTime>11380000</SyncTime>
</Esri>
<dataIdInfo>
<idAbs>&lt;DIV STYLE="text-align:Left;"&gt;&lt;DIV&gt;&lt;DIV&gt;&lt;P&gt;&lt;SPAN&gt;M2B Terrestrial Linkage Potential is a science-based identification of critical terrestrial habitat between the Mayacamas Mountains and the Berryessa Range where long-term connectivity is threatened. This data was created as part of a multi-county climate connectivity assessment by the Mayacamas to Berryessa Landscape Connectivity Network (M2B) -- a public-private collaboration scientists and land managers. M2B integrates partner expertise with spatial modeling to create practical tools to help guide priorities for conservation and land management in Northern California's Inner Coast Range. &lt;/SPAN&gt;&lt;/P&gt;&lt;P&gt;&lt;SPAN&gt;The M2B climate connectivity project directly involved stakeholders in the modeling and evaluation process, which included the following: &lt;/SPAN&gt;&lt;/P&gt;&lt;OL&gt;&lt;LI&gt;&lt;P&gt;&lt;SPAN&gt;Identification of potential habitat linkages based on terrestrial and riparian connectivity of natural habitats between existing protected areas (this data), &lt;/SPAN&gt;&lt;/P&gt;&lt;/LI&gt;&lt;LI&gt;&lt;P&gt;&lt;SPAN&gt;Quantification of habitat corridor climate benefits based on state-of-the art, high-resolution climate projections, &lt;/SPAN&gt;&lt;/P&gt;&lt;/LI&gt;&lt;LI&gt;&lt;P&gt;&lt;SPAN&gt;Generation of maps comparing the vulnerability of specific sites to environmental concerns (e.g., fire, drought) with their contribution to regional ecosystem integrity, and &lt;/SPAN&gt;&lt;/P&gt;&lt;/LI&gt;&lt;LI&gt;&lt;P&gt;&lt;SPAN&gt;Creation of reports for 6 priority corridors that identify and evaluate specific parcels for connectivity and climate resilience. &lt;/SPAN&gt;&lt;/P&gt;&lt;/LI&gt;&lt;/OL&gt;&lt;P&gt;&lt;SPAN&gt;The combination of high-resolution landscape permeability and climate datasets provides local decision-makers with flexible science-based tools for exploring, planning, and implementing habitat connectivity pathways. In the M2B region, parcel-scale acquisition and stewardship will be advanced primarily by private land trusts and public open space districts in concert with State and Federal land management agencies. The M2B methods are designed to be scalable and reproducible throughout Californin, and the formation of the M2B network provides a documented model for empowering local agencies and organizations to work effectively, and in a coordinated fashion, to achieve landscape-level conservation objectives.&lt;/SPAN&gt;&lt;/P&gt;&lt;/DIV&gt;&lt;/DIV&gt;&lt;/DIV&gt;</idAbs>
<idCitation>
<resTitle>Terrestrial_Linkage_Potential_M2B</resTitle>
<date>
<pubDate>2019-04-12T00:00:00</pubDate>
<createDate>2018-11-08T00:00:00</createDate>
</date>
<presForm>
<PresFormCd Sync="TRUE" value="011">
</PresFormCd>
</presForm>
<otherCitDet>Citation: Gray M., L. Micheli, A.M. Merenlender. 2018. Methodology for building habitat connectivity for climate adaptation: Mayacamas to Berryessa Connectivity Network (M2B). A technical report by the Dwight Center for Conservation Science at Pepperwood, Santa Rosa CA. 51 pp.</otherCitDet>
<citRespParty>
<rpIndName>Morgan Gray</rpIndName>
<rpOrgName>Pepperwood</rpOrgName>
<rpPosName>Conservation Analyst</rpPosName>
<role>
<RoleCd value="006">
</RoleCd>
</role>
<rpCntInfo>
<cntAddress addressType="postal">
<eMailAdd>mgray@pepperwoodpreserve.org</eMailAdd>
<city>Santa Rosa</city>
<adminArea>CA</adminArea>
<postCode>95404</postCode>
</cntAddress>
<cntPhone>
<voiceNum>(707) 591-9310</voiceNum>
</cntPhone>
<cntOnlineRes>
<linkage>withheld</linkage>
<orFunct>
<OnFunctCd value="001">
</OnFunctCd>
</orFunct>
</cntOnlineRes>
</rpCntInfo>
</citRespParty>
<citRespParty>
<rpIndName>Lisa Micheli</rpIndName>
<rpOrgName>Pepperwood</rpOrgName>
<role>
<RoleCd value="007">
</RoleCd>
</role>
<rpCntInfo>
<cntAddress addressType="postal">
<eMailAdd>lmicheli@pepperwoodpreserve.org</eMailAdd>
<city>Santa Rosa</city>
<adminArea>CA</adminArea>
<postCode>95404</postCode>
</cntAddress>
<cntPhone>
<voiceNum>(707) 591-9310</voiceNum>
</cntPhone>
</rpCntInfo>
</citRespParty>
</idCitation>
<dataExt>
<exDesc>Northern California's Inner Coast Range between the Mayacamas Mountains and the Berryessa Range. The M2B project area (2,884,073 ac) included the inland region of the North Coast from all or part of 10 counties in Northern California: Colusa, Glenn, Lake, Marin, Mendocino, Napa, Solano, Sonoma, Tehama, and Yolo</exDesc>
<geoEle>
<GeoBndBox esriExtentType="search">
<westBL Sync="TRUE">-123.543729</westBL>
<eastBL Sync="TRUE">-121.960669</eastBL>
<northBL Sync="TRUE">39.896211</northBL>
<southBL Sync="TRUE">38.044913</southBL>
<exTypeCode>1</exTypeCode>
</GeoBndBox>
</geoEle>
<tempEle>
<TempExtent>
<exTemp>
<TM_Period>
<tmBegin>2018-01-01T00:00:00</tmBegin>
<tmEnd>2018-11-07T00:00:00</tmEnd>
</TM_Period>
</exTemp>
</TempExtent>
</tempEle>
</dataExt>
<idPoC>
<rpIndName>Lisa Micheli</rpIndName>
<rpOrgName>Pepperwood</rpOrgName>
<role>
<RoleCd value="007">
</RoleCd>
</role>
<rpCntInfo>
<cntAddress addressType="postal">
<eMailAdd>lmicheli@pepperwoodpreserve.org</eMailAdd>
<city>Santa Rosa</city>
<adminArea>CA</adminArea>
<postCode>95404</postCode>
</cntAddress>
<cntPhone>
<voiceNum>(707) 591-9310</voiceNum>
</cntPhone>
</rpCntInfo>
<displayName>Lisa Micheli</displayName>
</idPoC>
<searchKeys>
<keyword>Berryessa Range</keyword>
<keyword>Berryessa Snow Mountain National Monument</keyword>
<keyword>California</keyword>
<keyword>Clear Lake</keyword>
<keyword>climate change</keyword>
<keyword>climate connectivity</keyword>
<keyword>climate resilience</keyword>
<keyword>Colusa</keyword>
<keyword>connectivity</keyword>
<keyword>corridors</keyword>
<keyword>CPAD</keyword>
<keyword>ecological integrity</keyword>
<keyword>Glenn</keyword>
<keyword>human modification</keyword>
<keyword>Lake</keyword>
<keyword>linkage</keyword>
<keyword>linkage potential</keyword>
<keyword>M2B</keyword>
<keyword>Marin</keyword>
<keyword>Mayacamas Mountains</keyword>
<keyword>Mayacamas to Berryessa</keyword>
<keyword>Mendocino</keyword>
<keyword>Napa</keyword>
<keyword>Northern California</keyword>
<keyword>Pepperwood</keyword>
<keyword>permeability</keyword>
<keyword>protected area</keyword>
<keyword>riparian</keyword>
<keyword>Solano</keyword>
<keyword>Sonoma</keyword>
<keyword>Tehama</keyword>
<keyword>terrestrial</keyword>
<keyword>Yolo</keyword>
</searchKeys>
<themeKeys>
<keyword>ecological integrity</keyword>
<keyword>climate change</keyword>
<keyword>climate resilience</keyword>
<keyword>climate connectivity</keyword>
<keyword>connectivity</keyword>
<keyword>corridors</keyword>
<keyword>CPAD</keyword>
<keyword>human modification</keyword>
<keyword>linkage</keyword>
<keyword>linkage potential</keyword>
<keyword>M2B</keyword>
<keyword>Mayacamas to Berryessa</keyword>
<keyword>Pepperwood</keyword>
<keyword>permeability</keyword>
<keyword>protected area</keyword>
<keyword>riparian</keyword>
<keyword>terrestrial</keyword>
</themeKeys>
<idPurp>M2B Terrestrial Linkage Potential is a spatially-explicit measure of landscape connectivity based on the physical arrangements of habitat patches, disturbance, or environmental elements presumed to be important for wildlife movement. Locations with high values have a greater capacity to facilitate the movement of multiple terrestrial species and maintain ecological processes. Potential linkage pathways for terrestrial features within the M2B study area show connectivity between protected area nodes across a human modification resistance surface. This dataset was downloaded from https://apps.wildlife.ca.gov/bios6/ and published by Napa County PBES GIS Staff (Sept 2026).</idPurp>
<idCredit>The Mayacamas to Berryessa (M2B) Connectivity Network is a project funded by the California Landscape Conservation Partnership to Pepperwood Foundation. Key contributors include Morgan Gray, Adina Merenlender, Lisa Micheli, and the M2B steering committee.
Citation: Gray M., L. Micheli, A.M. Merenlender. 2018. Methodology for building habitat connectivity for climate adaptation: Mayacamas to Berryessa Connectivity Network (M2B). A technical report by the Dwight Center for Conservation Science at Pepperwood, Santa Rosa CA. 51 pp.</idCredit>
<resConst>
<Consts>
<useLimit>&lt;p&gt;Napa County GIS - This layer is open data. It is made available under the Public Domain Dedication and License version v1.0 whose full text can be found at:&lt;/p&gt;&lt;p&gt;&lt;/p&gt;&lt;p&gt;https://opendatacommons.org/licenses/pddl/1.0/&lt;/p&gt;&lt;p&gt;&lt;/p&gt;&lt;p&gt;Disclaimer: This GIS data is intended to provide a visual display of data for the user's convenience. Users of this data are hereby notified that the appropriate public primary information sources should be consulted for verification of the information. Although every reasonable effort has been made to assure the accuracy of this data, Napa County makes no warranty, representation or guaranty as to the content, sequence, accuracy, timeliness or completeness of any of the data provided herein and explicitly disclaims any representations and warranties, including, without limitation, the implied warranties of merchantability and fitness for a particular purpose. Napa County assumes no liability for any errors, omissions, or inaccuracies in the information provided regardless of how caused and assumes no liability for any decisions made or actions taken or not taken by the user of the data in reliance upon any information or data furnished hereunder. Because the GIS data provided is not warranted to be up-to-date, the user should check with the County staff for updated information.&lt;/p&gt;</useLimit>
</Consts>
</resConst>
<dataLang>
<languageCode Sync="TRUE" value="eng">
</languageCode>
<countryCode Sync="TRUE" value="USA">
</countryCode>
</dataLang>
<dataChar>
<CharSetCd value="004">
</CharSetCd>
</dataChar>
<spatRpType>
<SpatRepTypCd Sync="TRUE" value="002">
</SpatRepTypCd>
</spatRpType>
<envirDesc Sync="FALSE">Esri ArcGIS 13.5.5.57366</envirDesc>
<idStatus>
<ProgCd value="001">
</ProgCd>
</idStatus>
<resMaint>
<maintFreq>
<MaintFreqCd value="011">
</MaintFreqCd>
</maintFreq>
</resMaint>
<placeKeys>
<keyword>Berryessa Range</keyword>
<keyword>Berryessa Snow Mountain National Monument</keyword>
<keyword>California</keyword>
<keyword>Clear Lake</keyword>
<keyword>Colusa</keyword>
<keyword>Glenn</keyword>
<keyword>Lake</keyword>
<keyword>Marin</keyword>
<keyword>Mayacamas Mountains</keyword>
<keyword>Mayacamas to Berryessa</keyword>
<keyword>Mendocino</keyword>
<keyword>Napa</keyword>
<keyword>Northern California</keyword>
<keyword>Pepperwood</keyword>
<keyword>Solano</keyword>
<keyword>Sonoma</keyword>
<keyword>Tehama</keyword>
<keyword>Yolo</keyword>
</placeKeys>
<tempKeys>
<keyword>2017</keyword>
<keyword>2018</keyword>
</tempKeys>
<tpCat>
<TopicCatCd value="007">
</TopicCatCd>
</tpCat>
</dataIdInfo>
<mdLang>
<languageCode Sync="TRUE" value="eng">
</languageCode>
<countryCode Sync="TRUE" value="USA">
</countryCode>
</mdLang>
<mdHrLv>
<ScopeCd Sync="TRUE" value="005">
</ScopeCd>
</mdHrLv>
<mdHrLvName>dataset</mdHrLvName>
<mdChar>
<CharSetCd value="004">
</CharSetCd>
</mdChar>
<mdDateSt>20190807</mdDateSt>
<mdContact>
<rpIndName>Morgan Gray</rpIndName>
<rpOrgName>Pepperwood</rpOrgName>
<rpPosName>Conservation Analyst</rpPosName>
<role>
<RoleCd value="007">
</RoleCd>
</role>
<rpCntInfo>
<cntAddress addressType="postal">
<eMailAdd>mgray@pepperwoodpreserve.org</eMailAdd>
<city>Santa Rosa</city>
<adminArea>CA</adminArea>
<postCode>95404</postCode>
</cntAddress>
<cntPhone>
<voiceNum>(707) 591-9310</voiceNum>
</cntPhone>
<cntOnlineRes>
<linkage>withheld</linkage>
<orFunct>
<OnFunctCd value="001">
</OnFunctCd>
</orFunct>
</cntOnlineRes>
</rpCntInfo>
<displayName>Morgan Gray</displayName>
</mdContact>
<dqInfo>
<dqScope>
<scpLvl>
<ScopeCd value="005">
</ScopeCd>
</scpLvl>
</dqScope>
<dataLineage>
<statement>M2B Terrestrial Linkage potential was generated using Linkage Mapper to map the most cost-effective route between adjacent protected areas (i.e. nodes), using an index of human influence to approximate the difficulty of movement between locations (i.e., cost surface). Nodes were protected area locations &gt; 50 acres in size, collated from the California Protected Area Database (2016a; calands.org) and amended to include additional properties managed by M2B stakeholders. The cost surface was a species-independent index of human modification based on stressors such as land use; land cover; and presence, use, and distance from roads (Theobald 2013; Dickson et al. 2016; data provided by The Nature Conservancy). Linkage Mapper specifications were set to include three potential connections and exclude linkages that intersect nodes. Linkages were clipped to a cost-weighted distance of 25 km, and scaled from 0 (low) to 1 (high).
Detailed descriptions of and steps used to create this data product may be found in "Methodology for Building Habitat Connectivity for Climate Adaptation: Mayacamas to Berryessa Connectivity Network (M2B)" (Gray et al. 2018).</statement>
</dataLineage>
</dqInfo>
<distInfo>
<distTranOps>
<onLineSrc>
<linkage>https://www.wildlife.ca.gov/Data/BIOS</linkage>
<orFunct>
<OnFunctCd value="002">
</OnFunctCd>
</orFunct>
</onLineSrc>
<onLineSrc>
<linkage>ftp://ftp.wildlife.ca.gov/BDB/GIS/BIOS/Public_Datasets/2800_2899/ds2819.zip</linkage>
<orFunct>
<OnFunctCd value="001">
</OnFunctCd>
</orFunct>
</onLineSrc>
</distTranOps>
<distFormat>
<formatName>File Geodatabase Raster Dataset</formatName>
</distFormat>
</distInfo>
<refSysInfo>
<RefSystem>
<refSysID>
<identCode Sync="TRUE" code="3310">
</identCode>
<idCodeSpace>EPSG</idCodeSpace>
<idVersion>6.8(9.2.0)</idVersion>
</refSysID>
</RefSystem>
</refSysInfo>
<mdMaint>
<maintFreq>
<MaintFreqCd value="011">
</MaintFreqCd>
</maintFreq>
</mdMaint>
<eainfo>
<detailed>
<enttyp>
<enttypl>Terrestrial linkage potential</enttypl>
<enttypd>The linkage potential for terrestrial features between the protected areas (less than 50 acres in size) within the Mayacamas to Berryessa (M2B) project area.</enttypd>
<enttypds>Gray M., L. Micheli, A.M. Merenlender. 2018. Methodology for building habitat connectivity for climate adaptation: Mayacamas to Berryessa Connectivity Network (M2B). A technical report by the Dwight Center for Conservation Science at Pepperwood, Santa Rosa CA. 51 pp.</enttypds>
</enttyp>
</detailed>
</eainfo>
<mdConst>
<Consts>
<useLimit>&lt;DIV STYLE="text-align:Left;"&gt;&lt;DIV&gt;&lt;P&gt;&lt;SPAN&gt;None&lt;/SPAN&gt;&lt;/P&gt;&lt;/DIV&gt;&lt;/DIV&gt;</useLimit>
</Consts>
</mdConst>
<spdoinfo>
<rastinfo>
<rasttype Sync="TRUE">Pixel</rasttype>
<rowcount Sync="TRUE">2245</rowcount>
<colcount Sync="TRUE">1458</colcount>
<rastxsz Sync="TRUE">90.000000</rastxsz>
<rastysz Sync="TRUE">90.000000</rastysz>
<rastbpp Sync="TRUE">32</rastbpp>
<vrtcount Sync="TRUE">1</vrtcount>
<rastorig Sync="TRUE">Upper Left</rastorig>
<rastcmap Sync="TRUE">FALSE</rastcmap>
<rastcomp Sync="TRUE">LZ77</rastcomp>
<rastband Sync="TRUE">1</rastband>
<rastdtyp Sync="TRUE">pixel codes</rastdtyp>
<rastifor Sync="TRUE">SDR</rastifor>
<rastplyr Sync="TRUE">TRUE</rastplyr>
</rastinfo>
</spdoinfo>
<spref>
<horizsys>
<planar>
<planci>
<plance Sync="TRUE">row and column</plance>
<coordrep>
<absres Sync="TRUE">90.000000</absres>
<ordres Sync="TRUE">90.000000</ordres>
</coordrep>
</planci>
</planar>
</horizsys>
</spref>
</metadata>
