<?xml version="1.0"?>
<metadata>
<Esri>
<ArcGISFormat>1.0</ArcGISFormat>
<ArcGISProfile>ISO19139</ArcGISProfile>
<DataProperties>
<itemProps>
<imsContentType Sync="TRUE">002</imsContentType>
<itemName>M2B_UTM10_Nat_Norm</itemName>
<nativeExtBox>
<westBL>459722.746100</westBL>
<eastBL>584732.746100</eastBL>
<southBL>4214915.231300</southBL>
<northBL>4412735.231300</northBL>
<exTypeCode>1</exTypeCode>
</nativeExtBox>
</itemProps>
<coordRef>
<type>Projected</type>
<geogcsn>GCS_North_American_1983</geogcsn>
<csUnits>Linear Unit: Meter (1.000000)</csUnits>
<projcsn>NAD_1983_UTM_Zone_10N</projcsn>
<peXml>&lt;ProjectedCoordinateSystem xsi:type='typens:ProjectedCoordinateSystem' xmlns:xsi='http://www.w3.org/2001/XMLSchema-instance' xmlns:xs='http://www.w3.org/2001/XMLSchema' xmlns:typens='http://www.esri.com/schemas/ArcGIS/3.5.0'&gt;&lt;WKT&gt;PROJCS[&amp;quot;NAD_1983_UTM_Zone_10N&amp;quot;,GEOGCS[&amp;quot;GCS_North_American_1983&amp;quot;,DATUM[&amp;quot;D_North_American_1983&amp;quot;,SPHEROID[&amp;quot;GRS_1980&amp;quot;,6378137.0,298.257222101]],PRIMEM[&amp;quot;Greenwich&amp;quot;,0.0],UNIT[&amp;quot;Degree&amp;quot;,0.0174532925199433]],PROJECTION[&amp;quot;Transverse_Mercator&amp;quot;],PARAMETER[&amp;quot;False_Easting&amp;quot;,500000.0],PARAMETER[&amp;quot;False_Northing&amp;quot;,0.0],PARAMETER[&amp;quot;Central_Meridian&amp;quot;,-123.0],PARAMETER[&amp;quot;Scale_Factor&amp;quot;,0.9996],PARAMETER[&amp;quot;Latitude_Of_Origin&amp;quot;,0.0],UNIT[&amp;quot;Meter&amp;quot;,1.0],AUTHORITY[&amp;quot;EPSG&amp;quot;,26910]]&lt;/WKT&gt;&lt;XOrigin&gt;-5120900&lt;/XOrigin&gt;&lt;YOrigin&gt;-9998100&lt;/YOrigin&gt;&lt;XYScale&gt;450445547.3910538&lt;/XYScale&gt;&lt;ZOrigin&gt;-100000&lt;/ZOrigin&gt;&lt;ZScale&gt;10000&lt;/ZScale&gt;&lt;MOrigin&gt;-100000&lt;/MOrigin&gt;&lt;MScale&gt;10000&lt;/MScale&gt;&lt;XYTolerance&gt;0.001&lt;/XYTolerance&gt;&lt;ZTolerance&gt;0.001&lt;/ZTolerance&gt;&lt;MTolerance&gt;0.001&lt;/MTolerance&gt;&lt;HighPrecision&gt;true&lt;/HighPrecision&gt;&lt;WKID&gt;26910&lt;/WKID&gt;&lt;LatestWKID&gt;26910&lt;/LatestWKID&gt;&lt;/ProjectedCoordinateSystem&gt;</peXml>
</coordRef>
</DataProperties>
<ModDate>20260908</ModDate>
<ModTime>10294200</ModTime>
<SyncDate>20260908</SyncDate>
<SyncTime>10294200</SyncTime>
</Esri>
<dataIdInfo>
<idAbs>Degree of human modification and resistance surfaces for California, 2017. To model the resistance to ecological flow across California as the main input to a connectivity model (e.g., Circuitscape), we generated a resistance surface (R) modeled from the degree of human modification (H) layer. The resistance surface was calculated as: R = (H + 1.0)^10 to mute the differences between natural lands and accentuate the differences between converted lands. We did this following a sensitivity analysis of different rescaling options. To calculate the degree of human modification, we followed methods described in Theobald (2013), with adjustments to include the number of lands in highways (footprint = 30 m for each lane), as well as roads on private forested lands, and additional power line and oil/gas pipelines. We also adjusted lakes, rivers, and estuaries to the highest resistance (using rivers from USGS NHD High resolution polygon rivers). A list of stressors (or threats to natural lands) was organized based on The Human Activities Framework (Salafsky et al. 2008). At the top level, stressors are organized into five Level I classes: residential and commercial development, agriculture, energy production and mining, transportation and service corridors, and biological harvesting. These are further broken into 1-3 specific activities, resulting in 11 Level II classes. For each stressor, specific datasets were used on which to calculate a specific indicator(s). In total, nearly two-dozen datasets were used to depict 14 types of human activities. Thus, the overall degree of human modification (H) at a location is calculated as: H = I x F, where a value of 0.0 has no human modification and a value of 1.0 has high modification. This dataset was resampled using the mean value from the original 30 m resolution to 810 m. We recommend that any analysis should consider a minimum mapping unit of roughly 810 m (cell size, roughly 160 acres). This dataset was produced under a contract between The Nature Conservancy of California and Conservation Science Partners Inc. Analysis and spatial data produced by Conservation Science Partners Inc. 2017. Truckee, CA, USA. This work is licensed under a Creative Commons Attribution 3.0 License.</idAbs>
<idCitation>
<resTitle>Permeability Surface Naturalness</resTitle>
<presForm>
<PresFormCd value="011" Sync="TRUE">
</PresFormCd>
</presForm>
</idCitation>
<dataExt>
<geoEle>
<GeoBndBox esriExtentType="search">
<westBL Sync="TRUE">-123.470917</westBL>
<eastBL Sync="TRUE">-122.009368</eastBL>
<northBL Sync="TRUE">39.864653</northBL>
<southBL Sync="TRUE">38.078048</southBL>
<exTypeCode>1</exTypeCode>
</GeoBndBox>
</geoEle>
</dataExt>
<searchKeys>
<keyword>m2b</keyword>
<keyword>blm</keyword>
<keyword>ca lcc</keyword>
<keyword>ca lcp</keyword>
<keyword>climate adaptation</keyword>
<keyword>climate connectivity</keyword>
<keyword>connectivity</keyword>
<keyword>corridors</keyword>
<keyword>cpad</keyword>
<keyword>cpad+</keyword>
<keyword>lake county</keyword>
<keyword>linkages</keyword>
<keyword>napa county</keyword>
<keyword>pepperwood</keyword>
<keyword>permeability</keyword>
<keyword>protected areas</keyword>
<keyword>riparian linkages</keyword>
<keyword>sonoma county</keyword>
<keyword>terrestrial linkages</keyword>
</searchKeys>
<idPurp>Degree of human modification and resistance surfaces within the M2B study area, 2017.
This dataset was downloaded from https://databasin.org/datasets/2f439902256248bcafa6d285450c98c1/ and published by Napa County PBES GIS Staff.</idPurp>
<idCredit>This dataset was produced under a contract between The Nature Conservancy of California and Conservation Science Partners Inc. Analysis and spatial data produced by Conservation Science Partners Inc. 2017, Truckee, CA, USA. The Mayacamas to Berryessa (M2B) Connectivity Network is a project funded by the California Landscape Conservation Partnership to Pepperwood Foundation. Key contributors include Morgan Gray, Adina Merenlender, Lisa Micheli, and the M2B steering committee. Citation: Gray M., L. Micheli, A.M. Merenlender. 2018. Methodology for building habitat connectivity for climate adaptation: Mayacamas to Berryessa Connectivity Network (M2B). A technical report by the Dwight Center for Conservation Science at Pepperwood, Santa Rosa CA. 51 pp. References: Bonham-Carter G. 1994. Geographic Information Systems for geoscientists. Elsevier, 398 pgs. Brown MT, Vivas MB. 2005. Landscape development intensity index. Environmental monitoring and assessment 101:289-309. Salafsky N, et al. 2008. A standard lexicon for biodiversity conservation: unified classifications of threats and actions. Conservation Biology 22(4):897-911. Theobald DM. 2013. A general model to quantify ecological integrity for landscape assessments and US application. Landscape Ecology 28(10):1859-1874. Use constraints: This work is licensed under a Creative Commons Attribution 3.0 License. No warranty is made by Data Basin for use of this dataset.</idCredit>
<resConst>
<Consts>
<useLimit>&lt;p&gt;From Napa County GIS Staff -&lt;/p&gt;&lt;p&gt;This layer is open data. It is made available under the Public Domain Dedication and License version v1.0 whose full text can be found at:&lt;/p&gt;&lt;p&gt;&lt;/p&gt;&lt;p&gt;https://opendatacommons.org/licenses/pddl/1.0/&lt;/p&gt;&lt;p&gt;&lt;/p&gt;&lt;p&gt;Disclaimer: This GIS data is intended to provide a visual display of data for the user's convenience. Users of this data are hereby notified that the appropriate public primary information sources should be consulted for verification of the information. Although every reasonable effort has been made to assure the accuracy of this data, Napa County makes no warranty, representation or guaranty as to the content, sequence, accuracy, timeliness or completeness of any of the data provided herein and explicitly disclaims any representations and warranties, including, without limitation, the implied warranties of merchantability and fitness for a particular purpose. Napa County assumes no liability for any errors, omissions, or inaccuracies in the information provided regardless of how caused and assumes no liability for any decisions made or actions taken or not taken by the user of the data in reliance upon any information or data furnished hereunder. Because the GIS data provided is not warranted to be up-to-date, the user should check with the County staff for updated information.&lt;/p&gt;</useLimit>
</Consts>
</resConst>
<dataLang>
<languageCode value="eng" Sync="TRUE">
</languageCode>
<countryCode value="USA" Sync="TRUE">
</countryCode>
</dataLang>
<dataChar>
<CharSetCd value="004">
</CharSetCd>
</dataChar>
<spatRpType>
<SpatRepTypCd value="002" Sync="TRUE">
</SpatRepTypCd>
</spatRpType>
<envirDesc Sync="FALSE">Esri ArcGIS 13.5.5.57366</envirDesc>
<tpCat>
<TopicCatCd value="007">
</TopicCatCd>
</tpCat>
<tpCat>
<TopicCatCd value="010">
</TopicCatCd>
</tpCat>
</dataIdInfo>
<mdLang>
<languageCode value="eng" Sync="TRUE">
</languageCode>
<countryCode Sync="TRUE" value="USA">
</countryCode>
</mdLang>
<mdHrLv>
<ScopeCd value="005" Sync="TRUE">
</ScopeCd>
</mdHrLv>
<mdHrLvName>dataset</mdHrLvName>
<mdChar>
<CharSetCd value="004">
</CharSetCd>
</mdChar>
<mdDateSt>20260908</mdDateSt>
<mdContact>
<role>
<RoleCd value="007">
</RoleCd>
</role>
<rpCntInfo>
<cntAddress>
<eMailAdd>lmicheli@pepperwoodpreserve.org</eMailAdd>
</cntAddress>
<cntPhone>
<voiceNum>(707) 591-9310</voiceNum>
</cntPhone>
</rpCntInfo>
<rpIndName>Lisa Micheli</rpIndName>
<rpOrgName>Pepperwood Preserve</rpOrgName>
</mdContact>
<distInfo>
<distFormat>
<formatName>Enterprise Geodatabase Raster Dataset</formatName>
</distFormat>
</distInfo>
<refSysInfo>
<RefSystem>
<refSysID>
<identCode code="26910" Sync="TRUE">
</identCode>
<idCodeSpace>EPSG</idCodeSpace>
<idVersion>6.13(3.0.1)</idVersion>
</refSysID>
</RefSystem>
</refSysInfo>
<spdoinfo>
<rastinfo>
<rasttype Sync="TRUE">Pixel</rasttype>
<rowcount Sync="TRUE">2198</rowcount>
<colcount Sync="TRUE">1389</colcount>
<rastxsz Sync="TRUE">90.000000</rastxsz>
<rastysz Sync="TRUE">90.000000</rastysz>
<rastbpp Sync="TRUE">32</rastbpp>
<vrtcount Sync="TRUE">1</vrtcount>
<rastorig Sync="TRUE">Upper Left</rastorig>
<rastcmap Sync="TRUE">FALSE</rastcmap>
<rastcomp Sync="TRUE">LZ77</rastcomp>
<rastband Sync="TRUE">1</rastband>
<rastdtyp Sync="TRUE">pixel codes</rastdtyp>
<rastifor Sync="TRUE">SDR</rastifor>
<rastplyr Sync="TRUE">TRUE</rastplyr>
</rastinfo>
</spdoinfo>
<spref>
<horizsys>
<planar>
<planci>
<plance Sync="TRUE">row and column</plance>
<coordrep>
<absres Sync="TRUE">90.000000</absres>
<ordres Sync="TRUE">90.000000</ordres>
</coordrep>
</planci>
</planar>
</horizsys>
</spref>
</metadata>
