{
 "currentVersion": 10.81,
 "serviceDescription": "LandCover/NLCD_2020",
 "name": "LandCover/NLCD_2020",
 "description": "",
 "extent": {
  "xmin": 6376853.038392904,
  "ymin": 1817992.7732894586,
  "xmax": 6544077.453192905,
  "ymax": 2076851.0492894587,
  "spatialReference": {
   "wkid": 102642,
   "latestWkid": 2226
  }
 },
 "initialExtent": {
  "xmin": 6376853.038392904,
  "ymin": 1817992.7732894586,
  "xmax": 6544077.453192905,
  "ymax": 2076851.0492894587,
  "spatialReference": {
   "wkid": 102642,
   "latestWkid": 2226
  }
 },
 "fullExtent": {
  "xmin": 6376853.038392904,
  "ymin": 1817992.7732894586,
  "xmax": 6544077.453192905,
  "ymax": 2076851.0492894587,
  "spatialReference": {
   "wkid": 102642,
   "latestWkid": 2226
  }
 },
 "pixelSizeX": 98.42520000000022,
 "pixelSizeY": 98.42520000000003,
 "datasetFormat": "SDR",
 "uncompressedSize": 4468370,
 "blockWidth": 128,
 "blockHeight": 128,
 "compressionType": "LZ77",
 "bandNames": [
  "Band_1"
 ],
 "allowCopy": true,
 "allowAnalysis": true,
 "bandCount": 1,
 "pixelType": "U8",
 "minPixelSize": 0,
 "maxPixelSize": 0,
 "copyrightText": "",
 "serviceDataType": "esriImageServiceDataTypeThematic",
 "serviceSourceType": "esriImageServiceSourceTypeDataset",
 "minValues": [
  11
 ],
 "maxValues": [
  95
 ],
 "meanValues": [
  53.95910495078316
 ],
 "stdvValues": [
  18.955595444978677
 ],
 "objectIdField": "",
 "fields": [],
 "capabilities": "Image,Metadata,Pixels,Mensuration",
 "defaultMosaicMethod": "Center",
 "allowedMosaicMethods": "",
 "sortField": "",
 "sortValue": null,
 "sortAscending": true,
 "mosaicOperator": "First",
 "defaultCompressionQuality": 75,
 "defaultResamplingMethod": "Bilinear",
 "maxImageHeight": 4100,
 "maxImageWidth": 15000,
 "allowRasterFunction": true,
 "rasterFunctionInfos": [
  {
   "name": "None",
   "description": "",
   "help": ""
  }
 ],
 "rasterTypeInfos": [
  {
   "name": "Raster Dataset",
   "description": "Supports all ArcGIS Raster Datasets",
   "help": ""
  }
 ],
 "mensurationCapabilities": "Basic",
 "hasHistograms": true,
 "hasColormap": true,
 "hasRasterAttributeTable": true,
 "minScale": 0,
 "maxScale": 0,
 "exportTilesAllowed": false,
 "hasMultidimensions": false,
 "supportsStatistics": false,
 "supportsAdvancedQueries": false,
 "editFieldsInfo": null,
 "ownershipBasedAccessControlForRasters": null,
 "allowComputeTiePoints": false,
 "useStandardizedQueries": true,
 "advancedQueryCapabilities": {
  "useStandardizedQueries": true,
  "supportsStatistics": false,
  "supportsOrderBy": false,
  "supportsDistinct": false,
  "supportsPagination": false
 },
 "spatialReference": {
  "wkid": 102642,
  "latestWkid": 2226
 }
}
